Back to the "Multiple platform build/check report"
| Package 113/172 | OS | Arch | BUILD | CHECK | BUILD BIN |
OLIN1.8.0Matthias Futschik | Linux (SUSE 9.2) | x86_64 | OK | OK | |
| Linux (SUSE 9.2) | i686 | OK | OK | ||
| Solaris 2.9 | sparc | OK | OK | ||
| Linux (SUSE 10.0) | x86_64 | OK | OK | ||
| Windows Server 2003 | x86_64 | OK | [ OK ] | OK |
| Package: OLIN |
| Version: 1.8.0 |
| Command: D:\biocbld\1.8d\R\bin\R.exe CMD check OLIN_1.8.0.tar.gz |
| RetCode: 0 |
| Time: 146.7 seconds |
| Status: OK |
| CheckDir: OLIN.Rcheck |
| Warnings: 0 |
* checking for working latex ... OK * using log directory 'D:/biocbld/1.8d/Rpacks/OLIN.Rcheck' * using Version 2.3.1 (2006-06-01) * checking for file 'OLIN/DESCRIPTION' ... OK * this is package 'OLIN' version '1.8.0' * checking package dependencies ... OK * checking if this is a source package ... OK * checking whether package 'OLIN' can be installed ... OK * checking package directory ... OK * checking for portable file names ... OK * checking DESCRIPTION meta-information ... OK * checking top-level files ... OK * checking index information ... OK * checking package subdirectories ... OK * checking R files for syntax errors ... OK * checking R files for library.dynam ... OK * checking S3 generic/method consistency ... OK * checking replacement functions ... OK * checking foreign function calls ... OK * checking Rd files ... OK * checking for missing documentation entries ... OK * checking for code/documentation mismatches ... OK * checking Rd \usage sections ... OK * creating OLIN-Ex.R ... OK * checking examples ... OK * creating OLIN-manual.tex ... OK * checking OLIN-manual.tex ... OK
OLIN.Rcheck/00install.out:
installing R.css in D:/biocbld/1.8d/Rpacks/OLIN.Rcheck
---------- Making package OLIN ------------
adding build stamp to DESCRIPTION
installing R files
installing inst files
installing data files
installing man source files
installing indices
not zipping data
installing help
>>> Building/Updating help pages for package 'OLIN'
Formats: text html latex example chm
anovaint text html latex example chm
anovapin text html latex example chm
anovaplate text html latex example chm
anovaspatial text html latex example chm
backgroundCorrect2 text html latex example chm
bas text html latex example chm
colorbar.mxy text html latex example chm
colorbar.mxy.abs text html latex chm
colorbar.sig text html latex chm
fdr.int text html latex example chm
fdr.int2 text html latex example chm
fdr.spatial text html latex example chm
fdr.spatial2 text html latex example chm
fgbg.visu text html latex example chm
ino text html latex example chm
lin text html latex example chm
m2v text html latex example chm
ma.matrix text html latex example chm
ma.vector text html latex example chm
mxy.abs.plot text html latex example chm
mxy.plot text html latex example chm
mxy2.plot text html latex example chm
oin text html latex example chm
olin text html latex example chm
p.int text html latex example chm
p.int2 text html latex example chm
p.spatial text html latex example chm
p.spatial2 text html latex example chm
sig.mask text html latex example chm
sigint.plot text html latex example chm
sigint.plot2 text html latex example chm
sigxy.plot text html latex example chm
sigxy.plot2 text html latex example chm
sw text html latex chm
sw.olin text html latex chm
sw.xy text html latex chm
v2m text html latex example chm
Microsoft HTML Help Compiler 4.74.8702
Compiling d:\biocbld\1.8d\Rpacks\OLIN.Rcheck\00_pkg_src\OLIN\chm\OLIN.chm
Compile time: 0 minutes, 0 seconds
38 Topics
176 Local links
34 Internet links
1 Graphic
Created d:\biocbld\1.8d\Rpacks\OLIN.Rcheck\00_pkg_src\OLIN\chm\OLIN.chm, 70,557 bytes
Compression decreased file by 93,203 bytes.
preparing package OLIN for lazy loading
Welcome to Bioconductor
Vignettes contain introductory material. To view, type
'openVignette()' or start with 'help(Biobase)'. For details
on reading vignettes, see the openVignette help page.
adding MD5 sums
* DONE (OLIN)