Back to the "Multiple platform build/check report"
| Package 113/172 | OS | Arch | BUILD | CHECK | BUILD BIN |
OLIN1.8.0Matthias Futschik | Linux (SUSE 9.2) | x86_64 | OK | [ OK ] | |
| Linux (SUSE 9.2) | i686 | OK | OK | ||
| Solaris 2.9 | sparc | OK | OK | ||
| Linux (SUSE 10.0) | x86_64 | OK | OK | ||
| Windows Server 2003 | x86_64 | OK | OK | OK |
| Package: OLIN |
| Version: 1.8.0 |
| Command: /loc/biocbuild/1.8d/R/bin/R CMD check OLIN_1.8.0.tar.gz |
| RetCode: 0 |
| Time: 202.3 seconds |
| Status: OK |
| CheckDir: OLIN.Rcheck |
| Warnings: 0 |
* checking for working latex ... OK * using log directory '/loc/biocbuild/1.8d/Rpacks/OLIN.Rcheck' * using Version 2.3.1 (2006-06-01) * checking for file 'OLIN/DESCRIPTION' ... OK * this is package 'OLIN' version '1.8.0' * checking package dependencies ... OK * checking if this is a source package ... OK * checking whether package 'OLIN' can be installed ... OK * checking package directory ... OK * checking for portable file names ... OK * checking for sufficient/correct file permissions ... OK * checking DESCRIPTION meta-information ... OK * checking top-level files ... OK * checking index information ... OK * checking package subdirectories ... OK * checking R files for syntax errors ... OK * checking R files for library.dynam ... OK * checking S3 generic/method consistency ... OK * checking replacement functions ... OK * checking foreign function calls ... OK * checking Rd files ... OK * checking for missing documentation entries ... OK * checking for code/documentation mismatches ... OK * checking Rd \usage sections ... OK * creating OLIN-Ex.R ... OK * checking examples ... OK * creating OLIN-manual.tex ... OK * checking OLIN-manual.tex ... OK
OLIN.Rcheck/00install.out:
* Installing *source* package 'OLIN' ...
** R
** data
** inst
** preparing package for lazy loading
Loading required package: locfit
Loading required package: akima
Loading required package: lattice
locfit 1.5-3 2006-04-06
Loading required package: Biobase
Loading required package: tools
Welcome to Bioconductor
Vignettes contain introductory material. To view, type
'openVignette()' or start with 'help(Biobase)'. For details
on reading vignettes, see the openVignette help page.
Loading required package: marray
Loading required package: limma
** help
>>> Building/Updating help pages for package 'OLIN'
Formats: text html latex example
anovaint text html latex example
anovapin text html latex example
anovaplate text html latex example
anovaspatial text html latex example
backgroundCorrect2 text html latex example
bas text html latex example
colorbar.mxy text html latex example
colorbar.mxy.abs text html latex
colorbar.sig text html latex
fdr.int text html latex example
fdr.int2 text html latex example
fdr.spatial text html latex example
fdr.spatial2 text html latex example
fgbg.visu text html latex example
ino text html latex example
lin text html latex example
m2v text html latex example
ma.matrix text html latex example
ma.vector text html latex example
mxy.abs.plot text html latex example
mxy.plot text html latex example
mxy2.plot text html latex example
oin text html latex example
olin text html latex example
p.int text html latex example
p.int2 text html latex example
p.spatial text html latex example
p.spatial2 text html latex example
sig.mask text html latex example
sigint.plot text html latex example
sigint.plot2 text html latex example
sigxy.plot text html latex example
sigxy.plot2 text html latex example
sw text html latex
sw.olin text html latex
sw.xy text html latex
v2m text html latex example
** building package indices ...
* DONE (OLIN)