Back to the "Multiple platform build/check report"
| Package 112/172 | OS | Arch | BUILD | CHECK | BUILD BIN |
OCplus1.6.0Alexander Ploner | Linux (SUSE 9.2) | x86_64 | OK | OK | |
| Linux (SUSE 9.2) | i686 | OK | OK | ||
| Solaris 2.9 | sparc | OK | OK | ||
| Linux (SUSE 10.0) | x86_64 | OK | OK | ||
| Windows Server 2003 | x86_64 | OK | [ OK ] | OK |
| Package: OCplus |
| Version: 1.6.0 |
| Command: D:\biocbld\1.8d\R\bin\R.exe CMD check OCplus_1.6.0.tar.gz |
| RetCode: 0 |
| Time: 219.5 seconds |
| Status: OK |
| CheckDir: OCplus.Rcheck |
| Warnings: 0 |
* checking for working latex ... OK * using log directory 'D:/biocbld/1.8d/Rpacks/OCplus.Rcheck' * using Version 2.3.1 (2006-06-01) * checking for file 'OCplus/DESCRIPTION' ... OK * this is package 'OCplus' version '1.6.0' * checking package dependencies ... OK * checking if this is a source package ... OK * checking whether package 'OCplus' can be installed ... OK * checking package directory ... OK * checking for portable file names ... OK * checking DESCRIPTION meta-information ... OK * checking top-level files ... OK * checking index information ... OK * checking package subdirectories ... OK * checking R files for syntax errors ... OK * checking R files for library.dynam ... OK * checking S3 generic/method consistency ... OK * checking replacement functions ... OK * checking foreign function calls ... OK * checking Rd files ... OK * checking for missing documentation entries ... OK * checking for code/documentation mismatches ... OK * checking Rd \usage sections ... OK * creating OCplus-Ex.R ... OK * checking examples ... OK * checking package vignettes in 'inst/doc' ... OK * creating OCplus-manual.tex ... OK * checking OCplus-manual.tex ... OK
OCplus.Rcheck/00install.out:
installing R.css in D:/biocbld/1.8d/Rpacks/OCplus.Rcheck
---------- Making package OCplus ------------
adding build stamp to DESCRIPTION
installing R files
installing inst files
installing man source files
installing indices
installing help
>>> Building/Updating help pages for package 'OCplus'
Formats: text html latex example chm
DrawContourlines text html latex chm
EOC text html latex example chm
FDR text html latex example chm
MAsim.smyth text html latex example chm
OCshow text html latex example chm
TOC text html latex example chm
Undocumented text html latex chm
average.fdr text html latex example chm
fdr1d text html latex example chm
fdr2d text html latex example chm
plot.FDR.result text html latex example chm
plot.fdr1d.result text html latex example chm
plot.fdr2d.result text html latex example chm
samplesize text html latex example chm
smooth1d text html latex example chm
summary.fdr.result text html latex example chm
tMixture text html latex example chm
tstatistics text html latex example chm
Microsoft HTML Help Compiler 4.74.8702
Compiling d:\biocbld\1.8d\Rpacks\OCplus.Rcheck\00_pkg_src\OCplus\chm\OCplus.chm
Compile time: 0 minutes, 0 seconds
19 Topics
85 Local links
0 Internet links
1 Graphic
Created d:\biocbld\1.8d\Rpacks\OCplus.Rcheck\00_pkg_src\OCplus\chm\OCplus.chm, 64,813 bytes
Compression decreased file by 46,444 bytes.
preparing package OCplus for lazy loading
Welcome to Bioconductor
Vignettes contain introductory material. To view, type
'openVignette()' or start with 'help(Biobase)'. For details
on reading vignettes, see the openVignette help page.
adding MD5 sums
* DONE (OCplus)