Back to the "Multiple platform build/check report"
| Package 112/172 | OS | Arch | BUILD | CHECK | BUILD BIN |
OCplus1.6.0Alexander Ploner | Linux (SUSE 9.2) | x86_64 | OK | [ OK ] | |
| Linux (SUSE 9.2) | i686 | OK | OK | ||
| Solaris 2.9 | sparc | OK | OK | ||
| Linux (SUSE 10.0) | x86_64 | OK | OK | ||
| Windows Server 2003 | x86_64 | OK | OK | OK |
| Package: OCplus |
| Version: 1.6.0 |
| Command: /loc/biocbuild/1.8d/R/bin/R CMD check OCplus_1.6.0.tar.gz |
| RetCode: 0 |
| Time: 298.1 seconds |
| Status: OK |
| CheckDir: OCplus.Rcheck |
| Warnings: 0 |
* checking for working latex ... OK * using log directory '/loc/biocbuild/1.8d/Rpacks/OCplus.Rcheck' * using Version 2.3.1 (2006-06-01) * checking for file 'OCplus/DESCRIPTION' ... OK * this is package 'OCplus' version '1.6.0' * checking package dependencies ... OK * checking if this is a source package ... OK * checking whether package 'OCplus' can be installed ... OK * checking package directory ... OK * checking for portable file names ... OK * checking for sufficient/correct file permissions ... OK * checking DESCRIPTION meta-information ... OK * checking top-level files ... OK * checking index information ... OK * checking package subdirectories ... OK * checking R files for syntax errors ... OK * checking R files for library.dynam ... OK * checking S3 generic/method consistency ... OK * checking replacement functions ... OK * checking foreign function calls ... OK * checking Rd files ... OK * checking for missing documentation entries ... OK * checking for code/documentation mismatches ... OK * checking Rd \usage sections ... OK * creating OCplus-Ex.R ... OK * checking examples ... OK * checking package vignettes in 'inst/doc' ... OK * creating OCplus-manual.tex ... OK * checking OCplus-manual.tex ... OK
OCplus.Rcheck/00install.out:
* Installing *source* package 'OCplus' ...
** R
** inst
** preparing package for lazy loading
Loading required package: akima
Loading required package: multtest
Loading required package: Biobase
Loading required package: tools
Welcome to Bioconductor
Vignettes contain introductory material. To view, type
'openVignette()' or start with 'help(Biobase)'. For details
on reading vignettes, see the openVignette help page.
Loading required package: survival
Loading required package: splines
** help
>>> Building/Updating help pages for package 'OCplus'
Formats: text html latex example
DrawContourlines text html latex
EOC text html latex example
FDR text html latex example
MAsim.smyth text html latex example
OCshow text html latex example
TOC text html latex example
Undocumented text html latex
average.fdr text html latex example
fdr1d text html latex example
fdr2d text html latex example
plot.FDR.result text html latex example
plot.fdr1d.result text html latex example
plot.fdr2d.result text html latex example
samplesize text html latex example
smooth1d text html latex example
summary.fdr.result text html latex example
tMixture text html latex example
tstatistics text html latex example
** building package indices ...
* DONE (OCplus)