Back to the "Multiple platform build/check report"
| Package 83/172 | OS | Arch | BUILD | CHECK | BUILD BIN |
KEGGSOAP1.6.0J. Zhang | Linux (SUSE 9.2) | x86_64 | OK | OK | |
| Linux (SUSE 9.2) | i686 | OK | OK | ||
| Solaris 2.9 | sparc | OK | OK | ||
| Linux (SUSE 10.0) | x86_64 | OK | OK | ||
| Windows Server 2003 | x86_64 | [ OK ] | OK | OK |
| Package: KEGGSOAP |
| Version: 1.6.0 |
| Command: D:\biocbld\1.8d\R\bin\R.exe CMD build KEGGSOAP |
| RetCode: 0 |
| Time: 9.8 seconds |
| Status: OK |
| PackageFile: KEGGSOAP_1.6.0.tar.gz |
* checking for file 'KEGGSOAP/DESCRIPTION' ... OK * preparing 'KEGGSOAP': * checking DESCRIPTION meta-information ... OK * removing junk files * checking for LF line-endings in source files * checking for empty or unneeded directories * building 'KEGGSOAP_1.6.0.tar.gz'