Back to the "Multiple platform build/check report"
| Package 73/172 | OS | Arch | BUILD | CHECK | BUILD BIN |
GraphAT1.4.0Thomas LaFramboise | Linux (SUSE 9.2) | x86_64 | OK | OK | |
| Linux (SUSE 9.2) | i686 | OK | OK | ||
| Solaris 2.9 | sparc | OK | OK | ||
| Linux (SUSE 10.0) | x86_64 | OK | OK | ||
| Windows Server 2003 | x86_64 | OK | [ OK ] | OK |
| Package: GraphAT |
| Version: 1.4.0 |
| Command: D:\biocbld\1.8d\R\bin\R.exe CMD check GraphAT_1.4.0.tar.gz |
| RetCode: 0 |
| Time: 118.4 seconds |
| Status: OK |
| CheckDir: GraphAT.Rcheck |
| Warnings: 0 |
* checking for working latex ... OK * using log directory 'D:/biocbld/1.8d/Rpacks/GraphAT.Rcheck' * using Version 2.3.1 (2006-06-01) * checking for file 'GraphAT/DESCRIPTION' ... OK * this is package 'GraphAT' version '1.4.0' * checking package dependencies ... OK * checking if this is a source package ... OK * checking whether package 'GraphAT' can be installed ... OK * checking package directory ... OK * checking for portable file names ... OK * checking DESCRIPTION meta-information ... OK * checking top-level files ... OK * checking index information ... OK * checking package subdirectories ... OK * checking R files for syntax errors ... OK * checking R files for library.dynam ... OK * checking S3 generic/method consistency ... OK * checking replacement functions ... OK * checking foreign function calls ... OK * checking Rd files ... OK * checking for missing documentation entries ... OK * checking for code/documentation mismatches ... OK * checking Rd \usage sections ... OK * creating GraphAT-Ex.R ... OK * checking examples ... OK * creating GraphAT-manual.tex ... OK * checking GraphAT-manual.tex ... OK
GraphAT.Rcheck/00install.out:
installing R.css in D:/biocbld/1.8d/Rpacks/GraphAT.Rcheck
---------- Making package GraphAT ------------
adding build stamp to DESCRIPTION
installing R files
installing data files
installing man source files
installing indices
not zipping data
installing help
>>> Building/Updating help pages for package 'GraphAT'
Formats: text html latex example chm
Phenoclusters text html latex example chm
causton text html latex example chm
cellcycle text html latex example chm
clust2Mat text html latex example chm
depthmat text html latex example chm
getpvalue text html latex example chm
giaever text html latex example chm
mRNAclusters text html latex example chm
makeClustM text html latex example chm
mat2UndirG text html latex example chm
permPower text html latex example chm
perms text html latex example chm
Microsoft HTML Help Compiler 4.74.8702
Compiling d:\biocbld\1.8d\Rpacks\GraphAT.Rcheck\00_pkg_src\GraphAT\chm\GraphAT.chm
Compile time: 0 minutes, 0 seconds
13 Topics
37 Local links
5 Internet links
1 Graphic
Created d:\biocbld\1.8d\Rpacks\GraphAT.Rcheck\00_pkg_src\GraphAT\chm\GraphAT.chm, 28,997 bytes
Compression decreased file by 7,788 bytes.
adding MD5 sums
* DONE (GraphAT)