Back to the "Multiple platform build/check report"
| Package 73/172 | OS | Arch | BUILD | CHECK | BUILD BIN |
GraphAT1.4.0Thomas LaFramboise | Linux (SUSE 9.2) | x86_64 | OK | OK | |
| Linux (SUSE 9.2) | i686 | OK | OK | ||
| Solaris 2.9 | sparc | [ OK ] | OK | ||
| Linux (SUSE 10.0) | x86_64 | OK | OK | ||
| Windows Server 2003 | x86_64 | OK | OK | OK |
| Package: GraphAT |
| Version: 1.4.0 |
| Command: /loc/biocbuild/1.8d/R/bin/R CMD build GraphAT |
| RetCode: 0 |
| Time: 3.9 seconds |
| Status: OK |
| PackageFile: GraphAT_1.4.0.tar.gz |
* checking for file 'GraphAT/DESCRIPTION' ... OK * preparing 'GraphAT': * checking DESCRIPTION meta-information ... OK * removing junk files * checking for LF line-endings in source files * checking for empty or unneeded directories * building 'GraphAT_1.4.0.tar.gz'