Back to the "Multiple platform build/check report"
| Package 59/172 | OS | Arch | BUILD | CHECK | BUILD BIN |
GeneSpring2.4.0Thon de Boer | Linux (SUSE 9.2) | x86_64 | OK | OK | |
| Linux (SUSE 9.2) | i686 | OK | OK | ||
| Solaris 2.9 | sparc | OK | OK | ||
| Linux (SUSE 10.0) | x86_64 | OK | OK | ||
| Windows Server 2003 | x86_64 | OK | [ OK ] | OK |
| Package: GeneSpring |
| Version: 2.4.0 |
| Command: D:\biocbld\1.8d\R\bin\R.exe CMD check GeneSpring_2.4.0.tar.gz |
| RetCode: 0 |
| Time: 36.8 seconds |
| Status: OK |
| CheckDir: GeneSpring.Rcheck |
| Warnings: 0 |
* checking for working latex ... OK * using log directory 'D:/biocbld/1.8d/Rpacks/GeneSpring.Rcheck' * using Version 2.3.1 (2006-06-01) * checking for file 'GeneSpring/DESCRIPTION' ... OK * this is package 'GeneSpring' version '2.4.0' * checking package dependencies ... OK * checking if this is a source package ... OK * checking whether package 'GeneSpring' can be installed ... OK * checking package directory ... OK * checking for portable file names ... OK * checking DESCRIPTION meta-information ... OK * checking top-level files ... OK * checking index information ... OK * checking package subdirectories ... OK * checking R files for syntax errors ... OK * checking R files for library.dynam ... OK * checking S3 generic/method consistency ... OK * checking replacement functions ... OK * checking foreign function calls ... OK * checking Rd files ... OK * checking for missing documentation entries ... OK * checking for code/documentation mismatches ... OK * checking Rd \usage sections ... OK * creating GeneSpring-Ex.R ... OK * checking examples ... OK * checking package vignettes in 'inst/doc' ... OK * creating GeneSpring-manual.tex ... OK * checking GeneSpring-manual.tex ... OK
GeneSpring.Rcheck/00install.out:
installing R.css in D:/biocbld/1.8d/Rpacks/GeneSpring.Rcheck
---------- Making package GeneSpring ------------
adding build stamp to DESCRIPTION
installing R files
save image
Loading required package: Biobase
Loading required package: tools
Welcome to Bioconductor
Vignettes contain introductory material. To view, type
'openVignette()' or start with 'help(Biobase)'. For details
on reading vignettes, see the openVignette help page.
[1] "GSint"
[1] "show"
installing inst files
installing man source files
installing indices
installing help
>>> Building/Updating help pages for package 'GeneSpring'
Formats: text html latex example chm
GSint text html latex example chm
GSint2BC text html latex example chm
GSload.exp text html latex example chm
GSload.genelist text html latex example chm
GSload.int text html latex example chm
GSsave.exp text html latex example chm
Microsoft HTML Help Compiler 4.74.8702
Compiling d:\biocbld\1.8d\Rpacks\GeneSpring.Rcheck\00_pkg_src\GeneSpring\chm\GeneSpring.chm
Compile time: 0 minutes, 0 seconds
7 Topics
40 Local links
6 Internet links
1 Graphic
Created d:\biocbld\1.8d\Rpacks\GeneSpring.Rcheck\00_pkg_src\GeneSpring\chm\GeneSpring.chm, 29,207 bytes
Compression decreased file by 8,925 bytes.
adding MD5 sums
* DONE (GeneSpring)