Back to the "Multiple platform build/check report"
| Package 59/172 | OS | Arch | BUILD | CHECK | BUILD BIN |
GeneSpring2.4.0Thon de Boer | Linux (SUSE 9.2) | x86_64 | OK | [ OK ] | |
| Linux (SUSE 9.2) | i686 | OK | OK | ||
| Solaris 2.9 | sparc | OK | OK | ||
| Linux (SUSE 10.0) | x86_64 | OK | OK | ||
| Windows Server 2003 | x86_64 | OK | OK | OK |
| Package: GeneSpring |
| Version: 2.4.0 |
| Command: /loc/biocbuild/1.8d/R/bin/R CMD check GeneSpring_2.4.0.tar.gz |
| RetCode: 0 |
| Time: 41.7 seconds |
| Status: OK |
| CheckDir: GeneSpring.Rcheck |
| Warnings: 0 |
* checking for working latex ... OK * using log directory '/loc/biocbuild/1.8d/Rpacks/GeneSpring.Rcheck' * using Version 2.3.1 (2006-06-01) * checking for file 'GeneSpring/DESCRIPTION' ... OK * this is package 'GeneSpring' version '2.4.0' * checking package dependencies ... OK * checking if this is a source package ... OK * checking whether package 'GeneSpring' can be installed ... OK * checking package directory ... OK * checking for portable file names ... OK * checking for sufficient/correct file permissions ... OK * checking DESCRIPTION meta-information ... OK * checking top-level files ... OK * checking index information ... OK * checking package subdirectories ... OK * checking R files for syntax errors ... OK * checking R files for library.dynam ... OK * checking S3 generic/method consistency ... OK * checking replacement functions ... OK * checking foreign function calls ... OK * checking Rd files ... OK * checking for missing documentation entries ... OK * checking for code/documentation mismatches ... OK * checking Rd \usage sections ... OK * creating GeneSpring-Ex.R ... OK * checking examples ... OK * checking package vignettes in 'inst/doc' ... OK * creating GeneSpring-manual.tex ... OK * checking GeneSpring-manual.tex ... OK
GeneSpring.Rcheck/00install.out:
* Installing *source* package 'GeneSpring' ...
** R
** inst
** save image
Loading required package: Biobase
Loading required package: tools
Welcome to Bioconductor
Vignettes contain introductory material. To view, type
'openVignette()' or start with 'help(Biobase)'. For details
on reading vignettes, see the openVignette help page.
[1] "GSint"
[1] "show"
** help
>>> Building/Updating help pages for package 'GeneSpring'
Formats: text html latex example
GSint text html latex example
GSint2BC text html latex example
GSload.exp text html latex example
GSload.genelist text html latex example
GSload.int text html latex example
GSsave.exp text html latex example
** building package indices ...
* DONE (GeneSpring)