Back to the "Multiple platform build/check report"
| Package 43/172 | OS | Arch | BUILD | CHECK | BUILD BIN |
DynDoc1.10.0Biocore Team | Linux (SUSE 9.2) | x86_64 | OK | OK | |
| Linux (SUSE 9.2) | i686 | OK | OK | ||
| Solaris 2.9 | sparc | OK | OK | ||
| Linux (SUSE 10.0) | x86_64 | OK | OK | ||
| Windows Server 2003 | x86_64 | OK | [ OK ] | OK |
| Package: DynDoc |
| Version: 1.10.0 |
| Command: D:\biocbld\1.8d\R\bin\R.exe CMD check DynDoc_1.10.0.tar.gz |
| RetCode: 0 |
| Time: 37.5 seconds |
| Status: OK |
| CheckDir: DynDoc.Rcheck |
| Warnings: 0 |
* checking for working latex ... OK * using log directory 'D:/biocbld/1.8d/Rpacks/DynDoc.Rcheck' * using Version 2.3.1 (2006-06-01) * checking for file 'DynDoc/DESCRIPTION' ... OK * this is package 'DynDoc' version '1.10.0' * checking package dependencies ... OK * checking if this is a source package ... OK * checking whether package 'DynDoc' can be installed ... OK * checking package directory ... OK * checking for portable file names ... OK * checking DESCRIPTION meta-information ... OK * checking top-level files ... OK * checking index information ... OK * checking package subdirectories ... OK * checking R files for syntax errors ... OK * checking R files for library.dynam ... OK * checking S3 generic/method consistency ... OK * checking replacement functions ... OK * checking foreign function calls ... OK * checking Rd files ... OK * checking for missing documentation entries ... OK * checking for code/documentation mismatches ... OK * checking Rd \usage sections ... OK * creating DynDoc-Ex.R ... OK * checking examples ... OK * creating DynDoc-manual.tex ... OK * checking DynDoc-manual.tex ... OK
DynDoc.Rcheck/00install.out:
installing R.css in D:/biocbld/1.8d/Rpacks/DynDoc.Rcheck
---------- Making package DynDoc ------------
adding build stamp to DESCRIPTION
installing NAMESPACE file and metadata
installing R files
save image
Loading required package: tools
Loading required package: reposTools
installing man source files
installing indices
installing help
>>> Building/Updating help pages for package 'DynDoc'
Formats: text html latex example chm
DynDoc-class text html latex chm
SweaveOptions-class text html latex chm
Vignette-class text html latex chm
chunkList-class text html latex example chm
codeChunk-class text html latex example chm
getPkgVigList text html latex example chm
getVignette text html latex chm
getVignetteCode text html latex chm
getVignetteHeader text html latex chm
tangleToR text html latex example chm
vignetteCode-class text html latex chm
Microsoft HTML Help Compiler 4.74.8702
Compiling d:\biocbld\1.8d\Rpacks\DynDoc.Rcheck\00_pkg_src\DynDoc\chm\DynDoc.chm
Compile time: 0 minutes, 0 seconds
12 Topics
119 Local links
0 Internet links
1 Graphic
Created d:\biocbld\1.8d\Rpacks\DynDoc.Rcheck\00_pkg_src\DynDoc\chm\DynDoc.chm, 30,211 bytes
Compression decreased file by 39,190 bytes.
adding MD5 sums
* DONE (DynDoc)