Back to the "Multiple platform build/check report"
| Package 43/172 | OS | Arch | BUILD | CHECK | BUILD BIN |
DynDoc1.10.0Biocore Team | Linux (SUSE 9.2) | x86_64 | OK | OK | |
| Linux (SUSE 9.2) | i686 | OK | OK | ||
| Solaris 2.9 | sparc | OK | OK | ||
| Linux (SUSE 10.0) | x86_64 | [ OK ] | OK | ||
| Windows Server 2003 | x86_64 | OK | OK | OK |
| Package: DynDoc |
| Version: 1.10.0 |
| Command: /home/biocbuild/1.8d/R/bin/R CMD build DynDoc |
| RetCode: 0 |
| Time: 0.5 seconds |
| Status: OK |
| PackageFile: DynDoc_1.10.0.tar.gz |
* checking for file 'DynDoc/DESCRIPTION' ... OK * preparing 'DynDoc': * checking DESCRIPTION meta-information ... OK * removing junk files * checking for LF line-endings in source files * checking for empty or unneeded directories * building 'DynDoc_1.10.0.tar.gz'