Back to the "Multiple platform build/check report"
| Package 52/172 | OS | Arch | BUILD | CHECK | BUILD BIN |
gcrma2.4.1Z. Wu | Linux (SUSE 9.2) | x86_64 | OK | [ OK ] | |
| Linux (SUSE 9.2) | i686 | OK | OK | ||
| Solaris 2.9 | sparc | OK | OK | ||
| Linux (SUSE 10.0) | x86_64 | OK | OK | ||
| Windows Server 2003 | x86_64 | OK | OK | OK |
| Package: gcrma |
| Version: 2.4.1 |
| Command: /loc/biocbuild/1.8d/R/bin/R CMD check gcrma_2.4.1.tar.gz |
| RetCode: 0 |
| Time: 328.9 seconds |
| Status: OK |
| CheckDir: gcrma.Rcheck |
| Warnings: 0 |
* checking for working latex ... OK * using log directory '/loc/biocbuild/1.8d/Rpacks/gcrma.Rcheck' * using Version 2.3.1 (2006-06-01) * checking for file 'gcrma/DESCRIPTION' ... OK * this is package 'gcrma' version '2.4.1' * checking package dependencies ... OK * checking if this is a source package ... OK * checking whether package 'gcrma' can be installed ... OK * checking package directory ... OK * checking for portable file names ... OK * checking for sufficient/correct file permissions ... OK * checking DESCRIPTION meta-information ... OK * checking top-level files ... OK * checking index information ... OK * checking package subdirectories ... OK * checking R files for syntax errors ... OK * checking R files for library.dynam ... OK * checking S3 generic/method consistency ... OK * checking replacement functions ... OK * checking foreign function calls ... OK * checking Rd files ... OK * checking for missing documentation entries ... OK * checking for code/documentation mismatches ... OK * checking Rd \usage sections ... OK * checking for CRLF line endings in C/C++/Fortran sources/headers ... OK * creating gcrma-Ex.R ... OK * checking examples ... OK * checking package vignettes in 'inst/doc' ... OK * creating gcrma-manual.tex ... OK * checking gcrma-manual.tex ... OK
gcrma.Rcheck/00install.out:
* Installing *source* package 'gcrma' ...
** libs
gcc -I/loc/biocbuild/1.8d/R/include -I/loc/biocbuild/1.8d/R/include -I/usr/local/include -fpic -g -O2 -std=gnu99 -Wall -c baseProfile.c -o baseProfile.o
baseProfile.c: In function `gcrma_getSeq2':
baseProfile.c:14: warning: unused variable `nx'
gcc -I/loc/biocbuild/1.8d/R/include -I/loc/biocbuild/1.8d/R/include -I/usr/local/include -fpic -g -O2 -std=gnu99 -Wall -c computeAffinities.c -o computeAffinities.o
gcc -I/loc/biocbuild/1.8d/R/include -I/loc/biocbuild/1.8d/R/include -I/usr/local/include -fpic -g -O2 -std=gnu99 -Wall -c postmean.c -o postmean.o
gcc -shared -L/usr/local/lib64 -o gcrma.so baseProfile.o computeAffinities.o postmean.o
** R
** data
** inst
** preparing package for lazy loading
Loading required package: affy
Loading required package: Biobase
Loading required package: tools
Welcome to Bioconductor
Vignettes contain introductory material. To view, type
'openVignette()' or start with 'help(Biobase)'. For details
on reading vignettes, see the openVignette help page.
Loading required package: affyio
Loading required package: matchprobes
** help
>>> Building/Updating help pages for package 'gcrma'
Formats: text html latex example
affinity.spline.coefs text html latex
bg.adjust.affinities text html latex
bg.adjust.gcrma text html latex example
bg.parameters.ns text html latex
compute.affinities text html latex
fast.bkg text html latex
gcrma text html latex example
gcrma.engine text html latex example
gcrma.engine2 text html latex example
getCDF text html latex
justGCRMA text html latex example
** building package indices ...
* DONE (gcrma)