Back to the "Multiple platform build/check report"
| Package 69/172 | OS | Arch | BUILD | CHECK | BUILD BIN |
GOstats1.6.0R. Gentleman | Linux (SUSE 9.2) | x86_64 | OK | [ OK ] | |
| Linux (SUSE 9.2) | i686 | OK | OK | ||
| Solaris 2.9 | sparc | ERROR | skipped | ||
| Linux (SUSE 10.0) | x86_64 | OK | OK | ||
| Windows Server 2003 | x86_64 | OK | WARNINGS | OK |
| Package: GOstats |
| Version: 1.6.0 |
| Command: /loc/biocbuild/1.8d/R/bin/R CMD check GOstats_1.6.0.tar.gz |
| RetCode: 0 |
| Time: 1132.4 seconds |
| Status: OK |
| CheckDir: GOstats.Rcheck |
| Warnings: 0 |
* checking for working latex ... OK * using log directory '/loc/biocbuild/1.8d/Rpacks/GOstats.Rcheck' * using Version 2.3.1 (2006-06-01) * checking for file 'GOstats/DESCRIPTION' ... OK * this is package 'GOstats' version '1.6.0' * checking package dependencies ... OK * checking if this is a source package ... OK * checking whether package 'GOstats' can be installed ... OK * checking package directory ... OK * checking for portable file names ... OK * checking for sufficient/correct file permissions ... OK * checking DESCRIPTION meta-information ... OK * checking top-level files ... OK * checking index information ... OK * checking package subdirectories ... OK * checking R files for syntax errors ... OK * checking R files for library.dynam ... OK * checking S3 generic/method consistency ... OK * checking replacement functions ... OK * checking foreign function calls ... OK * checking Rd files ... OK * checking for missing documentation entries ... OK * checking for code/documentation mismatches ... OK * checking Rd \usage sections ... OK * creating GOstats-Ex.R ... OK * checking examples ... OK * checking package vignettes in 'inst/doc' ... OK * creating GOstats-manual.tex ... OK * checking GOstats-manual.tex ... OK
GOstats.Rcheck/00install.out:
* Installing *source* package 'GOstats' ...
** R
** data
** inst
** help
>>> Building/Updating help pages for package 'GOstats'
Formats: text html latex example
ALL text html latex example
GOLeaves text html latex example
GOstats-defunct text html latex
Ndists text html latex example
compCorrGraph text html latex example
compGdist text html latex example
dropECode text html latex example
getEvidence text html latex example
getGOTerm text html latex example
getOntology text html latex example
hasGOannote text html latex example
hyperG2Affy text html latex example
hyperGtable text html latex example
idx2dimnames text html latex example
makeGOGraph text html latex example
notConn text html latex example
oneGOGraph text html latex example
shortestPath text html latex example
simLL text html latex example
triadCensus text html latex example
** building package indices ...
* DONE (GOstats)