Back to the "Multiple platform build/check report"
| Package 29/172 | OS | Arch | BUILD | CHECK | BUILD BIN |
Category1.4.1R. Gentleman | Linux (SUSE 9.2) | x86_64 | OK | [ OK ] | |
| Linux (SUSE 9.2) | i686 | OK | OK | ||
| Solaris 2.9 | sparc | OK | OK | ||
| Linux (SUSE 10.0) | x86_64 | OK | OK | ||
| Windows Server 2003 | x86_64 | OK | OK | OK |
| Package: Category |
| Version: 1.4.1 |
| Command: /loc/biocbuild/1.8d/R/bin/R CMD check Category_1.4.1.tar.gz |
| RetCode: 0 |
| Time: 156.0 seconds |
| Status: OK |
| CheckDir: Category.Rcheck |
| Warnings: 0 |
* checking for working latex ... OK * using log directory '/loc/biocbuild/1.8d/Rpacks/Category.Rcheck' * using Version 2.3.1 (2006-06-01) * checking for file 'Category/DESCRIPTION' ... OK * this is package 'Category' version '1.4.1' * checking package dependencies ... OK * checking if this is a source package ... OK * checking whether package 'Category' can be installed ... OK * checking package directory ... OK * checking for portable file names ... OK * checking for sufficient/correct file permissions ... OK * checking DESCRIPTION meta-information ... OK * checking top-level files ... OK * checking index information ... OK * checking package subdirectories ... OK * checking R files for syntax errors ... OK * checking R files for library.dynam ... OK * checking S3 generic/method consistency ... OK * checking replacement functions ... OK * checking foreign function calls ... OK * checking Rd files ... OK * checking for missing documentation entries ... OK * checking for code/documentation mismatches ... OK * checking Rd \usage sections ... OK * creating Category-Ex.R ... OK * checking examples ... OK * checking package vignettes in 'inst/doc' ... OK * creating Category-manual.tex ... OK * checking Category-manual.tex ... OK
Category.Rcheck/00install.out:
* Installing *source* package 'Category' ...
** R
** inst
** preparing package for lazy loading
Loading required package: Biobase
Loading required package: tools
Welcome to Bioconductor
Vignettes contain introductory material. To view, type
'openVignette()' or start with 'help(Biobase)'. For details
on reading vignettes, see the openVignette help page.
Loading required package: KEGG
Loading required package: hgu95av2
Loading required package: genefilter
Loading required package: survival
Loading required package: splines
Loading required package: GO
Loading required package: graph
Loading required package: Ruuid
Loading required package: annotate
** help
>>> Building/Updating help pages for package 'Category'
Formats: text html latex example
GOHyperG text html latex example
GeneCategoryHyperGeoTestParams-cl text html latex
GeneCategoryHyperGeoTestResult-cl text html latex
GeneGoHyperGeoTestParams-class text html latex
GeneKeggHyperGeoTestParams-class text html latex
MAPAmat text html latex example
applyByCategory text html latex example
cateGOryMatrix text html latex example
categoryToEntrezBuilder text html latex
findAMstats text html latex example
geneCategoryHyperGeoTest text html latex
geneGoHyperGeoTest text html latex example
geneKeggHyperGeoTest text html latex example
getPathNames text html latex example
makeEBcontr text html latex example
probes2MAP text html latex example
probes2Path text html latex example
ttperm text html latex example
universeBuilder text html latex
** building package indices ...
* DONE (Category)