Back to the "Multiple platform build/check report"
| Package 20/172 | OS | Arch | BUILD | CHECK | BUILD BIN |
arrayQuality1.8.0A. Paquet | Linux (SUSE 9.2) | x86_64 | OK | OK | |
| Linux (SUSE 9.2) | i686 | OK | OK | ||
| Solaris 2.9 | sparc | OK | OK | ||
| Linux (SUSE 10.0) | x86_64 | [ OK ] | OK | ||
| Windows Server 2003 | x86_64 | OK | OK | OK |
| Package: arrayQuality |
| Version: 1.8.0 |
| Command: /home/biocbuild/1.8d/R/bin/R CMD build arrayQuality |
| RetCode: 0 |
| Time: 4.5 seconds |
| Status: OK |
| PackageFile: arrayQuality_1.8.0.tar.gz |
* checking for file 'arrayQuality/DESCRIPTION' ... OK * preparing 'arrayQuality': * checking DESCRIPTION meta-information ... OK * checking whether 'INDEX' is up-to-date ... OK * removing junk files * checking for LF line-endings in source files * checking for empty or unneeded directories * building 'arrayQuality_1.8.0.tar.gz'