Back to the "Multiple platform build/check report"
| Package 20/172 | OS | Arch | BUILD | CHECK | BUILD BIN |
arrayQuality1.8.0A. Paquet | Linux (SUSE 9.2) | x86_64 | OK | OK | |
| Linux (SUSE 9.2) | i686 | OK | OK | ||
| Solaris 2.9 | sparc | OK | [ OK ] | ||
| Linux (SUSE 10.0) | x86_64 | OK | OK | ||
| Windows Server 2003 | x86_64 | OK | OK | OK |
| Package: arrayQuality |
| Version: 1.8.0 |
| Command: /loc/biocbuild/1.8d/R/bin/R CMD check arrayQuality_1.8.0.tar.gz |
| RetCode: 0 |
| Time: 155.2 seconds |
| Status: OK |
| CheckDir: arrayQuality.Rcheck |
| Warnings: 0 |
* checking for working latex ... OK * using log directory '/loc/biocbuild/1.8d/Rpacks/arrayQuality.Rcheck' * using Version 2.3.1 (2006-06-01) * checking for file 'arrayQuality/DESCRIPTION' ... OK * this is package 'arrayQuality' version '1.8.0' * checking package dependencies ... OK * checking if this is a source package ... OK * checking whether package 'arrayQuality' can be installed ... OK * checking package directory ... OK * checking for portable file names ... OK * checking for sufficient/correct file permissions ... OK * checking DESCRIPTION meta-information ... OK * checking top-level files ... OK * checking index information ... OK * checking package subdirectories ... OK * checking R files for syntax errors ... OK * checking R files for library.dynam ... OK * checking S3 generic/method consistency ... OK * checking replacement functions ... OK * checking foreign function calls ... OK * checking Rd files ... OK * checking for missing documentation entries ... OK * checking for code/documentation mismatches ... OK * checking Rd \usage sections ... OK * creating arrayQuality-Ex.R ... OK * checking examples ... OK * creating arrayQuality-manual.tex ... OK * checking arrayQuality-manual.tex ... OK
arrayQuality.Rcheck/00install.out:
* Installing *source* package 'arrayQuality' ...
** R
** data
** inst
** preparing package for lazy loading
Loading required package: marray
Loading required package: limma
Loading required package: limma
Loading required package: convert
Loading required package: Biobase
Loading required package: tools
Welcome to Bioconductor
Vignettes contain introductory material. To view, type
'openVignette()' or start with 'help(Biobase)'. For details
on reading vignettes, see the openVignette help page.
Loading required package: hexbin
Loading required package: grid
Loading required package: lattice
Loading required package: colorspace
Attaching package: 'colorspace'
The following object(s) are masked from package:grDevices :
hcl
Loading required package: gridBase
Loading required package: RColorBrewer
** help
>>> Building/Updating help pages for package 'arrayQuality'
Formats: text html latex example
MEEBO text html latex
MmDEGenes text html latex
PRv9mers text html latex example
PRvQCHyb text html latex example
agQuality text html latex example
arrayQuality-internal text html latex
globalQuality text html latex example
gpQuality text html latex example
gprDB text html latex
maQualityPlots text html latex example
meeboQuality text html latex example
meeboQualityPlots text html latex example
prdata text html latex
qualBoxplot text html latex example
qualityScore text html latex
readAgilent text html latex example
readGPR text html latex example
readSpikeTypes text html latex example
readSpot text html latex example
readcontrolCode text html latex
scaleRefTable text html latex
slideQuality text html latex example
spotQuality text html latex example
** building package indices ...
* DONE (arrayQuality)