Back to the "Multiple platform build/check report"
| Package 6/172 | OS | Arch | BUILD | CHECK | BUILD BIN |
affycoretools1.4.0James W. MacDonald | Linux (SUSE 9.2) | x86_64 | OK | OK | |
| Linux (SUSE 9.2) | i686 | OK | OK | ||
| Solaris 2.9 | sparc | ERROR | skipped | ||
| Linux (SUSE 10.0) | x86_64 | OK | [ OK ] | ||
| Windows Server 2003 | x86_64 | OK | OK | OK |
| Package: affycoretools |
| Version: 1.4.0 |
| Command: /home/biocbuild/1.8d/R/bin/R CMD check affycoretools_1.4.0.tar.gz |
| RetCode: 0 |
| Time: 104.3 seconds |
| Status: OK |
| CheckDir: affycoretools.Rcheck |
| Warnings: 0 |
* checking for working latex ... OK * using log directory '/home/biocbuild/1.8d/Rpacks/affycoretools.Rcheck' * using Version 2.3.1 (2006-06-01) * checking for file 'affycoretools/DESCRIPTION' ... OK * this is package 'affycoretools' version '1.4.0' * checking package dependencies ... OK * checking if this is a source package ... OK * checking whether package 'affycoretools' can be installed ... OK * checking package directory ... OK * checking for portable file names ... OK * checking for sufficient/correct file permissions ... OK * checking DESCRIPTION meta-information ... OK * checking top-level files ... OK * checking index information ... OK * checking package subdirectories ... OK * checking R files for syntax errors ... OK * checking R files for library.dynam ... OK * checking S3 generic/method consistency ... OK * checking replacement functions ... OK * checking foreign function calls ... OK * checking Rd files ... OK * checking for missing documentation entries ... OK * checking for code/documentation mismatches ... OK * checking Rd \usage sections ... OK * creating affycoretools-Ex.R ... OK * checking examples ... OK * checking package vignettes in 'inst/doc' ... OK * creating affycoretools-manual.tex ... OK * checking affycoretools-manual.tex ... OK
affycoretools.Rcheck/00install.out:
* Installing *source* package 'affycoretools' ...
** R
** inst
** preparing package for lazy loading
Loading required package: affy
Loading required package: Biobase
Loading required package: tools
Welcome to Bioconductor
Vignettes contain introductory material. To view, type
'openVignette()' or start with 'help(Biobase)'. For details
on reading vignettes, see the openVignette help page.
Loading required package: affyio
Loading required package: limma
Loading required package: GOstats
Loading required package: graph
Loading required package: Ruuid
Loading required package: GO
Loading required package: annotate
Loading required package: RBGL
Loading required package: xtable
Attaching package: 'xtable'
The following object(s) are masked from package:graph :
label
Loading required package: genefilter
Loading required package: survival
Loading required package: splines
Loading required package: multtest
Loading required package: Category
Loading required package: KEGG
Loading required package: hgu95av2
** help
>>> Building/Updating help pages for package 'affycoretools'
Formats: text html latex example
affystart text html latex
convert.back text html latex
foldFilt text html latex
getCols text html latex
getIndex text html latex
getans text html latex
hyperG2annaffy text html latex
intNames text html latex
limma2annaffy text html latex
make.cl text html latex
makeIndices text html latex
pca.legend text html latex
plotDeg text html latex example
plotMA text html latex
plotPCA text html latex
probes2table text html latex
tableFilt text html latex
vennCounts2 text html latex example
vennSelect text html latex
** building package indices ...
* DONE (affycoretools)