| Back to the "Multiple platform build/check report" | 
| Package 38/77 | Hostname | OS / Arch | BUILD | CHECK | BUILD BIN | ||||
| hgu133afrmavecs 0.99.0 Matthew N. McCall 
 | wilson2 | Linux (openSUSE 11.1) / x86_64 | OK | OK | |||||
| pitt | Mac OS X Tiger (10.4.11) / i386 | OK | OK | [ OK ] | |||||
| pelham | Mac OS X Leopard (10.5.8) / i386 | OK | OK | OK | 
| Package: hgu133afrmavecs | 
| Version: 0.99.0 | 
| Command: /Users/biocbuild/BBS/utils/build-universal.sh hgu133afrmavecs_0.99.0.tar.gz /Library/Frameworks/R.framework/Versions/2.10/Resources/bin/R hgu133afrmavecs.buildbin-libdir | 
| StartedAt: 2010-04-02 15:33:22 -0700 (Fri, 02 Apr 2010) | 
| EndedAt: 2010-04-02 15:33:28 -0700 (Fri, 02 Apr 2010) | 
| EllapsedTime: 6.3 seconds | 
| RetCode: 0 | 
| Status: OK | 
| PackageFile: hgu133afrmavecs_0.99.0.tgz | 
| PackageFileSize: 7.244 MiB | 
                INSTALLATION WITH 'R CMD INSTALL --preclean --library=hgu133afrmavecs.buildbin-libdir hgu133afrmavecs_0.99.0.tar.gz'
* installing *source* package ‘hgu133afrmavecs’ ...
** data
** help
*** installing help indices
** building package indices ...
* DONE (hgu133afrmavecs)