hgu133afrmavecs 0.99.0 Matthew N. McCall
 | Snapshot Date: 2010-04-02 12:27:31 -0700 (Fri, 02 Apr 2010) |  | URL: https://hedgehog.fhcrc.org/bioc-data/trunk/experiment/pkgs/hgu133afrmavecs |  | Last Changed Rev: 1129 / Revision: 1201 |  | Last Changed Date: 2010-02-03 13:05:30 -0800 (Wed, 03 Feb 2010) |  
  | wilson2  | Linux (openSUSE 11.1) / x86_64  |  OK  |  OK  |  | 
| pitt  | Mac OS X Tiger (10.4.11) / i386  |  OK  |  OK  |  OK  | 
| pelham  | Mac OS X Leopard (10.5.8) / i386  | [ OK ] |  OK  |  OK  | 
* checking for file 'hgu133afrmavecs/DESCRIPTION' ... OK
* preparing 'hgu133afrmavecs':
* checking DESCRIPTION meta-information ... OK
* removing junk files
* checking for LF line-endings in source and make files
* checking for empty or unneeded directories
* building 'hgu133afrmavecs_0.99.0.tar.gz'