| Back to Workflows build report for BioC 3.21 | 
This page was generated on 2025-10-14 16:30 -0400 (Tue, 14 Oct 2025).
| Hostname | OS | Arch (*) | R version | Installed pkgs | 
|---|---|---|---|---|
| nebbiolo1 | Linux (Ubuntu 24.04.3 LTS) | x86_64 | 4.5.1 (2025-06-13) -- "Great Square Root" | 4833 | 
| merida1 | macOS 12.7.6 Monterey | x86_64 | 4.5.1 RC (2025-06-05 r88288) -- "Great Square Root" | 4614 | 
| Click on any hostname to see more info about the system (e.g. compilers) (*) as reported by 'uname -p', except on Windows and Mac OS X | ||||
| Package 2/30 | Hostname | OS / Arch | INSTALL | BUILD | ||||||||
| arrays 1.34.0  (landing page) Bioconductor Package Maintainer 
 | nebbiolo1 | Linux (Ubuntu 24.04.3 LTS) / x86_64 | OK | OK |  | |||||||
| merida1 | macOS 12.7.6 Monterey / x86_64 | OK | OK | |||||||||
| To the developers/maintainers of the arrays package: - Use the following Renviron settings to reproduce errors and warnings. - If 'R CMD check' started to fail recently on the Linux builder(s) over a missing dependency, add the missing dependency to 'Suggests:' in your DESCRIPTION file. See Renviron.bioc for more information. | 
| Package: arrays | 
| Version: 1.34.0 | 
| Command: /home/biocbuild/bbs-3.21-bioc/R/bin/R CMD INSTALL arrays | 
| StartedAt: 2025-10-14 13:00:13 -0400 (Tue, 14 Oct 2025) | 
| EndedAt: 2025-10-14 13:00:17 -0400 (Tue, 14 Oct 2025) | 
| EllapsedTime: 4.5 seconds | 
| RetCode: 0 | 
| Status: OK | 
############################################################################## ############################################################################## ### ### Running command: ### ### /home/biocbuild/bbs-3.21-bioc/R/bin/R CMD INSTALL arrays ### ############################################################################## ############################################################################## * installing to library ‘/home/biocbuild/bbs-3.21-bioc/R/site-library’ * installing *source* package ‘arrays’ ... ** this is package ‘arrays’ version ‘1.34.0’ ** using staged installation ** inst ** help No man pages found in package ‘arrays’ *** installing help indices ** building package indices ** installing vignettes ** testing if installed package can be loaded from temporary location ** testing if installed package can be loaded from final location ** testing if installed package keeps a record of temporary installation path * DONE (arrays)