| Back to Workflows build report for BioC 3.21 |
This page was generated on 2025-10-14 16:30 -0400 (Tue, 14 Oct 2025).
| Hostname | OS | Arch (*) | R version | Installed pkgs |
|---|---|---|---|---|
| nebbiolo1 | Linux (Ubuntu 24.04.3 LTS) | x86_64 | 4.5.1 (2025-06-13) -- "Great Square Root" | 4833 |
| merida1 | macOS 12.7.6 Monterey | x86_64 | 4.5.1 RC (2025-06-05 r88288) -- "Great Square Root" | 4614 |
| Click on any hostname to see more info about the system (e.g. compilers) (*) as reported by 'uname -p', except on Windows and Mac OS X | ||||
| Package 3/30 | Hostname | OS / Arch | INSTALL | BUILD | ||||||||
Mike Smith
| nebbiolo1 | Linux (Ubuntu 24.04.3 LTS) / x86_64 | ERROR | ERROR | ||||||||
| merida1 | macOS 12.7.6 Monterey / x86_64 | ERROR | ERROR | |||||||||
|
To the developers/maintainers of the BiocMetaWorkflow package: - Use the following Renviron settings to reproduce errors and warnings. - If 'R CMD check' started to fail recently on the Linux builder(s) over a missing dependency, add the missing dependency to 'Suggests:' in your DESCRIPTION file. See Renviron.bioc for more information. |
| Package: BiocMetaWorkflow |
| Version: 1.30.0 |
| Command: /Library/Frameworks/R.framework/Resources/bin/R CMD build --keep-empty-dirs --no-resave-data BiocMetaWorkflow |
| StartedAt: 2025-10-14 13:10:21 -0400 (Tue, 14 Oct 2025) |
| EndedAt: 2025-10-14 13:10:24 -0400 (Tue, 14 Oct 2025) |
| EllapsedTime: 2.3 seconds |
| RetCode: 1 |
| Status: ERROR |
| PackageFile: None |
| PackageFileSize: NA |
##############################################################################
##############################################################################
###
### Running command:
###
### /Library/Frameworks/R.framework/Resources/bin/R CMD build --keep-empty-dirs --no-resave-data BiocMetaWorkflow
###
##############################################################################
##############################################################################
* checking for file ‘BiocMetaWorkflow/DESCRIPTION’ ... OK
* preparing ‘BiocMetaWorkflow’:
* checking DESCRIPTION meta-information ... OK
* installing the package to build vignettes
-----------------------------------
* installing *source* package ‘BiocMetaWorkflow’ ...
** this is package ‘BiocMetaWorkflow’ version ‘1.30.0’
** using staged installation
ERROR: a 'NAMESPACE' file is required
* removing ‘/private/tmp/RtmpJQ6NuS/Rinst4f1414adadb3/BiocMetaWorkflow’
-----------------------------------
ERROR: package installation failed