Back to Build/check report for BioC 3.22 experimental data
ABCDEF[G]HIJKLMNOPQRSTUVWXYZ

This page was generated on 2025-11-20 15:41 -0500 (Thu, 20 Nov 2025).

HostnameOSArch (*)R versionInstalled pkgs
nebbiolo2Linux (Ubuntu 24.04.3 LTS)x86_644.5.2 (2025-10-31) -- "[Not] Part in a Rumble" 4868
Click on any hostname to see more info about the system (e.g. compilers)      (*) as reported by 'uname -p', except on Windows and Mac OS X

Package 150/435HostnameOS / ArchINSTALLBUILDCHECK
geneLenDataBase 1.46.0  (landing page)
Federico Marini
Snapshot Date: 2025-11-20 07:30 -0500 (Thu, 20 Nov 2025)
git_url: https://git.bioconductor.org/packages/geneLenDataBase
git_branch: RELEASE_3_22
git_last_commit: 0bae7f6
git_last_commit_date: 2025-10-29 09:31:54 -0500 (Wed, 29 Oct 2025)
nebbiolo2Linux (Ubuntu 24.04.3 LTS) / x86_64  OK    OK    OK  UNNEEDED, same version is already published


CHECK results for geneLenDataBase on nebbiolo2

To the developers/maintainers of the geneLenDataBase package:
- Use the following Renviron settings to reproduce errors and warnings.
- If 'R CMD check' started to fail recently on the Linux builder(s) over a missing dependency, add the missing dependency to 'Suggests:' in your DESCRIPTION file. See Renviron.bioc for more information.

raw results


Summary

Package: geneLenDataBase
Version: 1.46.0
Command: /home/biocbuild/bbs-3.22-bioc/R/bin/R CMD check --install=check:geneLenDataBase.install-out.txt --library=/home/biocbuild/bbs-3.22-bioc/R/site-library --timings geneLenDataBase_1.46.0.tar.gz
StartedAt: 2025-11-20 12:35:28 -0500 (Thu, 20 Nov 2025)
EndedAt: 2025-11-20 12:44:48 -0500 (Thu, 20 Nov 2025)
EllapsedTime: 560.2 seconds
RetCode: 0
Status:   OK  
CheckDir: geneLenDataBase.Rcheck
Warnings: 0

Command output

##############################################################################
##############################################################################
###
### Running command:
###
###   /home/biocbuild/bbs-3.22-bioc/R/bin/R CMD check --install=check:geneLenDataBase.install-out.txt --library=/home/biocbuild/bbs-3.22-bioc/R/site-library --timings geneLenDataBase_1.46.0.tar.gz
###
##############################################################################
##############################################################################


* using log directory ‘/home/biocbuild/bbs-3.22-data-experiment/meat/geneLenDataBase.Rcheck’
* using R version 4.5.2 (2025-10-31)
* using platform: x86_64-pc-linux-gnu
* R was compiled by
    gcc (Ubuntu 13.3.0-6ubuntu2~24.04) 13.3.0
    GNU Fortran (Ubuntu 13.3.0-6ubuntu2~24.04) 13.3.0
* running under: Ubuntu 24.04.3 LTS
* using session charset: UTF-8
* checking for file ‘geneLenDataBase/DESCRIPTION’ ... OK
* this is package ‘geneLenDataBase’ version ‘1.46.0’
* package encoding: UTF-8
* checking package namespace information ... OK
* checking package dependencies ... OK
* checking if this is a source package ... OK
* checking if there is a namespace ... OK
* checking for hidden files and directories ... OK
* checking for portable file names ... OK
* checking for sufficient/correct file permissions ... OK
* checking whether package ‘geneLenDataBase’ can be installed ... OK
* checking installed package size ... INFO
  installed size is 100.3Mb
  sub-directories of 1Mb or more:
    data  99.7Mb
* checking package directory ... OK
* checking DESCRIPTION meta-information ... OK
* checking top-level files ... OK
* checking for left-over files ... OK
* checking index information ... OK
* checking package subdirectories ... OK
* checking code files for non-ASCII characters ... OK
* checking R files for syntax errors ... OK
* checking whether the package can be loaded ... OK
* checking whether the package can be loaded with stated dependencies ... OK
* checking whether the package can be unloaded cleanly ... OK
* checking whether the namespace can be loaded with stated dependencies ... OK
* checking whether the namespace can be unloaded cleanly ... OK
* checking loading without being on the library search path ... OK
* checking dependencies in R code ... NOTE
Unexported object imported by a ':::' call: ‘txdbmaker:::.UCSC_TXNAME2GENEID_MAPDEFS’
  See the note in ?`:::` about the use of this operator.
* checking S3 generic/method consistency ... OK
* checking replacement functions ... OK
* checking foreign function calls ... OK
* checking R code for possible problems ... OK
* checking Rd files ... OK
* checking Rd metadata ... OK
* checking Rd cross-references ... OK
* checking for missing documentation entries ... OK
* checking for code/documentation mismatches ... OK
* checking Rd \usage sections ... OK
* checking Rd contents ... OK
* checking for unstated dependencies in examples ... OK
* checking contents of ‘data’ directory ... OK
* checking data for non-ASCII characters ... OK
* checking data for ASCII and uncompressed saves ... OK
* checking examples ... OK
Examples with CPU (user + system) or elapsed time > 5s
                  user system elapsed
supportedGeneIDs 3.279  0.103   5.127
* checking PDF version of manual ... OK
* DONE

Status: 1 NOTE
See
  ‘/home/biocbuild/bbs-3.22-data-experiment/meat/geneLenDataBase.Rcheck/00check.log’
for details.


Installation output

geneLenDataBase.Rcheck/00install.out

##############################################################################
##############################################################################
###
### Running command:
###
###   /home/biocbuild/bbs-3.22-bioc/R/bin/R CMD INSTALL geneLenDataBase
###
##############################################################################
##############################################################################


* installing to library ‘/home/biocbuild/bbs-3.22-bioc/R/site-library’
* installing *source* package ‘geneLenDataBase’ ...
** this is package ‘geneLenDataBase’ version ‘1.46.0’
** using staged installation
** R
** data
** byte-compile and prepare package for lazy loading
** help
*** installing help indices
** building package indices
** testing if installed package can be loaded from temporary location
** testing if installed package can be loaded from final location
** testing if installed package keeps a record of temporary installation path
* DONE (geneLenDataBase)

Tests output


Example timings

geneLenDataBase.Rcheck/geneLenDataBase-Ex.timings

nameusersystemelapsed
anoCar1.ensGene.LENGTH0.0720.0060.078
anoCar1.genscan.LENGTH0.0440.0030.046
anoCar1.xenoRefGene.LENGTH0.7860.0060.792
anoGam1.ensGene.LENGTH0.0560.0020.059
anoGam1.geneid.LENGTH0.0460.0060.053
anoGam1.genscan.LENGTH0.0410.0010.042
apiMel1.genscan.LENGTH0.0360.0010.037
apiMel2.ensGene.LENGTH0.0860.0030.088
apiMel2.geneid.LENGTH0.1160.0050.120
apiMel2.genscan.LENGTH0.0300.0010.031
aplCal1.xenoRefGene.LENGTH0.4130.0040.417
bosTau2.geneSymbol.LENGTH0.0400.0000.039
bosTau2.geneid.LENGTH0.2480.0040.252
bosTau2.genscan.LENGTH0.0910.0020.092
bosTau2.refGene.LENGTH0.0420.0000.042
bosTau2.sgpGene.LENGTH0.1010.0000.101
bosTau3.ensGene.LENGTH0.1050.0010.106
bosTau3.geneSymbol.LENGTH0.0360.0010.037
bosTau3.geneid.LENGTH0.1640.0070.170
bosTau3.genscan.LENGTH0.0670.0000.067
bosTau3.refGene.LENGTH0.0320.0010.033
bosTau3.sgpGene.LENGTH0.0880.0000.088
bosTau4.ensGene.LENGTH0.0930.0010.094
bosTau4.geneSymbol.LENGTH0.0320.0000.033
bosTau4.genscan.LENGTH0.0650.0000.065
bosTau4.nscanGene.LENGTH0.0260.0010.027
bosTau4.refGene.LENGTH0.030.000.03
braFlo1.xenoRefGene.LENGTH0.3750.0000.375
caeJap1.xenoRefGene.LENGTH0.3250.0000.325
caePb1.xenoRefGene.LENGTH0.4510.0050.456
caePb2.xenoRefGene.LENGTH0.4260.0000.426
caeRem2.xenoRefGene.LENGTH0.3850.0000.385
caeRem3.xenoRefGene.LENGTH0.3490.0020.350
calJac1.genscan.LENGTH0.0870.0010.088
calJac1.nscanGene.LENGTH0.1070.0000.107
calJac1.xenoRefGene.LENGTH0.7460.0030.749
canFam1.ensGene.LENGTH0.1060.0010.107
canFam1.geneSymbol.LENGTH0.0050.0000.005
canFam1.genscan.LENGTH0.0640.0000.064
canFam1.nscanGene.LENGTH0.0630.0010.064
canFam1.refGene.LENGTH0.0040.0010.005
canFam1.xenoRefGene.LENGTH0.5500.0020.552
canFam2.ensGene.LENGTH0.0950.0000.095
canFam2.geneSymbol.LENGTH0.0050.0000.005
canFam2.genscan.LENGTH0.0550.0010.056
canFam2.nscanGene.LENGTH0.0610.0000.060
canFam2.refGene.LENGTH0.0050.0000.005
canFam2.xenoRefGene.LENGTH0.5470.0040.551
cavPor3.ensGene.LENGTH0.2800.0040.285
cavPor3.genscan.LENGTH0.0900.0000.089
cavPor3.nscanGene.LENGTH0.060.000.06
cavPor3.xenoRefGene.LENGTH0.5400.0020.542
cb1.xenoRefGene.LENGTH0.3760.0000.376
cb3.xenoRefGene.LENGTH0.3140.0010.315
ce2.geneSymbol.LENGTH0.0630.0010.065
ce2.geneid.LENGTH0.0520.0010.053
ce2.refGene.LENGTH0.0610.0010.063
ce4.geneSymbol.LENGTH0.0640.0010.065
ce4.refGene.LENGTH0.0580.0000.057
ce4.xenoRefGene.LENGTH0.0760.0010.077
ce6.ensGene.LENGTH0.0860.0010.088
ce6.geneSymbol.LENGTH0.0640.0000.064
ce6.refGene.LENGTH0.0580.0010.059
ce6.xenoRefGene.LENGTH0.0780.0000.077
ci1.geneSymbol.LENGTH0.0050.0000.005
ci1.refGene.LENGTH0.0040.0010.004
ci1.xenoRefGene.LENGTH0.1580.0000.157
ci2.ensGene.LENGTH0.0620.0000.062
ci2.geneSymbol.LENGTH0.0030.0010.005
ci2.refGene.LENGTH0.0020.0020.004
ci2.xenoRefGene.LENGTH0.9850.0801.065
danRer3.ensGene.LENGTH0.0880.0000.088
danRer3.geneSymbol.LENGTH0.0490.0010.050
danRer3.refGene.LENGTH0.0460.0000.046
danRer4.ensGene.LENGTH0.1040.0060.110
danRer4.geneSymbol.LENGTH0.0480.0010.049
danRer4.genscan.LENGTH0.0550.0000.054
danRer4.nscanGene.LENGTH0.0780.0000.077
danRer4.refGene.LENGTH0.0450.0000.045
danRer5.ensGene.LENGTH0.1190.0010.120
danRer5.geneSymbol.LENGTH0.0640.0000.064
danRer5.refGene.LENGTH0.0420.0000.042
danRer5.vegaGene.LENGTH0.0440.0010.044
danRer5.vegaPseudoGene.LENGTH0.0020.0000.002
danRer6.ensGene.LENGTH0.1010.0000.101
danRer6.geneSymbol.LENGTH0.0460.0010.047
danRer6.refGene.LENGTH0.0410.0010.043
danRer6.xenoRefGene.LENGTH0.4490.0000.450
dm1.geneSymbol.LENGTH0.0580.0000.059
dm1.genscan.LENGTH0.0220.0000.022
dm1.refGene.LENGTH0.0540.0000.054
dm2.geneSymbol.LENGTH0.0590.0000.060
dm2.geneid.LENGTH0.0330.0010.033
dm2.genscan.LENGTH0.0210.0010.022
dm2.nscanGene.LENGTH0.0450.0000.046
dm2.refGene.LENGTH0.0540.0010.054
dm3.geneSymbol.LENGTH0.0650.0000.065
dm3.nscanPasaGene.LENGTH0.0470.0000.047
dm3.refGene.LENGTH0.060.000.06
downloadLengthFromUCSC000
dp2.genscan.LENGTH0.0280.0010.029
dp2.xenoRefGene.LENGTH0.1810.0000.180
dp3.geneid.LENGTH0.0350.0010.036
dp3.genscan.LENGTH0.0230.0010.024
dp3.xenoRefGene.LENGTH0.1020.0000.101
droAna1.geneid.LENGTH0.0610.0010.063
droAna1.genscan.LENGTH0.0210.0000.021
droAna1.xenoRefGene.LENGTH0.1890.0000.189
droAna2.genscan.LENGTH0.0450.0010.047
droAna2.xenoRefGene.LENGTH0.2450.0000.246
droEre1.genscan.LENGTH0.0260.0010.028
droEre1.xenoRefGene.LENGTH0.2400.0010.241
droGri1.genscan.LENGTH0.0380.0000.039
droGri1.xenoRefGene.LENGTH0.2590.0000.260
droMoj1.geneid.LENGTH0.1170.0020.118
droMoj1.genscan.LENGTH0.0540.0000.054
droMoj1.xenoRefGene.LENGTH0.2020.0040.205
droMoj2.genscan.LENGTH0.0320.0020.034
droMoj2.xenoRefGene.LENGTH0.2590.0010.260
droPer1.genscan.LENGTH0.0370.0020.039
droPer1.xenoRefGene.LENGTH0.2670.0010.267
droSec1.genscan.LENGTH0.0280.0000.027
droSec1.xenoRefGene.LENGTH0.2550.0030.258
droSim1.geneid.LENGTH0.0340.0010.035
droSim1.genscan.LENGTH0.0250.0000.024
droSim1.xenoRefGene.LENGTH0.3500.0140.364
droVir1.geneid.LENGTH0.0990.0010.101
droVir1.genscan.LENGTH0.0410.0000.041
droVir1.xenoRefGene.LENGTH0.2430.0000.242
droVir2.genscan.LENGTH0.0350.0000.035
droVir2.xenoRefGene.LENGTH0.2450.0010.247
droYak1.geneid.LENGTH0.0410.0010.043
droYak1.genscan.LENGTH0.0270.0000.027
droYak1.xenoRefGene.LENGTH0.1990.0010.201
droYak2.genscan.LENGTH0.0260.0000.025
droYak2.xenoRefGene.LENGTH0.2390.0000.239
equCab1.geneSymbol.LENGTH0.0030.0010.005
equCab1.geneid.LENGTH0.0810.0000.081
equCab1.nscanGene.LENGTH0.0390.0000.039
equCab1.refGene.LENGTH0.0040.0000.004
equCab1.sgpGene.LENGTH0.0650.0000.064
equCab2.ensGene.LENGTH0.0920.0010.093
equCab2.geneSymbol.LENGTH0.0060.0000.006
equCab2.nscanGene.LENGTH0.0480.0000.048
equCab2.refGene.LENGTH0.0050.0010.006
equCab2.xenoRefGene.LENGTH0.5320.0020.534
felCat3.ensGene.LENGTH0.0940.0090.103
felCat3.geneSymbol.LENGTH0.0020.0010.003
felCat3.geneid.LENGTH0.4920.0040.496
felCat3.genscan.LENGTH0.1140.0010.115
felCat3.nscanGene.LENGTH0.2650.0020.267
felCat3.refGene.LENGTH0.0020.0010.003
felCat3.sgpGene.LENGTH0.1440.0000.143
felCat3.xenoRefGene.LENGTH1.0390.0011.040
fr1.ensGene.LENGTH0.0750.0000.075
fr1.genscan.LENGTH0.0560.0010.056
fr2.ensGene.LENGTH0.6150.0100.625
galGal2.ensGene.LENGTH0.0500.0010.051
galGal2.geneSymbol.LENGTH0.0150.0010.015
galGal2.geneid.LENGTH0.0340.0000.034
galGal2.genscan.LENGTH0.0470.0000.047
galGal2.refGene.LENGTH0.0150.0000.015
galGal2.sgpGene.LENGTH0.0420.0000.042
galGal3.ensGene.LENGTH0.0660.0000.066
galGal3.geneSymbol.LENGTH0.0120.0020.015
galGal3.genscan.LENGTH0.0440.0010.046
galGal3.nscanGene.LENGTH0.0630.0000.063
galGal3.refGene.LENGTH0.0130.0010.014
galGal3.xenoRefGene.LENGTH0.4240.0010.426
gasAcu1.ensGene.LENGTH0.0770.0010.078
gasAcu1.nscanGene.LENGTH0.080.000.08
hg16.acembly.LENGTH0.3290.0000.330
hg16.ensGene.LENGTH0.0670.0000.067
hg16.exoniphy.LENGTH0.2240.0010.228
hg16.geneSymbol.LENGTH0.0950.0000.095
hg16.geneid.LENGTH0.0440.0010.045
hg16.genscan.LENGTH0.0570.0000.057
hg16.knownGene.LENGTH0.1110.0000.111
hg16.refGene.LENGTH0.0900.0010.091
hg16.sgpGene.LENGTH0.0520.0000.052
hg17.acembly.LENGTH0.3730.0010.374
hg17.acescan.LENGTH0.0080.0010.009
hg17.ccdsGene.LENGTH0.0200.0010.021
hg17.ensGene.LENGTH0.0980.0010.099
hg17.exoniphy.LENGTH0.3620.0000.362
hg17.geneSymbol.LENGTH0.0950.0000.095
hg17.geneid.LENGTH0.0670.0020.069
hg17.genscan.LENGTH0.0530.0010.054
hg17.knownGene.LENGTH0.0970.0010.098
hg17.refGene.LENGTH0.0890.0010.090
hg17.sgpGene.LENGTH0.0670.0000.067
hg17.vegaGene.LENGTH0.0390.0000.039
hg17.vegaPseudoGene.LENGTH0.0170.0000.017
hg17.xenoRefGene.LENGTH0.4270.0010.428
hg18.acembly.LENGTH0.4140.0010.415
hg18.acescan.LENGTH0.0080.0010.009
hg18.ccdsGene.LENGTH0.0310.0010.032
hg18.ensGene.LENGTH0.1710.0010.172
hg18.exoniphy.LENGTH0.4110.0030.414
hg18.geneSymbol.LENGTH0.0970.0010.098
hg18.geneid.LENGTH0.0710.0010.072
hg18.genscan.LENGTH0.0570.0000.057
hg18.knownGene.LENGTH0.1450.0000.145
hg18.knownGeneOld3.LENGTH0.0640.0000.064
hg18.refGene.LENGTH0.0890.0020.091
hg18.sgpGene.LENGTH0.0740.0000.074
hg18.sibGene.LENGTH0.7090.0070.716
hg18.xenoRefGene.LENGTH0.3130.0020.315
hg19.ccdsGene.LENGTH0.0380.0000.038
hg19.ensGene.LENGTH0.2750.0010.276
hg19.exoniphy.LENGTH0.4230.0030.426
hg19.geneSymbol.LENGTH0.0970.0010.098
hg19.knownGene.LENGTH0.1630.0000.163
hg19.nscanGene.LENGTH0.1440.0000.144
hg19.refGene.LENGTH0.0950.0000.095
hg19.xenoRefGene.LENGTH0.3400.0010.341
loxAfr3.xenoRefGene.LENGTH0.6990.0030.702
mm7.ensGene.LENGTH0.1080.0000.108
mm7.geneSymbol.LENGTH0.0880.0000.088
mm7.geneid.LENGTH0.0820.0000.082
mm7.genscan.LENGTH0.0600.0030.063
mm7.knownGene.LENGTH0.0900.0010.091
mm7.refGene.LENGTH0.0810.0010.082
mm7.sgpGene.LENGTH0.0750.0000.075
mm7.xenoRefGene.LENGTH0.2770.0030.280
mm8.ccdsGene.LENGTH0.0210.0000.021
mm8.ensGene.LENGTH0.0700.0010.071
mm8.geneSymbol.LENGTH0.0830.0010.084
mm8.geneid.LENGTH0.0730.0000.073
mm8.genscan.LENGTH0.0570.0020.059
mm8.knownGene.LENGTH0.0870.0010.087
mm8.nscanGene.LENGTH0.0570.0020.060
mm8.refGene.LENGTH0.3240.0010.325
mm8.sgpGene.LENGTH0.0770.0000.077
mm8.sibGene.LENGTH0.2340.0000.234
mm8.xenoRefGene.LENGTH0.3270.0020.329
mm9.acembly.LENGTH0.2910.0010.292
mm9.ccdsGene.LENGTH0.0280.0000.028
mm9.ensGene.LENGTH0.1380.0000.138
mm9.exoniphy.LENGTH0.4140.0020.416
mm9.geneSymbol.LENGTH0.0920.0000.092
mm9.geneid.LENGTH0.0820.0000.083
mm9.genscan.LENGTH0.0630.0000.063
mm9.knownGene.LENGTH0.1040.0000.104
mm9.nscanGene.LENGTH0.0610.0000.061
mm9.refGene.LENGTH0.0810.0010.083
mm9.sgpGene.LENGTH0.0830.0000.083
mm9.xenoRefGene.LENGTH0.7410.0010.743
monDom1.genscan.LENGTH0.0610.0000.061
monDom4.ensGene.LENGTH0.0680.0010.068
monDom4.geneSymbol.LENGTH0.0030.0000.004
monDom4.genscan.LENGTH0.0510.0000.051
monDom4.nscanGene.LENGTH0.0500.0010.051
monDom4.refGene.LENGTH0.0020.0010.004
monDom4.xenoRefGene.LENGTH0.3060.0020.308
monDom5.ensGene.LENGTH0.1040.0000.104
monDom5.geneSymbol.LENGTH0.0020.0010.004
monDom5.genscan.LENGTH0.0540.0000.054
monDom5.nscanGene.LENGTH0.1110.0010.111
monDom5.refGene.LENGTH0.0030.0000.003
monDom5.xenoRefGene.LENGTH0.5430.0000.542
ornAna1.ensGene.LENGTH0.0890.0010.090
ornAna1.geneSymbol.LENGTH0.0020.0000.003
ornAna1.refGene.LENGTH0.0000.0010.002
ornAna1.xenoRefGene.LENGTH0.5190.0020.521
oryLat2.ensGene.LENGTH1.1710.1181.289
oryLat2.geneSymbol.LENGTH0.0040.0000.003
oryLat2.refGene.LENGTH0.0030.0000.003
oryLat2.xenoRefGene.LENGTH0.4420.0010.443
panTro1.ensGene.LENGTH0.0880.0010.089
panTro1.geneid.LENGTH0.0430.0010.043
panTro1.genscan.LENGTH0.0530.0010.054
panTro1.xenoRefGene.LENGTH0.1020.0010.102
panTro2.ensGene.LENGTH0.1000.0010.101
panTro2.geneSymbol.LENGTH0.0920.0000.092
panTro2.genscan.LENGTH0.0550.0000.054
panTro2.nscanGene.LENGTH0.0550.0010.056
panTro2.refGene.LENGTH0.0920.0010.093
panTro2.xenoRefGene.LENGTH0.4380.0020.440
petMar1.xenoRefGene.LENGTH0.2400.0000.241
ponAbe2.ensGene.LENGTH0.0750.0000.076
ponAbe2.geneSymbol.LENGTH0.0120.0000.012
ponAbe2.genscan.LENGTH0.0560.0000.056
ponAbe2.nscanGene.LENGTH0.0540.0000.054
ponAbe2.refGene.LENGTH0.0100.0010.010
ponAbe2.xenoRefGene.LENGTH0.5610.0020.562
priPac1.xenoRefGene.LENGTH0.3210.0000.321
rheMac2.ensGene.LENGTH0.1130.0000.113
rheMac2.geneSymbol.LENGTH0.0040.0010.004
rheMac2.geneid.LENGTH0.0660.0000.065
rheMac2.nscanGene.LENGTH0.0540.0020.056
rheMac2.refGene.LENGTH0.0050.0000.005
rheMac2.sgpGene.LENGTH0.0640.0010.065
rheMac2.xenoRefGene.LENGTH0.4250.0020.426
rn3.ensGene.LENGTH0.0910.0000.091
rn3.geneSymbol.LENGTH0.0490.0000.050
rn3.geneid.LENGTH0.0470.0000.047
rn3.genscan.LENGTH0.0590.0000.058
rn3.knownGene.LENGTH0.0220.0000.022
rn3.nscanGene.LENGTH0.0550.0000.056
rn3.refGene.LENGTH0.0470.0000.047
rn3.sgpGene.LENGTH0.0510.0020.053
rn3.xenoRefGene.LENGTH0.4820.0030.484
rn4.ensGene.LENGTH0.1150.0020.116
rn4.geneSymbol.LENGTH0.0470.0020.049
rn4.geneid.LENGTH0.0760.0020.077
rn4.genscan.LENGTH0.0570.0000.057
rn4.knownGene.LENGTH0.0240.0000.023
rn4.nscanGene.LENGTH0.0490.0010.051
rn4.refGene.LENGTH0.0440.0010.045
rn4.sgpGene.LENGTH0.0730.0000.073
rn4.xenoRefGene.LENGTH0.3000.0020.301
sacCer1.ensGene.LENGTH0.0160.0010.017
sacCer2.ensGene.LENGTH0.0150.0000.015
strPur1.geneSymbol.LENGTH0.0040.0000.004
strPur1.genscan.LENGTH0.0600.0010.061
strPur1.refGene.LENGTH0.0040.0000.004
strPur1.xenoRefGene.LENGTH0.4070.0020.408
strPur2.geneSymbol.LENGTH0.0030.0000.004
strPur2.genscan.LENGTH0.0950.0020.098
strPur2.refGene.LENGTH0.0030.0000.003
strPur2.xenoRefGene.LENGTH0.5710.0020.574
supportedGeneIDs3.2790.1035.127
supportedGenomes0.2650.0221.172
taeGut1.ensGene.LENGTH0.0540.0020.055
taeGut1.geneSymbol.LENGTH0.0010.0010.002
taeGut1.genscan.LENGTH0.0280.0010.029
taeGut1.nscanGene.LENGTH0.0220.0010.023
taeGut1.refGene.LENGTH0.0010.0020.002
taeGut1.xenoRefGene.LENGTH0.3810.0180.399
tetNig1.ensGene.LENGTH0.0790.0040.083
tetNig1.geneid.LENGTH0.0580.0040.062
tetNig1.genscan.LENGTH0.0440.0020.046
tetNig1.nscanGene.LENGTH0.0650.0000.066
tetNig2.ensGene.LENGTH0.0630.0030.066
unfactor0.0040.0000.003
xenTro1.genscan.LENGTH0.0730.0040.076
xenTro2.ensGene.LENGTH0.0760.0120.089
xenTro2.geneSymbol.LENGTH0.030.000.03
xenTro2.genscan.LENGTH0.0650.0010.065
xenTro2.refGene.LENGTH0.0280.0000.027