Back to Build/check report for BioC 3.21 experimental data
ABCDEF[G]HIJKLMNOPQRSTUVWXYZ

This page was generated on 2025-10-02 15:01 -0400 (Thu, 02 Oct 2025).

HostnameOSArch (*)R versionInstalled pkgs
nebbiolo1Linux (Ubuntu 24.04.3 LTS)x86_644.5.1 (2025-06-13) -- "Great Square Root" 4831
Click on any hostname to see more info about the system (e.g. compilers)      (*) as reported by 'uname -p', except on Windows and Mac OS X

Package 147/432HostnameOS / ArchINSTALLBUILDCHECK
geneLenDataBase 1.44.0  (landing page)
Federico Marini
Snapshot Date: 2025-10-02 07:30 -0400 (Thu, 02 Oct 2025)
git_url: https://git.bioconductor.org/packages/geneLenDataBase
git_branch: RELEASE_3_21
git_last_commit: ad5f383
git_last_commit_date: 2025-04-15 09:16:59 -0400 (Tue, 15 Apr 2025)
nebbiolo1Linux (Ubuntu 24.04.3 LTS) / x86_64  OK    OK    OK  UNNEEDED, same version is already published


CHECK results for geneLenDataBase on nebbiolo1

To the developers/maintainers of the geneLenDataBase package:
- Use the following Renviron settings to reproduce errors and warnings.
- If 'R CMD check' started to fail recently on the Linux builder(s) over a missing dependency, add the missing dependency to 'Suggests:' in your DESCRIPTION file. See Renviron.bioc for more information.

raw results


Summary

Package: geneLenDataBase
Version: 1.44.0
Command: /home/biocbuild/bbs-3.21-bioc/R/bin/R CMD check --install=check:geneLenDataBase.install-out.txt --library=/home/biocbuild/bbs-3.21-bioc/R/site-library --timings geneLenDataBase_1.44.0.tar.gz
StartedAt: 2025-10-02 12:21:12 -0400 (Thu, 02 Oct 2025)
EndedAt: 2025-10-02 12:30:19 -0400 (Thu, 02 Oct 2025)
EllapsedTime: 546.8 seconds
RetCode: 0
Status:   OK  
CheckDir: geneLenDataBase.Rcheck
Warnings: 0

Command output

##############################################################################
##############################################################################
###
### Running command:
###
###   /home/biocbuild/bbs-3.21-bioc/R/bin/R CMD check --install=check:geneLenDataBase.install-out.txt --library=/home/biocbuild/bbs-3.21-bioc/R/site-library --timings geneLenDataBase_1.44.0.tar.gz
###
##############################################################################
##############################################################################


* using log directory ‘/home/biocbuild/bbs-3.21-data-experiment/meat/geneLenDataBase.Rcheck’
* using R version 4.5.1 (2025-06-13)
* using platform: x86_64-pc-linux-gnu
* R was compiled by
    gcc (Ubuntu 13.3.0-6ubuntu2~24.04) 13.3.0
    GNU Fortran (Ubuntu 13.3.0-6ubuntu2~24.04) 13.3.0
* running under: Ubuntu 24.04.3 LTS
* using session charset: UTF-8
* checking for file ‘geneLenDataBase/DESCRIPTION’ ... OK
* this is package ‘geneLenDataBase’ version ‘1.44.0’
* package encoding: UTF-8
* checking package namespace information ... OK
* checking package dependencies ... OK
* checking if this is a source package ... OK
* checking if there is a namespace ... OK
* checking for hidden files and directories ... OK
* checking for portable file names ... OK
* checking for sufficient/correct file permissions ... OK
* checking whether package ‘geneLenDataBase’ can be installed ... OK
* checking installed package size ... INFO
  installed size is 100.0Mb
  sub-directories of 1Mb or more:
    data  99.5Mb
* checking package directory ... OK
* checking DESCRIPTION meta-information ... OK
* checking top-level files ... OK
* checking for left-over files ... OK
* checking index information ... OK
* checking package subdirectories ... OK
* checking code files for non-ASCII characters ... OK
* checking R files for syntax errors ... OK
* checking whether the package can be loaded ... OK
* checking whether the package can be loaded with stated dependencies ... OK
* checking whether the package can be unloaded cleanly ... OK
* checking whether the namespace can be loaded with stated dependencies ... OK
* checking whether the namespace can be unloaded cleanly ... OK
* checking loading without being on the library search path ... OK
* checking dependencies in R code ... NOTE
Unexported object imported by a ':::' call: ‘txdbmaker:::.UCSC_TXNAME2GENEID_MAPDEFS’
  See the note in ?`:::` about the use of this operator.
* checking S3 generic/method consistency ... OK
* checking replacement functions ... OK
* checking foreign function calls ... OK
* checking R code for possible problems ... OK
* checking Rd files ... OK
* checking Rd metadata ... OK
* checking Rd cross-references ... OK
* checking for missing documentation entries ... OK
* checking for code/documentation mismatches ... OK
* checking Rd \usage sections ... OK
* checking Rd contents ... OK
* checking for unstated dependencies in examples ... OK
* checking contents of ‘data’ directory ... OK
* checking data for non-ASCII characters ... OK
* checking data for ASCII and uncompressed saves ... OK
* checking examples ... OK
Examples with CPU (user + system) or elapsed time > 5s
                  user system elapsed
supportedGeneIDs 3.214  0.173   6.152
* checking PDF version of manual ... OK
* DONE

Status: 1 NOTE
See
  ‘/home/biocbuild/bbs-3.21-data-experiment/meat/geneLenDataBase.Rcheck/00check.log’
for details.


Installation output

geneLenDataBase.Rcheck/00install.out

##############################################################################
##############################################################################
###
### Running command:
###
###   /home/biocbuild/bbs-3.21-bioc/R/bin/R CMD INSTALL geneLenDataBase
###
##############################################################################
##############################################################################


* installing to library ‘/home/biocbuild/bbs-3.21-bioc/R/site-library’
* installing *source* package ‘geneLenDataBase’ ...
** this is package ‘geneLenDataBase’ version ‘1.44.0’
** using staged installation
** R
** data
** byte-compile and prepare package for lazy loading
** help
*** installing help indices
** building package indices
** testing if installed package can be loaded from temporary location
** testing if installed package can be loaded from final location
** testing if installed package keeps a record of temporary installation path
* DONE (geneLenDataBase)

Tests output


Example timings

geneLenDataBase.Rcheck/geneLenDataBase-Ex.timings

nameusersystemelapsed
anoCar1.ensGene.LENGTH0.0770.0060.084
anoCar1.genscan.LENGTH0.0500.0010.051
anoCar1.xenoRefGene.LENGTH1.6210.0071.630
anoGam1.ensGene.LENGTH0.0620.0010.062
anoGam1.geneid.LENGTH0.0470.0000.047
anoGam1.genscan.LENGTH0.0400.0030.043
apiMel1.genscan.LENGTH0.0360.0010.036
apiMel2.ensGene.LENGTH0.0890.0010.090
apiMel2.geneid.LENGTH0.0470.0020.048
apiMel2.genscan.LENGTH0.0340.0010.035
aplCal1.xenoRefGene.LENGTH0.4780.0010.478
bosTau2.geneSymbol.LENGTH0.0420.0010.043
bosTau2.geneid.LENGTH0.3040.0180.322
bosTau2.genscan.LENGTH0.0850.0050.090
bosTau2.refGene.LENGTH0.0400.0020.041
bosTau2.sgpGene.LENGTH0.1020.0040.106
bosTau3.ensGene.LENGTH0.1060.0120.117
bosTau3.geneSymbol.LENGTH0.0370.0010.038
bosTau3.geneid.LENGTH0.1230.0000.123
bosTau3.genscan.LENGTH0.0750.0020.077
bosTau3.refGene.LENGTH0.0320.0020.034
bosTau3.sgpGene.LENGTH0.0920.0010.092
bosTau4.ensGene.LENGTH0.0960.0030.099
bosTau4.geneSymbol.LENGTH0.0350.0020.037
bosTau4.genscan.LENGTH0.0660.0020.069
bosTau4.nscanGene.LENGTH0.0310.0010.032
bosTau4.refGene.LENGTH0.0320.0020.034
braFlo1.xenoRefGene.LENGTH0.4120.0050.416
caeJap1.xenoRefGene.LENGTH0.4280.0070.434
caePb1.xenoRefGene.LENGTH0.4340.0020.437
caePb2.xenoRefGene.LENGTH0.4470.0000.447
caeRem2.xenoRefGene.LENGTH0.3960.0110.407
caeRem3.xenoRefGene.LENGTH0.3650.0010.366
calJac1.genscan.LENGTH0.0870.0000.088
calJac1.nscanGene.LENGTH0.1070.0020.109
calJac1.xenoRefGene.LENGTH0.6940.0030.696
canFam1.ensGene.LENGTH0.1080.0010.108
canFam1.geneSymbol.LENGTH0.0050.0010.006
canFam1.genscan.LENGTH0.0620.0010.062
canFam1.nscanGene.LENGTH0.0610.0000.062
canFam1.refGene.LENGTH0.0050.0010.006
canFam1.xenoRefGene.LENGTH0.6030.0160.619
canFam2.ensGene.LENGTH0.0870.0120.099
canFam2.geneSymbol.LENGTH0.0050.0010.006
canFam2.genscan.LENGTH0.0540.0020.056
canFam2.nscanGene.LENGTH0.1350.0070.141
canFam2.refGene.LENGTH0.0040.0010.005
canFam2.xenoRefGene.LENGTH0.5660.0000.566
cavPor3.ensGene.LENGTH0.0870.0020.088
cavPor3.genscan.LENGTH0.0990.0020.101
cavPor3.nscanGene.LENGTH0.0660.0010.067
cavPor3.xenoRefGene.LENGTH0.6010.0070.608
cb1.xenoRefGene.LENGTH0.3990.0020.401
cb3.xenoRefGene.LENGTH0.3830.0020.385
ce2.geneSymbol.LENGTH0.0730.0010.073
ce2.geneid.LENGTH0.0610.0010.063
ce2.refGene.LENGTH0.0690.0010.070
ce4.geneSymbol.LENGTH0.0720.0010.072
ce4.refGene.LENGTH0.0620.0000.062
ce4.xenoRefGene.LENGTH0.0860.0010.087
ce6.ensGene.LENGTH0.0990.0010.100
ce6.geneSymbol.LENGTH0.0720.0010.074
ce6.refGene.LENGTH0.0640.0030.066
ce6.xenoRefGene.LENGTH0.0860.0010.086
ci1.geneSymbol.LENGTH0.0040.0020.006
ci1.refGene.LENGTH0.0040.0010.005
ci1.xenoRefGene.LENGTH0.1890.0020.190
ci2.ensGene.LENGTH0.1900.0010.191
ci2.geneSymbol.LENGTH0.0040.0020.005
ci2.refGene.LENGTH0.0040.0010.004
ci2.xenoRefGene.LENGTH0.2570.0010.259
danRer3.ensGene.LENGTH0.1010.0000.101
danRer3.geneSymbol.LENGTH0.0520.0020.053
danRer3.refGene.LENGTH0.0490.0000.049
danRer4.ensGene.LENGTH0.1160.0010.116
danRer4.geneSymbol.LENGTH0.0530.0000.053
danRer4.genscan.LENGTH0.0590.0000.059
danRer4.nscanGene.LENGTH0.0890.0010.090
danRer4.refGene.LENGTH0.0480.0010.050
danRer5.ensGene.LENGTH0.1230.0010.124
danRer5.geneSymbol.LENGTH0.0510.0000.051
danRer5.refGene.LENGTH0.0430.0020.045
danRer5.vegaGene.LENGTH0.0470.0010.049
danRer5.vegaPseudoGene.LENGTH0.0030.0000.003
danRer6.ensGene.LENGTH0.1140.0000.113
danRer6.geneSymbol.LENGTH0.0510.0010.052
danRer6.refGene.LENGTH0.0440.0030.047
danRer6.xenoRefGene.LENGTH0.5310.0010.531
dm1.geneSymbol.LENGTH0.0640.0020.065
dm1.genscan.LENGTH0.0240.0010.026
dm1.refGene.LENGTH0.0600.0010.062
dm2.geneSymbol.LENGTH0.0640.0000.064
dm2.geneid.LENGTH0.0370.0010.038
dm2.genscan.LENGTH0.0240.0000.025
dm2.nscanGene.LENGTH0.0510.0020.053
dm2.refGene.LENGTH0.0580.0010.059
dm3.geneSymbol.LENGTH0.0720.0010.073
dm3.nscanPasaGene.LENGTH0.0540.0000.055
dm3.refGene.LENGTH0.0670.0020.070
downloadLengthFromUCSC0.0000.0000.001
dp2.genscan.LENGTH0.0320.0020.034
dp2.xenoRefGene.LENGTH0.2150.0050.219
dp3.geneid.LENGTH0.0430.0000.042
dp3.genscan.LENGTH0.0260.0010.027
dp3.xenoRefGene.LENGTH0.1080.0010.110
droAna1.geneid.LENGTH0.0700.0010.071
droAna1.genscan.LENGTH0.0210.0010.022
droAna1.xenoRefGene.LENGTH0.2090.0020.210
droAna2.genscan.LENGTH0.050.000.05
droAna2.xenoRefGene.LENGTH0.2690.0010.270
droEre1.genscan.LENGTH0.0290.0020.031
droEre1.xenoRefGene.LENGTH0.3650.0010.366
droGri1.genscan.LENGTH0.0400.0010.040
droGri1.xenoRefGene.LENGTH0.2880.0030.290
droMoj1.geneid.LENGTH0.2370.0040.240
droMoj1.genscan.LENGTH0.0540.0010.055
droMoj1.xenoRefGene.LENGTH0.2040.0010.204
droMoj2.genscan.LENGTH0.0370.0000.036
droMoj2.xenoRefGene.LENGTH0.2630.0010.263
droPer1.genscan.LENGTH0.0360.0030.039
droPer1.xenoRefGene.LENGTH0.2700.0020.272
droSec1.genscan.LENGTH0.0270.0020.029
droSec1.xenoRefGene.LENGTH0.2510.0010.252
droSim1.geneid.LENGTH0.0380.0010.038
droSim1.genscan.LENGTH0.0250.0000.025
droSim1.xenoRefGene.LENGTH0.2160.0020.218
droVir1.geneid.LENGTH0.1620.0000.162
droVir1.genscan.LENGTH0.0400.0010.041
droVir1.xenoRefGene.LENGTH0.2250.0010.227
droVir2.genscan.LENGTH0.0300.0040.034
droVir2.xenoRefGene.LENGTH0.2590.0010.259
droYak1.geneid.LENGTH0.0430.0020.045
droYak1.genscan.LENGTH0.0280.0020.031
droYak1.xenoRefGene.LENGTH0.2190.0000.218
droYak2.genscan.LENGTH0.0280.0000.027
droYak2.xenoRefGene.LENGTH0.2520.0020.254
equCab1.geneSymbol.LENGTH0.0060.0000.005
equCab1.geneid.LENGTH0.0970.0000.097
equCab1.nscanGene.LENGTH0.0390.0010.041
equCab1.refGene.LENGTH0.0040.0010.004
equCab1.sgpGene.LENGTH0.0690.0000.069
equCab2.ensGene.LENGTH0.0920.0000.092
equCab2.geneSymbol.LENGTH0.0060.0010.007
equCab2.nscanGene.LENGTH0.0490.0000.050
equCab2.refGene.LENGTH0.0040.0020.007
equCab2.xenoRefGene.LENGTH0.8080.0030.812
felCat3.ensGene.LENGTH0.1080.0010.108
felCat3.geneSymbol.LENGTH0.0010.0030.004
felCat3.geneid.LENGTH0.4960.0050.501
felCat3.genscan.LENGTH0.1110.0060.117
felCat3.nscanGene.LENGTH1.0560.1171.172
felCat3.refGene.LENGTH0.0030.0010.004
felCat3.sgpGene.LENGTH0.1370.0020.139
felCat3.xenoRefGene.LENGTH1.0770.0051.082
fr1.ensGene.LENGTH0.0710.0010.072
fr1.genscan.LENGTH0.0540.0000.054
fr2.ensGene.LENGTH0.1210.0020.123
galGal2.ensGene.LENGTH0.0510.0030.054
galGal2.geneSymbol.LENGTH0.0140.0010.015
galGal2.geneid.LENGTH0.0350.0010.036
galGal2.genscan.LENGTH0.0460.0010.047
galGal2.refGene.LENGTH0.0150.0000.015
galGal2.sgpGene.LENGTH0.040.000.04
galGal3.ensGene.LENGTH0.0680.0030.071
galGal3.geneSymbol.LENGTH0.0140.0020.016
galGal3.genscan.LENGTH0.0450.0010.046
galGal3.nscanGene.LENGTH0.0640.0030.067
galGal3.refGene.LENGTH0.0120.0010.013
galGal3.xenoRefGene.LENGTH0.4790.0050.484
gasAcu1.ensGene.LENGTH0.0860.0020.088
gasAcu1.nscanGene.LENGTH0.090.000.09
hg16.acembly.LENGTH0.3410.0070.348
hg16.ensGene.LENGTH0.0700.0010.071
hg16.exoniphy.LENGTH0.2360.0080.244
hg16.geneSymbol.LENGTH0.1030.0040.107
hg16.geneid.LENGTH0.0460.0010.047
hg16.genscan.LENGTH0.0640.0010.065
hg16.knownGene.LENGTH0.1180.0030.121
hg16.refGene.LENGTH0.0970.0000.097
hg16.sgpGene.LENGTH0.0550.0010.056
hg17.acembly.LENGTH0.4320.0090.441
hg17.acescan.LENGTH0.0110.0000.011
hg17.ccdsGene.LENGTH0.0250.0010.026
hg17.ensGene.LENGTH0.1050.0020.107
hg17.exoniphy.LENGTH0.3890.0000.389
hg17.geneSymbol.LENGTH0.1070.0030.110
hg17.geneid.LENGTH0.0740.0010.075
hg17.genscan.LENGTH0.0560.0020.058
hg17.knownGene.LENGTH0.1130.0010.113
hg17.refGene.LENGTH0.1020.0000.102
hg17.sgpGene.LENGTH0.0710.0020.073
hg17.vegaGene.LENGTH1.0330.0021.034
hg17.vegaPseudoGene.LENGTH0.0150.0010.016
hg17.xenoRefGene.LENGTH0.1770.0010.178
hg18.acembly.LENGTH0.4200.0020.422
hg18.acescan.LENGTH0.0080.0010.009
hg18.ccdsGene.LENGTH0.0320.0000.032
hg18.ensGene.LENGTH0.1760.0030.179
hg18.exoniphy.LENGTH0.4260.0010.427
hg18.geneSymbol.LENGTH0.0960.0020.098
hg18.geneid.LENGTH0.0720.0010.073
hg18.genscan.LENGTH0.0600.0010.061
hg18.knownGene.LENGTH0.1470.0010.148
hg18.knownGeneOld3.LENGTH0.0660.0010.067
hg18.refGene.LENGTH0.090.000.09
hg18.sgpGene.LENGTH0.0670.0030.070
hg18.sibGene.LENGTH0.3290.0000.329
hg18.xenoRefGene.LENGTH0.3380.0010.339
hg19.ccdsGene.LENGTH0.0390.0010.041
hg19.ensGene.LENGTH0.2870.0010.288
hg19.exoniphy.LENGTH0.4170.0010.418
hg19.geneSymbol.LENGTH0.0990.0000.099
hg19.knownGene.LENGTH0.1710.0020.173
hg19.nscanGene.LENGTH0.1560.0010.156
hg19.refGene.LENGTH0.1010.0000.101
hg19.xenoRefGene.LENGTH0.3850.0010.388
loxAfr3.xenoRefGene.LENGTH0.7760.0020.779
mm7.ensGene.LENGTH0.1210.0000.120
mm7.geneSymbol.LENGTH0.0900.0010.092
mm7.geneid.LENGTH0.0740.0010.075
mm7.genscan.LENGTH0.2670.0000.267
mm7.knownGene.LENGTH0.0930.0000.092
mm7.refGene.LENGTH0.080.000.08
mm7.sgpGene.LENGTH0.0760.0010.076
mm7.xenoRefGene.LENGTH0.3010.0020.303
mm8.ccdsGene.LENGTH0.0200.0020.022
mm8.ensGene.LENGTH0.0760.0010.076
mm8.geneSymbol.LENGTH0.0820.0010.083
mm8.geneid.LENGTH0.0680.0030.070
mm8.genscan.LENGTH0.0570.0010.057
mm8.knownGene.LENGTH0.0890.0030.091
mm8.nscanGene.LENGTH0.0590.0010.060
mm8.refGene.LENGTH0.0790.0000.079
mm8.sgpGene.LENGTH0.0670.0020.068
mm8.sibGene.LENGTH0.4420.0070.449
mm8.xenoRefGene.LENGTH0.3300.0000.331
mm9.acembly.LENGTH0.2790.0030.283
mm9.ccdsGene.LENGTH0.0270.0010.029
mm9.ensGene.LENGTH0.1360.0010.137
mm9.exoniphy.LENGTH0.4000.0020.402
mm9.geneSymbol.LENGTH0.0870.0000.088
mm9.geneid.LENGTH0.0820.0010.083
mm9.genscan.LENGTH0.0600.0010.060
mm9.knownGene.LENGTH0.2260.0010.227
mm9.nscanGene.LENGTH0.0580.0000.059
mm9.refGene.LENGTH0.0840.0010.085
mm9.sgpGene.LENGTH0.0770.0030.080
mm9.xenoRefGene.LENGTH0.3200.0020.322
monDom1.genscan.LENGTH0.0610.0000.061
monDom4.ensGene.LENGTH0.0670.0010.068
monDom4.geneSymbol.LENGTH0.0020.0020.004
monDom4.genscan.LENGTH0.0500.0000.051
monDom4.nscanGene.LENGTH0.050.000.05
monDom4.refGene.LENGTH0.0030.0010.004
monDom4.xenoRefGene.LENGTH0.3250.0050.330
monDom5.ensGene.LENGTH0.1010.0010.102
monDom5.geneSymbol.LENGTH0.0030.0010.003
monDom5.genscan.LENGTH0.0500.0020.051
monDom5.nscanGene.LENGTH0.1030.0010.103
monDom5.refGene.LENGTH0.0020.0010.003
monDom5.xenoRefGene.LENGTH0.5580.0020.560
ornAna1.ensGene.LENGTH0.0890.0010.089
ornAna1.geneSymbol.LENGTH0.0010.0020.003
ornAna1.refGene.LENGTH0.0010.0010.003
ornAna1.xenoRefGene.LENGTH0.5480.0030.551
oryLat2.ensGene.LENGTH0.0780.0020.079
oryLat2.geneSymbol.LENGTH0.0030.0010.005
oryLat2.refGene.LENGTH0.0020.0020.004
oryLat2.xenoRefGene.LENGTH0.4930.0030.497
panTro1.ensGene.LENGTH0.5420.0010.544
panTro1.geneid.LENGTH0.0460.0020.047
panTro1.genscan.LENGTH0.0580.0020.060
panTro1.xenoRefGene.LENGTH0.1050.0020.107
panTro2.ensGene.LENGTH0.1050.0010.106
panTro2.geneSymbol.LENGTH0.0920.0020.093
panTro2.genscan.LENGTH0.0590.0010.059
panTro2.nscanGene.LENGTH0.0600.0010.061
panTro2.refGene.LENGTH0.0940.0010.094
panTro2.xenoRefGene.LENGTH0.4570.0010.457
petMar1.xenoRefGene.LENGTH0.250.000.25
ponAbe2.ensGene.LENGTH0.0850.0010.087
ponAbe2.geneSymbol.LENGTH0.0110.0010.013
ponAbe2.genscan.LENGTH0.0590.0000.060
ponAbe2.nscanGene.LENGTH0.0580.0010.059
ponAbe2.refGene.LENGTH0.0110.0010.011
ponAbe2.xenoRefGene.LENGTH0.5840.0030.586
priPac1.xenoRefGene.LENGTH0.3360.0000.336
rheMac2.ensGene.LENGTH0.1260.0010.127
rheMac2.geneSymbol.LENGTH0.0050.0000.005
rheMac2.geneid.LENGTH0.0720.0010.072
rheMac2.nscanGene.LENGTH0.0620.0000.063
rheMac2.refGene.LENGTH0.0040.0010.005
rheMac2.sgpGene.LENGTH0.0750.0010.076
rheMac2.xenoRefGene.LENGTH0.4320.0020.434
rn3.ensGene.LENGTH0.0940.0000.093
rn3.geneSymbol.LENGTH0.0500.0010.051
rn3.geneid.LENGTH0.0510.0000.051
rn3.genscan.LENGTH0.0630.0020.064
rn3.knownGene.LENGTH0.0220.0010.023
rn3.nscanGene.LENGTH0.2400.0020.242
rn3.refGene.LENGTH0.0490.0010.050
rn3.sgpGene.LENGTH0.0560.0020.058
rn3.xenoRefGene.LENGTH0.4990.0030.501
rn4.ensGene.LENGTH0.1240.0000.124
rn4.geneSymbol.LENGTH0.0510.0010.052
rn4.geneid.LENGTH0.0850.0010.085
rn4.genscan.LENGTH0.0630.0010.063
rn4.knownGene.LENGTH0.0240.0000.024
rn4.nscanGene.LENGTH0.0490.0030.053
rn4.refGene.LENGTH0.0460.0010.047
rn4.sgpGene.LENGTH0.0790.0020.081
rn4.xenoRefGene.LENGTH0.3200.0010.321
sacCer1.ensGene.LENGTH0.0170.0010.018
sacCer2.ensGene.LENGTH0.0160.0000.017
strPur1.geneSymbol.LENGTH0.0040.0010.005
strPur1.genscan.LENGTH0.0610.0010.061
strPur1.refGene.LENGTH0.0040.0010.004
strPur1.xenoRefGene.LENGTH0.4670.0010.468
strPur2.geneSymbol.LENGTH0.0040.0000.004
strPur2.genscan.LENGTH0.1020.0030.105
strPur2.refGene.LENGTH0.0020.0010.004
strPur2.xenoRefGene.LENGTH0.6200.0030.623
supportedGeneIDs3.2140.1736.152
supportedGenomes0.2420.0091.025
taeGut1.ensGene.LENGTH0.0580.0020.060
taeGut1.geneSymbol.LENGTH0.0020.0010.003
taeGut1.genscan.LENGTH0.0280.0020.029
taeGut1.nscanGene.LENGTH0.0220.0020.023
taeGut1.refGene.LENGTH0.0020.0010.003
taeGut1.xenoRefGene.LENGTH0.4040.0010.404
tetNig1.ensGene.LENGTH0.0780.0020.080
tetNig1.geneid.LENGTH0.0560.0030.058
tetNig1.genscan.LENGTH0.0460.0000.046
tetNig1.nscanGene.LENGTH0.0620.0010.063
tetNig2.ensGene.LENGTH0.0640.0020.066
unfactor0.0030.0030.006
xenTro1.genscan.LENGTH0.0780.0020.081
xenTro2.ensGene.LENGTH0.0820.0020.084
xenTro2.geneSymbol.LENGTH0.0280.0020.030
xenTro2.genscan.LENGTH0.0660.0000.066
xenTro2.refGene.LENGTH0.0260.0010.027