| Back to Build/check report for BioC 3.22 experimental data |
|
This page was generated on 2025-11-04 15:41 -0500 (Tue, 04 Nov 2025).
| Hostname | OS | Arch (*) | R version | Installed pkgs |
|---|---|---|---|---|
| nebbiolo2 | Linux (Ubuntu 24.04.3 LTS) | x86_64 | 4.5.1 Patched (2025-08-23 r88802) -- "Great Square Root" | 4902 |
| Click on any hostname to see more info about the system (e.g. compilers) (*) as reported by 'uname -p', except on Windows and Mac OS X | ||||
| Package 212/435 | Hostname | OS / Arch | INSTALL | BUILD | CHECK | ||||||||
| KEGGdzPathwaysGEO 1.48.0 (landing page) Gaurav Bhatti
| nebbiolo2 | Linux (Ubuntu 24.04.3 LTS) / x86_64 | OK | OK | OK | ||||||||
|
To the developers/maintainers of the KEGGdzPathwaysGEO package: - Use the following Renviron settings to reproduce errors and warnings. - If 'R CMD check' started to fail recently on the Linux builder(s) over a missing dependency, add the missing dependency to 'Suggests:' in your DESCRIPTION file. See Renviron.bioc for more information. |
| Package: KEGGdzPathwaysGEO |
| Version: 1.48.0 |
| Command: /home/biocbuild/bbs-3.22-bioc/R/bin/R CMD check --install=check:KEGGdzPathwaysGEO.install-out.txt --library=/home/biocbuild/bbs-3.22-bioc/R/site-library --timings KEGGdzPathwaysGEO_1.48.0.tar.gz |
| StartedAt: 2025-11-04 12:29:31 -0500 (Tue, 04 Nov 2025) |
| EndedAt: 2025-11-04 12:34:24 -0500 (Tue, 04 Nov 2025) |
| EllapsedTime: 293.9 seconds |
| RetCode: 0 |
| Status: OK |
| CheckDir: KEGGdzPathwaysGEO.Rcheck |
| Warnings: 0 |
##############################################################################
##############################################################################
###
### Running command:
###
### /home/biocbuild/bbs-3.22-bioc/R/bin/R CMD check --install=check:KEGGdzPathwaysGEO.install-out.txt --library=/home/biocbuild/bbs-3.22-bioc/R/site-library --timings KEGGdzPathwaysGEO_1.48.0.tar.gz
###
##############################################################################
##############################################################################
* using log directory ‘/home/biocbuild/bbs-3.22-data-experiment/meat/KEGGdzPathwaysGEO.Rcheck’
* using R version 4.5.1 Patched (2025-08-23 r88802)
* using platform: x86_64-pc-linux-gnu
* R was compiled by
gcc (Ubuntu 13.3.0-6ubuntu2~24.04) 13.3.0
GNU Fortran (Ubuntu 13.3.0-6ubuntu2~24.04) 13.3.0
* running under: Ubuntu 24.04.3 LTS
* using session charset: UTF-8
* checking for file ‘KEGGdzPathwaysGEO/DESCRIPTION’ ... OK
* checking extension type ... Package
* this is package ‘KEGGdzPathwaysGEO’ version ‘1.48.0’
* checking package namespace information ... OK
* checking package dependencies ... OK
* checking if this is a source package ... OK
* checking if there is a namespace ... OK
* checking for hidden files and directories ... OK
* checking for portable file names ... OK
* checking for sufficient/correct file permissions ... OK
* checking whether package ‘KEGGdzPathwaysGEO’ can be installed ... OK
* checking installed package size ... INFO
installed size is 300.8Mb
sub-directories of 1Mb or more:
data 300.6Mb
* checking package directory ... OK
* checking DESCRIPTION meta-information ... OK
* checking top-level files ... OK
* checking for left-over files ... OK
* checking index information ... OK
* checking package subdirectories ... OK
* checking code files for non-ASCII characters ... OK
* checking R files for syntax errors ... OK
* checking whether the package can be loaded ... OK
* checking whether the package can be loaded with stated dependencies ... OK
* checking whether the package can be unloaded cleanly ... OK
* checking whether the namespace can be loaded with stated dependencies ... OK
* checking whether the namespace can be unloaded cleanly ... OK
* checking loading without being on the library search path ... OK
* checking dependencies in R code ... NOTE
Namespaces in Imports field not imported from:
‘Biobase’ ‘BiocGenerics’
All declared Imports should be used.
* checking S3 generic/method consistency ... OK
* checking replacement functions ... OK
* checking foreign function calls ... OK
* checking R code for possible problems ... OK
* checking Rd files ... OK
* checking Rd metadata ... OK
* checking Rd cross-references ... OK
* checking for missing documentation entries ... OK
* checking for code/documentation mismatches ... OK
* checking Rd \usage sections ... OK
* checking Rd contents ... OK
* checking for unstated dependencies in examples ... OK
* checking contents of ‘data’ directory ... OK
* checking data for non-ASCII characters ... OK
* checking data for ASCII and uncompressed saves ... OK
* checking examples ... OK
* checking PDF version of manual ... OK
* DONE
Status: 1 NOTE
See
‘/home/biocbuild/bbs-3.22-data-experiment/meat/KEGGdzPathwaysGEO.Rcheck/00check.log’
for details.
KEGGdzPathwaysGEO.Rcheck/00install.out
############################################################################## ############################################################################## ### ### Running command: ### ### /home/biocbuild/bbs-3.22-bioc/R/bin/R CMD INSTALL KEGGdzPathwaysGEO ### ############################################################################## ############################################################################## * installing to library ‘/home/biocbuild/bbs-3.22-bioc/R/site-library’ * installing *source* package ‘KEGGdzPathwaysGEO’ ... ** this is package ‘KEGGdzPathwaysGEO’ version ‘1.48.0’ ** using staged installation ** R ** data ** byte-compile and prepare package for lazy loading ** help *** installing help indices ** building package indices ** testing if installed package can be loaded from temporary location ** testing if installed package can be loaded from final location ** testing if installed package keeps a record of temporary installation path * DONE (KEGGdzPathwaysGEO)
KEGGdzPathwaysGEO.Rcheck/KEGGdzPathwaysGEO-Ex.timings
| name | user | system | elapsed | |
| GSE1297 | 0.050 | 0.007 | 0.057 | |
| GSE14762 | 0.116 | 0.004 | 0.121 | |
| GSE15471 | 0.259 | 0.018 | 0.278 | |
| GSE16515 | 0.149 | 0.008 | 0.158 | |
| GSE18842 | 0.304 | 0.043 | 0.347 | |
| GSE19188 | 0.561 | 0.077 | 0.639 | |
| GSE19728 | 0.112 | 0.001 | 0.113 | |
| GSE20153 | 0.095 | 0.005 | 0.101 | |
| GSE20291 | 0.061 | 0.006 | 0.067 | |
| GSE21354 | 0.106 | 0.001 | 0.107 | |
| GSE3467 | 0.102 | 0.002 | 0.105 | |
| GSE3585 | 0.036 | 0.001 | 0.037 | |
| GSE3678 | 0.091 | 0.002 | 0.094 | |
| GSE4107 | 0.119 | 0.002 | 0.121 | |
| GSE5281_EC | 0.110 | 0.003 | 0.114 | |
| GSE5281_HIP | 0.124 | 0.003 | 0.127 | |
| GSE5281_VCX | 0.139 | 0.004 | 0.143 | |
| GSE6956AA | 0.035 | 0.000 | 0.035 | |
| GSE6956C | 0.077 | 0.007 | 0.084 | |
| GSE781 | 0.041 | 0.000 | 0.042 | |
| GSE8671 | 0.248 | 0.005 | 0.253 | |
| GSE8762 | 0.112 | 0.010 | 0.122 | |
| GSE9348 | 0.300 | 0.005 | 0.306 | |
| GSE9476 | 0.101 | 0.002 | 0.104 | |
| KEGGdzPathwaysGEO-package | 0.289 | 0.017 | 0.306 | |