| Back to Multiple platform build/check report for BioC 3.22: simplified long |
|
This page was generated on 2025-11-12 11:58 -0500 (Wed, 12 Nov 2025).
| Hostname | OS | Arch (*) | R version | Installed pkgs |
|---|---|---|---|---|
| nebbiolo2 | Linux (Ubuntu 24.04.3 LTS) | x86_64 | 4.5.1 Patched (2025-08-23 r88802) -- "Great Square Root" | 4902 |
| taishan | Linux (openEuler 24.03 LTS) | aarch64 | 4.5.0 (2025-04-11) -- "How About a Twenty-Six" | 4668 |
| Click on any hostname to see more info about the system (e.g. compilers) (*) as reported by 'uname -p', except on Windows and Mac OS X | ||||
| Package 2339/2361 | Hostname | OS / Arch | INSTALL | BUILD | CHECK | BUILD BIN | ||||||||
| wppi 1.18.0 (landing page) Ana Galhoz
| nebbiolo2 | Linux (Ubuntu 24.04.3 LTS) / x86_64 | OK | OK | OK | |||||||||
| taishan | Linux (openEuler 24.03 LTS) / aarch64 | OK | OK | OK | ||||||||||
|
To the developers/maintainers of the wppi package: - Allow up to 24 hours (and sometimes 48 hours) for your latest push to git@git.bioconductor.org:packages/wppi.git to reflect on this report. See Troubleshooting Build Report for more information. - Use the following Renviron settings to reproduce errors and warnings. - If 'R CMD check' started to fail recently on the Linux builder(s) over a missing dependency, add the missing dependency to 'Suggests:' in your DESCRIPTION file. See Renviron.bioc for more information. - See Martin Grigorov's blog post for how to debug Linux ARM64 related issues on a x86_64 host. |
| Package: wppi |
| Version: 1.18.0 |
| Command: /home/biocbuild/R/R/bin/R CMD check --install=check:wppi.install-out.txt --library=/home/biocbuild/R/R/site-library --no-vignettes --timings wppi_1.18.0.tar.gz |
| StartedAt: 2025-11-11 16:19:13 -0000 (Tue, 11 Nov 2025) |
| EndedAt: 2025-11-11 16:29:30 -0000 (Tue, 11 Nov 2025) |
| EllapsedTime: 617.3 seconds |
| RetCode: 0 |
| Status: OK |
| CheckDir: wppi.Rcheck |
| Warnings: 0 |
##############################################################################
##############################################################################
###
### Running command:
###
### /home/biocbuild/R/R/bin/R CMD check --install=check:wppi.install-out.txt --library=/home/biocbuild/R/R/site-library --no-vignettes --timings wppi_1.18.0.tar.gz
###
##############################################################################
##############################################################################
* using log directory ‘/home/biocbuild/bbs-3.22-bioc/meat/wppi.Rcheck’
* using R version 4.5.0 (2025-04-11)
* using platform: aarch64-unknown-linux-gnu
* R was compiled by
aarch64-unknown-linux-gnu-gcc (GCC) 14.2.0
GNU Fortran (GCC) 14.2.0
* running under: openEuler 24.03 (LTS)
* using session charset: UTF-8
* using option ‘--no-vignettes’
* checking for file ‘wppi/DESCRIPTION’ ... OK
* checking extension type ... Package
* this is package ‘wppi’ version ‘1.18.0’
* package encoding: UTF-8
* checking package namespace information ... OK
* checking package dependencies ... OK
* checking if this is a source package ... OK
* checking if there is a namespace ... OK
* checking for hidden files and directories ... OK
* checking for portable file names ... OK
* checking for sufficient/correct file permissions ... OK
* checking whether package ‘wppi’ can be installed ... OK
* checking installed package size ... OK
* checking package directory ... OK
* checking ‘build’ directory ... OK
* checking DESCRIPTION meta-information ... NOTE
License stub is invalid DCF.
* checking top-level files ... OK
* checking for left-over files ... OK
* checking index information ... OK
* checking package subdirectories ... OK
* checking code files for non-ASCII characters ... OK
* checking R files for syntax errors ... OK
* checking whether the package can be loaded ... OK
* checking whether the package can be loaded with stated dependencies ... OK
* checking whether the package can be unloaded cleanly ... OK
* checking whether the namespace can be loaded with stated dependencies ... OK
* checking whether the namespace can be unloaded cleanly ... OK
* checking loading without being on the library search path ... OK
* checking whether startup messages can be suppressed ... NOTE
[2025-11-11 16:20:01] [TRACE] [OmnipathR] Reading JSON from `/home/biocbuild/.cache/OmnipathR/cache.json` (encoding: UTF-8).
[2025-11-11 16:20:01] [TRACE] [OmnipathR] JSON validation successful: TRUE
[2025-11-11 16:20:01] [INFO] [OmnipathR] Initialized cache: `/home/biocbuild/.cache/OmnipathR`.
[2025-11-11 16:20:01] [INFO] [OmnipathR] Package `OmnipathR` packaged: NA
[2025-11-11 16:20:01] [INFO] [OmnipathR] Package `OmnipathR` date/publication: 2025-11-10
[2025-11-11 16:20:01] [INFO] [OmnipathR] Package `OmnipathR` built: R 4.5.0; ; 2025-11-10 21:12:39 UTC; unix
[2025-11-11 16:20:01] [INFO] [OmnipathR] Package `OmnipathR` version: 3.18.0
[2025-11-11 16:20:01] [INFO] [OmnipathR] Package `OmnipathR` repository: Bioconductor 3.22
[2025-11-11 16:20:01] [INFO] [OmnipathR] Session info: [version=R version 4.5.0 (2025-04-11); os=openEuler 24.03 (LTS); system=aarch64, linux-gnu; ui=X11; language=(EN); collate=C; ctype=en_US.UTF-8; tz=UTC; date=2025-11-11; pandoc=2.12 @ /home/biocbuild/bin/ (via rmarkdown); quarto=1.7.32 @ /home/biocbuild/bioconductor/quarto-1.7.32/bin/quarto]
[2025-11-11 16:20:01] [INFO] [OmnipathR] External libraries: [cairo=1.18.0; cairoFT=; pango=1.51.0; png=1.6.47; jpeg=6.2; tiff=LIBTIFF, Version 4.7.0; tcl=8.6.14; curl=8.13.0; zlib=1.3.1; bzlib=1.0.8, 13-Jul-2019; xz=5.8.1; deflate=; PCRE=10.44 2024-06-07; ICU=74.1; TRE=TRE 0.8.0 R_fixes (BSD); iconv=glibc 2.38; readline=8.2; BLAS=/usr/lib64/libopenblas-r0.3.25.so; lapack=/usr/lib64/libopenblas-r0.3.25.so; lapack_version=3.11.0]
[2025-11-11 16:20:01] [INFO] [OmnipathR] Loaded packages: backports 1.5.0(2024-05-23); bit 4.6.0(2025-03-06); bit64 4.6.0-1(2025-01-16); blob 1.2.4(2023-03-17); cachem 1.1.0(2024-05-16); cellranger 1.1.0(2016-07-27); checkmate 2.3.3(2025-08-18); chromote 0.5.1(2025-04-24); cli 3.6.5(2025-04-23); crayon 1.5.3(2024-06-20); curl 7.0.0(2025-08-19); DBI 1.2.3(2024-06-02); digest 0.6.37(2024-08-19); dplyr 1.1.4(2023-11-17); evaluate 1.0.5(2025-08-27); fastmap 1.2.0(2024-05-15); fs 1.6.6(2025-04-12); generics 0.1.4(2025-05-09); glue 1.8.0(2024-09-30); hms 1.1.4(2025-10-17); htmltools 0.5.8.1(2024-04-04); httr 1.4.7(2023-08-15); httr2 1.2.1(2025-07-22); igraph 2.2.1(2025-10-27); jsonlite 2.0.0(2025-03-27); knitr 1.50(2025-03-16); later 1.4.4(2025-08-27); lattice 0.22-7(2025-04-02); lifecycle 1.0.4(2023-11-07); logger 0.4.1(2025-09-11); lubridate 1.9.4(2024-12-08); magrittr 2.0.4(2025-09-12); Matrix 1.7-4(2025-08-28); memoise 2.0.1(2021-11-26); OmnipathR 3.18.0(2025-11-10); otel 0.2.0(2025-08-29); pillar 1.11.1(2025-09-17); pkgconfig 2.0.3(2019-09-22); prettyunits 1.2.0(2023-09-24); processx 3.8.6(2025-02-21); progress 1.2.3(2023-12-06); promises 1.5.0(2025-11-01); ps 1.9.1(2025-04-12); purrr 1.1.0(2025-07-10); R.methodsS3 1.8.2(2022-06-13); R.oo 1.27.1(2025-05-02); R.utils 2.13.0(2025-02-24); R6 2.6.1(2025-02-15); rappdirs 0.3.3(2021-01-31); Rcpp 1.1.0(2025-07-02); readr 2.1.5(2024-01-10); readxl 1.4.5(2025-03-07); rlang 1.1.6(2025-04-11); rmarkdown 2.30(2025-09-28); RSQLite 2.4.3(2025-08-20); rvest 1.0.5(2025-08-29); sessioninfo 1.2.3(2025-02-05); stringi 1.8.7(2025-03-27); stringr 1.5.2(2025-09-08); tibble 3.3.0(2025-06-08); tidyr 1.3.1(2024-01-24); tidyselect 1.2.1(2024-03-11); timechange 0.3.0(2024-01-18); tzdb 0.5.0(2025-03-15); vctrs 0.6.5(2023-12-01); websocket 1.4.4(2025-04-10); withr 3.0.2(2024-10-28); wppi 1.18.0(2025-11-10); xfun 0.54(2025-10-30); XML 3.99-0.19(2025-08-22); xml2 1.4.1(2025-10-27); yaml 2.3.10(2024-07-26); zip 2.3.3(2025-05-13)
[2025-11-11 16:20:02] [INFO] [OmnipathR] CURL: version: 8.13.0; headers: 8.13.0; ssl_version: OpenSSL/3.5.0; libz_version: 1.3.1; libssh_version: libssh2/1.11.1; libidn_version: NA; host: aarch64-conda-linux-gnu; protocols: dict, file, ftp, ftps, gopher, gophers, http, https, imap, imaps, mqtt, pop3, pop3s, rtsp, scp, sftp, smb, smbs, smtp, smtps, telnet, tftp, ws, wss; ipv6: TRUE; http2: TRUE; idn: FALSE; url_parser: TRUE
[2025-11-11 16:20:02] [TRACE] [OmnipathR] Running on a build server, wiping cache.
[2025-11-11 16:20:02] [TRACE] [OmnipathR] Cache is at `/home/biocbuild/.cache/OmnipathR`.
[2025-11-11 16:20:02] [TRACE] [OmnipathR] Contains 1 files.
[2025-11-11 16:20:02] [TRACE] [OmnipathR] Cache is locked: FALSE.
[2025-11-11 16:20:02] [TRACE] [OmnipathR] Reading JSON from `/home/biocbuild/.cache/OmnipathR/cache.json` (encoding: UTF-8).
[2025-11-11 16:20:02] [TRACE] [OmnipathR] JSON validation successful: TRUE
[2025-11-11 16:20:02] [SUCCESS] [OmnipathR] Removing all cache contents from `/home/biocbuild/.cache/OmnipathR`.
[2025-11-11 16:20:02] [TRACE] [OmnipathR] Pandoc version: `2.12`.
[2025-11-11 16:20:02] [TRACE] [OmnipathR] Reading JSON from `/home/biocbuild/R/R-4.5.0/site-library/OmnipathR/db/db_def.json` (encoding: UTF-8).
[2025-11-11 16:20:02] [TRACE] [OmnipathR] JSON validation successful: TRUE
[2025-11-11 16:20:02] [TRACE] [OmnipathR] Reading JSON from `/home/biocbuild/R/R-4.5.0/site-library/OmnipathR/internal/magic_bytes.json` (encoding: UTF-8).
[2025-11-11 16:20:02] [TRACE] [OmnipathR] JSON validation successful: TRUE
[2025-11-11 16:20:02] [TRACE] [OmnipathR] Reading JSON from `/home/biocbuild/R/R-4.5.0/site-library/OmnipathR/internal/urls.json` (encoding: UTF-8).
[2025-11-11 16:20:02] [TRACE] [OmnipathR] JSON validation successful: TRUE
[2025-11-11 16:20:02] [TRACE] [OmnipathR] Reading JSON from `/home/biocbuild/R/R-4.5.0/site-library/OmnipathR/internal/id_types.json` (encoding: UTF-8).
[2025-11-11 16:20:02] [TRACE] [OmnipathR] JSON validation successful: TRUE
[2025-11-11 16:20:02] [TRACE] [OmnipathR] Cache locked: FALSE
It looks like this package (or a package it requires) has a startup
message which cannot be suppressed: see ?packageStartupMessage.
* checking dependencies in R code ... OK
* checking S3 generic/method consistency ... OK
* checking replacement functions ... OK
* checking foreign function calls ... OK
* checking R code for possible problems ... NOTE
[2025-11-11 16:20:26] [TRACE] [OmnipathR] Reading JSON from `/home/biocbuild/.cache/OmnipathR/cache.json` (encoding: UTF-8).
[2025-11-11 16:20:26] [TRACE] [OmnipathR] JSON validation successful: TRUE
[2025-11-11 16:20:26] [INFO] [OmnipathR] Initialized cache: `/home/biocbuild/.cache/OmnipathR`.
[2025-11-11 16:20:26] [INFO] [OmnipathR] Package `OmnipathR` packaged: NA
[2025-11-11 16:20:26] [INFO] [OmnipathR] Package `OmnipathR` date/publication: 2025-11-10
[2025-11-11 16:20:26] [INFO] [OmnipathR] Package `OmnipathR` built: R 4.5.0; ; 2025-11-10 21:12:39 UTC; unix
[2025-11-11 16:20:26] [INFO] [OmnipathR] Package `OmnipathR` version: 3.18.0
[2025-11-11 16:20:26] [INFO] [OmnipathR] Package `OmnipathR` repository: Bioconductor 3.22
[2025-11-11 16:20:27] [INFO] [OmnipathR] Session info: [version=R version 4.5.0 (2025-04-11); os=openEuler 24.03 (LTS); system=aarch64, linux-gnu; ui=X11; language=(EN); collate=C; ctype=en_US.UTF-8; tz=UTC; date=2025-11-11; pandoc=2.12 @ /home/biocbuild/bin/ (via rmarkdown); quarto=1.7.32 @ /home/biocbuild/bioconductor/quarto-1.7.32/bin/quarto]
[2025-11-11 16:20:27] [INFO] [OmnipathR] External libraries: [cairo=1.18.0; cairoFT=; pango=1.51.0; png=1.6.47; jpeg=6.2; tiff=LIBTIFF, Version 4.7.0; tcl=8.6.14; curl=8.13.0; zlib=1.3.1; bzlib=1.0.8, 13-Jul-2019; xz=5.8.1; deflate=; PCRE=10.44 2024-06-07; ICU=74.1; TRE=TRE 0.8.0 R_fixes (BSD); iconv=glibc 2.38; readline=8.2; BLAS=/usr/lib64/libopenblas-r0.3.25.so; lapack=/usr/lib64/libopenblas-r0.3.25.so; lapack_version=3.11.0]
[2025-11-11 16:20:27] [INFO] [OmnipathR] Loaded packages: backports 1.5.0(2024-05-23); bit 4.6.0(2025-03-06); bit64 4.6.0-1(2025-01-16); blob 1.2.4(2023-03-17); cachem 1.1.0(2024-05-16); cellranger 1.1.0(2016-07-27); checkmate 2.3.3(2025-08-18); chromote 0.5.1(2025-04-24); cli 3.6.5(2025-04-23); crayon 1.5.3(2024-06-20); curl 7.0.0(2025-08-19); DBI 1.2.3(2024-06-02); digest 0.6.37(2024-08-19); dplyr 1.1.4(2023-11-17); evaluate 1.0.5(2025-08-27); fastmap 1.2.0(2024-05-15); fs 1.6.6(2025-04-12); generics 0.1.4(2025-05-09); glue 1.8.0(2024-09-30); hms 1.1.4(2025-10-17); htmltools 0.5.8.1(2024-04-04); httr 1.4.7(2023-08-15); httr2 1.2.1(2025-07-22); igraph 2.2.1(2025-10-27); jsonlite 2.0.0(2025-03-27); knitr 1.50(2025-03-16); later 1.4.4(2025-08-27); lattice 0.22-7(2025-04-02); lifecycle 1.0.4(2023-11-07); logger 0.4.1(2025-09-11); lubridate 1.9.4(2024-12-08); magrittr 2.0.4(2025-09-12); Matrix 1.7-4(2025-08-28); memoise 2.0.1(2021-11-26); OmnipathR 3.18.0(2025-11-10); otel 0.2.0(2025-08-29); pillar 1.11.1(2025-09-17); pkgconfig 2.0.3(2019-09-22); prettyunits 1.2.0(2023-09-24); processx 3.8.6(2025-02-21); progress 1.2.3(2023-12-06); promises 1.5.0(2025-11-01); ps 1.9.1(2025-04-12); purrr 1.1.0(2025-07-10); R.methodsS3 1.8.2(2022-06-13); R.oo 1.27.1(2025-05-02); R.utils 2.13.0(2025-02-24); R6 2.6.1(2025-02-15); rappdirs 0.3.3(2021-01-31); Rcpp 1.1.0(2025-07-02); readr 2.1.5(2024-01-10); readxl 1.4.5(2025-03-07); rlang 1.1.6(2025-04-11); rmarkdown 2.30(2025-09-28); RSQLite 2.4.3(2025-08-20); rvest 1.0.5(2025-08-29); sessioninfo 1.2.3(2025-02-05); stringi 1.8.7(2025-03-27); stringr 1.5.2(2025-09-08); tibble 3.3.0(2025-06-08); tidyr 1.3.1(2024-01-24); tidyselect 1.2.1(2024-03-11); timechange 0.3.0(2024-01-18); tzdb 0.5.0(2025-03-15); vctrs 0.6.5(2023-12-01); websocket 1.4.4(2025-04-10); withr 3.0.2(2024-10-28); wppi 1.18.0(2025-11-10); xfun 0.54(2025-10-30); XML 3.99-0.19(2025-08-22); xml2 1.4.1(2025-10-27); yaml 2.3.10(2024-07-26); zip 2.3.3(2025-05-13)
[2025-11-11 16:20:27] [INFO] [OmnipathR] CURL: version: 8.13.0; headers: 8.13.0; ssl_version: OpenSSL/3.5.0; libz_version: 1.3.1; libssh_version: libssh2/1.11.1; libidn_version: NA; host: aarch64-conda-linux-gnu; protocols: dict, file, ftp, ftps, gopher, gophers, http, https, imap, imaps, mqtt, pop3, pop3s, rtsp, scp, sftp, smb, smbs, smtp, smtps, telnet, tftp, ws, wss; ipv6: TRUE; http2: TRUE; idn: FALSE; url_parser: TRUE
[2025-11-11 16:20:27] [TRACE] [OmnipathR] Running on a build server, wiping cache.
[2025-11-11 16:20:27] [TRACE] [OmnipathR] Cache is at `/home/biocbuild/.cache/OmnipathR`.
[2025-11-11 16:20:27] [TRACE] [OmnipathR] Contains 1 files.
[2025-11-11 16:20:27] [TRACE] [OmnipathR] Cache is locked: FALSE.
[2025-11-11 16:20:27] [TRACE] [OmnipathR] Reading JSON from `/home/biocbuild/.cache/OmnipathR/cache.json` (encoding: UTF-8).
[2025-11-11 16:20:27] [TRACE] [OmnipathR] JSON validation successful: TRUE
[2025-11-11 16:20:27] [SUCCESS] [OmnipathR] Removing all cache contents from `/home/biocbuild/.cache/OmnipathR`.
[2025-11-11 16:20:27] [TRACE] [OmnipathR] Pandoc version: `2.12`.
[2025-11-11 16:20:27] [TRACE] [OmnipathR] Reading JSON from `/home/biocbuild/R/R-4.5.0/site-library/OmnipathR/db/db_def.json` (encoding: UTF-8).
[2025-11-11 16:20:27] [TRACE] [OmnipathR] JSON validation successful: TRUE
[2025-11-11 16:20:27] [TRACE] [OmnipathR] Reading JSON from `/home/biocbuild/R/R-4.5.0/site-library/OmnipathR/internal/magic_bytes.json` (encoding: UTF-8).
[2025-11-11 16:20:27] [TRACE] [OmnipathR] JSON validation successful: TRUE
[2025-11-11 16:20:27] [TRACE] [OmnipathR] Reading JSON from `/home/biocbuild/R/R-4.5.0/site-library/OmnipathR/internal/urls.json` (encoding: UTF-8).
[2025-11-11 16:20:27] [TRACE] [OmnipathR] JSON validation successful: TRUE
[2025-11-11 16:20:27] [TRACE] [OmnipathR] Reading JSON from `/home/biocbuild/R/R-4.5.0/site-library/OmnipathR/internal/id_types.json` (encoding: UTF-8).
[2025-11-11 16:20:27] [TRACE] [OmnipathR] JSON validation successful: TRUE
[2025-11-11 16:20:27] [TRACE] [OmnipathR] Cache locked: FALSE
* checking Rd files ... OK
* checking Rd metadata ... OK
* checking Rd cross-references ... OK
* checking for missing documentation entries ... OK
* checking for code/documentation mismatches ... OK
* checking Rd \usage sections ... OK
* checking Rd contents ... OK
* checking for unstated dependencies in examples ... OK
* checking files in ‘vignettes’ ... OK
* checking examples ... OK
Examples with CPU (user + system) or elapsed time > 5s
user system elapsed
wppi 78.091 6.068 84.229
common_neighbors 56.138 3.866 142.189
prioritization_genes 42.192 3.426 45.899
score_candidate_genes_from_PPI 41.041 3.219 44.443
random_walk 39.970 3.318 43.399
weighted_adj 34.319 2.136 36.541
count_genes 14.298 0.661 28.486
filter_annot_with_network 10.809 0.320 11.692
wppi_data 10.373 0.158 10.540
in_omnipath 5.554 0.197 5.771
subgraph_op 5.266 0.294 5.566
graph_from_op 5.189 0.323 5.530
wppi_omnipath_data 5.273 0.135 5.410
functional_annot 3.327 0.301 20.503
* checking for unstated dependencies in vignettes ... OK
* checking package vignettes ... OK
* checking running R code from vignettes ... SKIPPED
* checking re-building of vignette outputs ... SKIPPED
* checking PDF version of manual ... OK
* DONE
Status: 3 NOTEs
See
‘/home/biocbuild/bbs-3.22-bioc/meat/wppi.Rcheck/00check.log’
for details.
wppi.Rcheck/00install.out
############################################################################## ############################################################################## ### ### Running command: ### ### /home/biocbuild/R/R/bin/R CMD INSTALL wppi ### ############################################################################## ############################################################################## * installing to library ‘/home/biocbuild/R/R-4.5.0/site-library’ * installing *source* package ‘wppi’ ... ** this is package ‘wppi’ version ‘1.18.0’ ** using staged installation ** R ** byte-compile and prepare package for lazy loading [2025-11-10 21:13:34] [TRACE] [OmnipathR] Reading JSON from `/home/biocbuild/.cache/OmnipathR/cache.json` (encoding: UTF-8). [2025-11-10 21:13:34] [TRACE] [OmnipathR] JSON validation successful: TRUE [2025-11-10 21:13:34] [INFO] [OmnipathR] Initialized cache: `/home/biocbuild/.cache/OmnipathR`. [2025-11-10 21:13:34] [INFO] [OmnipathR] Package `OmnipathR` packaged: NA [2025-11-10 21:13:34] [INFO] [OmnipathR] Package `OmnipathR` date/publication: 2025-11-10 [2025-11-10 21:13:34] [INFO] [OmnipathR] Package `OmnipathR` built: R 4.5.0; ; 2025-11-10 21:12:39 UTC; unix [2025-11-10 21:13:34] [INFO] [OmnipathR] Package `OmnipathR` version: 3.18.0 [2025-11-10 21:13:34] [INFO] [OmnipathR] Package `OmnipathR` repository: Bioconductor 3.22 [2025-11-10 21:13:34] [INFO] [OmnipathR] Session info: [version=R version 4.5.0 (2025-04-11); os=openEuler 24.03 (LTS); system=aarch64, linux-gnu; ui=X11; language=(EN); collate=C; ctype=en_US.UTF-8; tz=UTC; date=2025-11-10; pandoc=2.12 @ /home/biocbuild/bin/ (via rmarkdown); quarto=1.7.32 @ /home/biocbuild/bioconductor/quarto-1.7.32/bin/quarto] [2025-11-10 21:13:35] [INFO] [OmnipathR] External libraries: [cairo=1.18.0; cairoFT=; pango=1.51.0; png=1.6.47; jpeg=6.2; tiff=LIBTIFF, Version 4.7.0; tcl=8.6.14; curl=8.13.0; zlib=1.3.1; bzlib=1.0.8, 13-Jul-2019; xz=5.8.1; deflate=; PCRE=10.44 2024-06-07; ICU=74.1; TRE=TRE 0.8.0 R_fixes (BSD); iconv=glibc 2.38; readline=8.2; BLAS=/usr/lib64/libopenblas-r0.3.25.so; lapack=/usr/lib64/libopenblas-r0.3.25.so; lapack_version=3.11.0] [2025-11-10 21:13:35] [INFO] [OmnipathR] Loaded packages: backports 1.5.0(2024-05-23); bit 4.6.0(2025-03-06); bit64 4.6.0-1(2025-01-16); blob 1.2.4(2023-03-17); cachem 1.1.0(2024-05-16); cellranger 1.1.0(2016-07-27); checkmate 2.3.3(2025-08-18); chromote 0.5.1(2025-04-24); cli 3.6.5(2025-04-23); crayon 1.5.3(2024-06-20); curl 7.0.0(2025-08-19); DBI 1.2.3(2024-06-02); digest 0.6.37(2024-08-19); dplyr 1.1.4(2023-11-17); evaluate 1.0.5(2025-08-27); fastmap 1.2.0(2024-05-15); fs 1.6.6(2025-04-12); generics 0.1.4(2025-05-09); glue 1.8.0(2024-09-30); hms 1.1.4(2025-10-17); htmltools 0.5.8.1(2024-04-04); httr 1.4.7(2023-08-15); httr2 1.2.1(2025-07-22); igraph 2.2.1(2025-10-27); jsonlite 2.0.0(2025-03-27); knitr 1.50(2025-03-16); later 1.4.4(2025-08-27); lattice 0.22-7(2025-04-02); lifecycle 1.0.4(2023-11-07); logger 0.4.1(2025-09-11); lubridate 1.9.4(2024-12-08); magrittr 2.0.4(2025-09-12); Matrix 1.7-4(2025-08-28); memoise 2.0.1(2021-11-26); OmnipathR 3.18.0(2025-11-10); otel 0.2.0(2025-08-29); pillar 1.11.1(2025-09-17); pkgconfig 2.0.3(2019-09-22); prettyunits 1.2.0(2023-09-24); processx 3.8.6(2025-02-21); progress 1.2.3(2023-12-06); promises 1.5.0(2025-11-01); ps 1.9.1(2025-04-12); purrr 1.1.0(2025-07-10); R.methodsS3 1.8.2(2022-06-13); R.oo 1.27.1(2025-05-02); R.utils 2.13.0(2025-02-24); R6 2.6.1(2025-02-15); rappdirs 0.3.3(2021-01-31); Rcpp 1.1.0(2025-07-02); readr 2.1.5(2024-01-10); readxl 1.4.5(2025-03-07); rlang 1.1.6(2025-04-11); rmarkdown 2.30(2025-09-28); RSQLite 2.4.3(2025-08-20); rvest 1.0.5(2025-08-29); sessioninfo 1.2.3(2025-02-05); stringi 1.8.7(2025-03-27); stringr 1.5.2(2025-09-08); tibble 3.3.0(2025-06-08); tidyr 1.3.1(2024-01-24); tidyselect 1.2.1(2024-03-11); timechange 0.3.0(2024-01-18); tzdb 0.5.0(2025-03-15); vctrs 0.6.5(2023-12-01); websocket 1.4.4(2025-04-10); withr 3.0.2(2024-10-28); wppi 1.18.0(2025-11-10); xfun 0.54(2025-10-30); XML 3.99-0.19(2025-08-22); xml2 1.4.1(2025-10-27); yaml 2.3.10(2024-07-26); zip 2.3.3(2025-05-13) [2025-11-10 21:13:35] [INFO] [OmnipathR] CURL: version: 8.13.0; headers: 8.13.0; ssl_version: OpenSSL/3.5.0; libz_version: 1.3.1; libssh_version: libssh2/1.11.1; libidn_version: NA; host: aarch64-conda-linux-gnu; protocols: dict, file, ftp, ftps, gopher, gophers, http, https, imap, imaps, mqtt, pop3, pop3s, rtsp, scp, sftp, smb, smbs, smtp, smtps, telnet, tftp, ws, wss; ipv6: TRUE; http2: TRUE; idn: FALSE; url_parser: TRUE [2025-11-10 21:13:35] [TRACE] [OmnipathR] Running on a build server, wiping cache. [2025-11-10 21:13:35] [TRACE] [OmnipathR] Cache is at `/home/biocbuild/.cache/OmnipathR`. [2025-11-10 21:13:35] [TRACE] [OmnipathR] Contains 1 files. [2025-11-10 21:13:35] [TRACE] [OmnipathR] Cache is locked: FALSE. [2025-11-10 21:13:35] [TRACE] [OmnipathR] Reading JSON from `/home/biocbuild/.cache/OmnipathR/cache.json` (encoding: UTF-8). [2025-11-10 21:13:35] [TRACE] [OmnipathR] JSON validation successful: TRUE [2025-11-10 21:13:35] [SUCCESS] [OmnipathR] Removing all cache contents from `/home/biocbuild/.cache/OmnipathR`. [2025-11-10 21:13:35] [TRACE] [OmnipathR] Pandoc version: `2.12`. [2025-11-10 21:13:35] [TRACE] [OmnipathR] Reading JSON from `/home/biocbuild/R/R-4.5.0/site-library/OmnipathR/db/db_def.json` (encoding: UTF-8). [2025-11-10 21:13:35] [TRACE] [OmnipathR] JSON validation successful: TRUE [2025-11-10 21:13:35] [TRACE] [OmnipathR] Reading JSON from `/home/biocbuild/R/R-4.5.0/site-library/OmnipathR/internal/magic_bytes.json` (encoding: UTF-8). [2025-11-10 21:13:35] [TRACE] [OmnipathR] JSON validation successful: TRUE [2025-11-10 21:13:35] [TRACE] [OmnipathR] Reading JSON from `/home/biocbuild/R/R-4.5.0/site-library/OmnipathR/internal/urls.json` (encoding: UTF-8). [2025-11-10 21:13:35] [TRACE] [OmnipathR] JSON validation successful: TRUE [2025-11-10 21:13:35] [TRACE] [OmnipathR] Reading JSON from `/home/biocbuild/R/R-4.5.0/site-library/OmnipathR/internal/id_types.json` (encoding: UTF-8). [2025-11-10 21:13:35] [TRACE] [OmnipathR] JSON validation successful: TRUE [2025-11-10 21:13:35] [TRACE] [OmnipathR] Cache locked: FALSE Note: wrong number of arguments to '/' ** help *** installing help indices ** building package indices ** installing vignettes ** testing if installed package can be loaded from temporary location [2025-11-10 21:13:40] [TRACE] [OmnipathR] Reading JSON from `/home/biocbuild/.cache/OmnipathR/cache.json` (encoding: UTF-8). [2025-11-10 21:13:40] [TRACE] [OmnipathR] JSON validation successful: TRUE [2025-11-10 21:13:40] [INFO] [OmnipathR] Initialized cache: `/home/biocbuild/.cache/OmnipathR`. [2025-11-10 21:13:40] [INFO] [OmnipathR] Package `OmnipathR` packaged: NA [2025-11-10 21:13:40] [INFO] [OmnipathR] Package `OmnipathR` date/publication: 2025-11-10 [2025-11-10 21:13:40] [INFO] [OmnipathR] Package `OmnipathR` built: R 4.5.0; ; 2025-11-10 21:12:39 UTC; unix [2025-11-10 21:13:40] [INFO] [OmnipathR] Package `OmnipathR` version: 3.18.0 [2025-11-10 21:13:40] [INFO] [OmnipathR] Package `OmnipathR` repository: Bioconductor 3.22 [2025-11-10 21:13:41] [INFO] [OmnipathR] Session info: [version=R version 4.5.0 (2025-04-11); os=openEuler 24.03 (LTS); system=aarch64, linux-gnu; ui=X11; language=(EN); collate=C; ctype=en_US.UTF-8; tz=UTC; date=2025-11-10; pandoc=2.12 @ /home/biocbuild/bin/ (via rmarkdown); quarto=1.7.32 @ /home/biocbuild/bioconductor/quarto-1.7.32/bin/quarto] [2025-11-10 21:13:41] [INFO] [OmnipathR] External libraries: [cairo=1.18.0; cairoFT=; pango=1.51.0; png=1.6.47; jpeg=6.2; tiff=LIBTIFF, Version 4.7.0; tcl=8.6.14; curl=8.13.0; zlib=1.3.1; bzlib=1.0.8, 13-Jul-2019; xz=5.8.1; deflate=; PCRE=10.44 2024-06-07; ICU=74.1; TRE=TRE 0.8.0 R_fixes (BSD); iconv=glibc 2.38; readline=8.2; BLAS=/usr/lib64/libopenblas-r0.3.25.so; lapack=/usr/lib64/libopenblas-r0.3.25.so; lapack_version=3.11.0] [2025-11-10 21:13:41] [INFO] [OmnipathR] Loaded packages: backports 1.5.0(2024-05-23); bit 4.6.0(2025-03-06); bit64 4.6.0-1(2025-01-16); blob 1.2.4(2023-03-17); cachem 1.1.0(2024-05-16); cellranger 1.1.0(2016-07-27); checkmate 2.3.3(2025-08-18); chromote 0.5.1(2025-04-24); cli 3.6.5(2025-04-23); crayon 1.5.3(2024-06-20); curl 7.0.0(2025-08-19); DBI 1.2.3(2024-06-02); digest 0.6.37(2024-08-19); dplyr 1.1.4(2023-11-17); evaluate 1.0.5(2025-08-27); fastmap 1.2.0(2024-05-15); fs 1.6.6(2025-04-12); generics 0.1.4(2025-05-09); glue 1.8.0(2024-09-30); hms 1.1.4(2025-10-17); htmltools 0.5.8.1(2024-04-04); httr 1.4.7(2023-08-15); httr2 1.2.1(2025-07-22); igraph 2.2.1(2025-10-27); jsonlite 2.0.0(2025-03-27); knitr 1.50(2025-03-16); later 1.4.4(2025-08-27); lattice 0.22-7(2025-04-02); lifecycle 1.0.4(2023-11-07); logger 0.4.1(2025-09-11); lubridate 1.9.4(2024-12-08); magrittr 2.0.4(2025-09-12); Matrix 1.7-4(2025-08-28); memoise 2.0.1(2021-11-26); OmnipathR 3.18.0(2025-11-10); otel 0.2.0(2025-08-29); pillar 1.11.1(2025-09-17); pkgconfig 2.0.3(2019-09-22); prettyunits 1.2.0(2023-09-24); processx 3.8.6(2025-02-21); progress 1.2.3(2023-12-06); promises 1.5.0(2025-11-01); ps 1.9.1(2025-04-12); purrr 1.1.0(2025-07-10); R.methodsS3 1.8.2(2022-06-13); R.oo 1.27.1(2025-05-02); R.utils 2.13.0(2025-02-24); R6 2.6.1(2025-02-15); rappdirs 0.3.3(2021-01-31); Rcpp 1.1.0(2025-07-02); readr 2.1.5(2024-01-10); readxl 1.4.5(2025-03-07); rlang 1.1.6(2025-04-11); rmarkdown 2.30(2025-09-28); RSQLite 2.4.3(2025-08-20); rvest 1.0.5(2025-08-29); sessioninfo 1.2.3(2025-02-05); stringi 1.8.7(2025-03-27); stringr 1.5.2(2025-09-08); tibble 3.3.0(2025-06-08); tidyr 1.3.1(2024-01-24); tidyselect 1.2.1(2024-03-11); timechange 0.3.0(2024-01-18); tzdb 0.5.0(2025-03-15); vctrs 0.6.5(2023-12-01); websocket 1.4.4(2025-04-10); withr 3.0.2(2024-10-28); wppi 1.18.0(2025-11-10); xfun 0.54(2025-10-30); XML 3.99-0.19(2025-08-22); xml2 1.4.1(2025-10-27); yaml 2.3.10(2024-07-26); zip 2.3.3(2025-05-13) [2025-11-10 21:13:41] [INFO] [OmnipathR] CURL: version: 8.13.0; headers: 8.13.0; ssl_version: OpenSSL/3.5.0; libz_version: 1.3.1; libssh_version: libssh2/1.11.1; libidn_version: NA; host: aarch64-conda-linux-gnu; protocols: dict, file, ftp, ftps, gopher, gophers, http, https, imap, imaps, mqtt, pop3, pop3s, rtsp, scp, sftp, smb, smbs, smtp, smtps, telnet, tftp, ws, wss; ipv6: TRUE; http2: TRUE; idn: FALSE; url_parser: TRUE [2025-11-10 21:13:41] [TRACE] [OmnipathR] Running on a build server, wiping cache. [2025-11-10 21:13:41] [TRACE] [OmnipathR] Cache is at `/home/biocbuild/.cache/OmnipathR`. [2025-11-10 21:13:41] [TRACE] [OmnipathR] Contains 1 files. [2025-11-10 21:13:41] [TRACE] [OmnipathR] Cache is locked: FALSE. [2025-11-10 21:13:41] [TRACE] [OmnipathR] Reading JSON from `/home/biocbuild/.cache/OmnipathR/cache.json` (encoding: UTF-8). [2025-11-10 21:13:41] [TRACE] [OmnipathR] JSON validation successful: TRUE [2025-11-10 21:13:41] [SUCCESS] [OmnipathR] Removing all cache contents from `/home/biocbuild/.cache/OmnipathR`. [2025-11-10 21:13:41] [TRACE] [OmnipathR] Pandoc version: `2.12`. [2025-11-10 21:13:41] [TRACE] [OmnipathR] Reading JSON from `/home/biocbuild/R/R-4.5.0/site-library/OmnipathR/db/db_def.json` (encoding: UTF-8). [2025-11-10 21:13:41] [TRACE] [OmnipathR] JSON validation successful: TRUE [2025-11-10 21:13:41] [TRACE] [OmnipathR] Reading JSON from `/home/biocbuild/R/R-4.5.0/site-library/OmnipathR/internal/magic_bytes.json` (encoding: UTF-8). [2025-11-10 21:13:41] [TRACE] [OmnipathR] JSON validation successful: TRUE [2025-11-10 21:13:41] [TRACE] [OmnipathR] Reading JSON from `/home/biocbuild/R/R-4.5.0/site-library/OmnipathR/internal/urls.json` (encoding: UTF-8). [2025-11-10 21:13:41] [TRACE] [OmnipathR] JSON validation successful: TRUE [2025-11-10 21:13:41] [TRACE] [OmnipathR] Reading JSON from `/home/biocbuild/R/R-4.5.0/site-library/OmnipathR/internal/id_types.json` (encoding: UTF-8). [2025-11-10 21:13:41] [TRACE] [OmnipathR] JSON validation successful: TRUE [2025-11-10 21:13:41] [TRACE] [OmnipathR] Cache locked: FALSE ** testing if installed package can be loaded from final location [2025-11-10 21:13:46] [TRACE] [OmnipathR] Reading JSON from `/home/biocbuild/.cache/OmnipathR/cache.json` (encoding: UTF-8). [2025-11-10 21:13:46] [TRACE] [OmnipathR] JSON validation successful: TRUE [2025-11-10 21:13:46] [INFO] [OmnipathR] Initialized cache: `/home/biocbuild/.cache/OmnipathR`. [2025-11-10 21:13:46] [INFO] [OmnipathR] Package `OmnipathR` packaged: NA [2025-11-10 21:13:46] [INFO] [OmnipathR] Package `OmnipathR` date/publication: 2025-11-10 [2025-11-10 21:13:46] [INFO] [OmnipathR] Package `OmnipathR` built: R 4.5.0; ; 2025-11-10 21:12:39 UTC; unix [2025-11-10 21:13:46] [INFO] [OmnipathR] Package `OmnipathR` version: 3.18.0 [2025-11-10 21:13:46] [INFO] [OmnipathR] Package `OmnipathR` repository: Bioconductor 3.22 [2025-11-10 21:13:46] [INFO] [OmnipathR] Session info: [version=R version 4.5.0 (2025-04-11); os=openEuler 24.03 (LTS); system=aarch64, linux-gnu; ui=X11; language=(EN); collate=C; ctype=en_US.UTF-8; tz=UTC; date=2025-11-10; pandoc=2.12 @ /home/biocbuild/bin/ (via rmarkdown); quarto=1.7.32 @ /home/biocbuild/bioconductor/quarto-1.7.32/bin/quarto] [2025-11-10 21:13:46] [INFO] [OmnipathR] External libraries: [cairo=1.18.0; cairoFT=; pango=1.51.0; png=1.6.47; jpeg=6.2; tiff=LIBTIFF, Version 4.7.0; tcl=8.6.14; curl=8.13.0; zlib=1.3.1; bzlib=1.0.8, 13-Jul-2019; xz=5.8.1; deflate=; PCRE=10.44 2024-06-07; ICU=74.1; TRE=TRE 0.8.0 R_fixes (BSD); iconv=glibc 2.38; readline=8.2; BLAS=/usr/lib64/libopenblas-r0.3.25.so; lapack=/usr/lib64/libopenblas-r0.3.25.so; lapack_version=3.11.0] [2025-11-10 21:13:47] [INFO] [OmnipathR] Loaded packages: backports 1.5.0(2024-05-23); bit 4.6.0(2025-03-06); bit64 4.6.0-1(2025-01-16); blob 1.2.4(2023-03-17); cachem 1.1.0(2024-05-16); cellranger 1.1.0(2016-07-27); checkmate 2.3.3(2025-08-18); chromote 0.5.1(2025-04-24); cli 3.6.5(2025-04-23); crayon 1.5.3(2024-06-20); curl 7.0.0(2025-08-19); DBI 1.2.3(2024-06-02); digest 0.6.37(2024-08-19); dplyr 1.1.4(2023-11-17); evaluate 1.0.5(2025-08-27); fastmap 1.2.0(2024-05-15); fs 1.6.6(2025-04-12); generics 0.1.4(2025-05-09); glue 1.8.0(2024-09-30); hms 1.1.4(2025-10-17); htmltools 0.5.8.1(2024-04-04); httr 1.4.7(2023-08-15); httr2 1.2.1(2025-07-22); igraph 2.2.1(2025-10-27); jsonlite 2.0.0(2025-03-27); knitr 1.50(2025-03-16); later 1.4.4(2025-08-27); lattice 0.22-7(2025-04-02); lifecycle 1.0.4(2023-11-07); logger 0.4.1(2025-09-11); lubridate 1.9.4(2024-12-08); magrittr 2.0.4(2025-09-12); Matrix 1.7-4(2025-08-28); memoise 2.0.1(2021-11-26); OmnipathR 3.18.0(2025-11-10); otel 0.2.0(2025-08-29); pillar 1.11.1(2025-09-17); pkgconfig 2.0.3(2019-09-22); prettyunits 1.2.0(2023-09-24); processx 3.8.6(2025-02-21); progress 1.2.3(2023-12-06); promises 1.5.0(2025-11-01); ps 1.9.1(2025-04-12); purrr 1.1.0(2025-07-10); R.methodsS3 1.8.2(2022-06-13); R.oo 1.27.1(2025-05-02); R.utils 2.13.0(2025-02-24); R6 2.6.1(2025-02-15); rappdirs 0.3.3(2021-01-31); Rcpp 1.1.0(2025-07-02); readr 2.1.5(2024-01-10); readxl 1.4.5(2025-03-07); rlang 1.1.6(2025-04-11); rmarkdown 2.30(2025-09-28); RSQLite 2.4.3(2025-08-20); rvest 1.0.5(2025-08-29); sessioninfo 1.2.3(2025-02-05); stringi 1.8.7(2025-03-27); stringr 1.5.2(2025-09-08); tibble 3.3.0(2025-06-08); tidyr 1.3.1(2024-01-24); tidyselect 1.2.1(2024-03-11); timechange 0.3.0(2024-01-18); tzdb 0.5.0(2025-03-15); vctrs 0.6.5(2023-12-01); websocket 1.4.4(2025-04-10); withr 3.0.2(2024-10-28); wppi 1.18.0(2025-11-10); xfun 0.54(2025-10-30); XML 3.99-0.19(2025-08-22); xml2 1.4.1(2025-10-27); yaml 2.3.10(2024-07-26); zip 2.3.3(2025-05-13) [2025-11-10 21:13:47] [INFO] [OmnipathR] CURL: version: 8.13.0; headers: 8.13.0; ssl_version: OpenSSL/3.5.0; libz_version: 1.3.1; libssh_version: libssh2/1.11.1; libidn_version: NA; host: aarch64-conda-linux-gnu; protocols: dict, file, ftp, ftps, gopher, gophers, http, https, imap, imaps, mqtt, pop3, pop3s, rtsp, scp, sftp, smb, smbs, smtp, smtps, telnet, tftp, ws, wss; ipv6: TRUE; http2: TRUE; idn: FALSE; url_parser: TRUE [2025-11-10 21:13:47] [TRACE] [OmnipathR] Running on a build server, wiping cache. [2025-11-10 21:13:47] [TRACE] [OmnipathR] Cache is at `/home/biocbuild/.cache/OmnipathR`. [2025-11-10 21:13:47] [TRACE] [OmnipathR] Contains 1 files. [2025-11-10 21:13:47] [TRACE] [OmnipathR] Cache is locked: FALSE. [2025-11-10 21:13:47] [TRACE] [OmnipathR] Reading JSON from `/home/biocbuild/.cache/OmnipathR/cache.json` (encoding: UTF-8). [2025-11-10 21:13:47] [TRACE] [OmnipathR] JSON validation successful: TRUE [2025-11-10 21:13:47] [SUCCESS] [OmnipathR] Removing all cache contents from `/home/biocbuild/.cache/OmnipathR`. [2025-11-10 21:13:47] [TRACE] [OmnipathR] Pandoc version: `2.12`. [2025-11-10 21:13:47] [TRACE] [OmnipathR] Reading JSON from `/home/biocbuild/R/R-4.5.0/site-library/OmnipathR/db/db_def.json` (encoding: UTF-8). [2025-11-10 21:13:47] [TRACE] [OmnipathR] JSON validation successful: TRUE [2025-11-10 21:13:47] [TRACE] [OmnipathR] Reading JSON from `/home/biocbuild/R/R-4.5.0/site-library/OmnipathR/internal/magic_bytes.json` (encoding: UTF-8). [2025-11-10 21:13:47] [TRACE] [OmnipathR] JSON validation successful: TRUE [2025-11-10 21:13:47] [TRACE] [OmnipathR] Reading JSON from `/home/biocbuild/R/R-4.5.0/site-library/OmnipathR/internal/urls.json` (encoding: UTF-8). [2025-11-10 21:13:47] [TRACE] [OmnipathR] JSON validation successful: TRUE [2025-11-10 21:13:47] [TRACE] [OmnipathR] Reading JSON from `/home/biocbuild/R/R-4.5.0/site-library/OmnipathR/internal/id_types.json` (encoding: UTF-8). [2025-11-10 21:13:47] [TRACE] [OmnipathR] JSON validation successful: TRUE [2025-11-10 21:13:47] [TRACE] [OmnipathR] Cache locked: FALSE ** testing if installed package keeps a record of temporary installation path * DONE (wppi)
wppi.Rcheck/wppi-Ex.timings
| name | user | system | elapsed | |
| common_neighbors | 56.138 | 3.866 | 142.189 | |
| count_genes | 14.298 | 0.661 | 28.486 | |
| filter_annot_with_network | 10.809 | 0.320 | 11.692 | |
| functional_annot | 3.327 | 0.301 | 20.503 | |
| graph_from_op | 5.189 | 0.323 | 5.530 | |
| in_omnipath | 5.554 | 0.197 | 5.771 | |
| prioritization_genes | 42.192 | 3.426 | 45.899 | |
| process_annot | 1.189 | 0.027 | 1.220 | |
| random_walk | 39.970 | 3.318 | 43.399 | |
| score_candidate_genes_from_PPI | 41.041 | 3.219 | 44.443 | |
| subgraph_op | 5.266 | 0.294 | 5.566 | |
| weighted_adj | 34.319 | 2.136 | 36.541 | |
| wppi | 78.091 | 6.068 | 84.229 | |
| wppi_data | 10.373 | 0.158 | 10.540 | |
| wppi_go_data | 3.571 | 0.000 | 3.575 | |
| wppi_hpo_data | 1.163 | 0.006 | 1.171 | |
| wppi_omnipath_data | 5.273 | 0.135 | 5.410 | |