Back to Multiple platform build/check report for BioC 3.22:   simplified   long
ABCDEFGHIJKLMNOPQRSTU[V]WXYZ

This page was generated on 2025-11-12 11:58 -0500 (Wed, 12 Nov 2025).

HostnameOSArch (*)R versionInstalled pkgs
nebbiolo2Linux (Ubuntu 24.04.3 LTS)x86_644.5.1 Patched (2025-08-23 r88802) -- "Great Square Root" 4902
taishanLinux (openEuler 24.03 LTS)aarch644.5.0 (2025-04-11) -- "How About a Twenty-Six" 4668
Click on any hostname to see more info about the system (e.g. compilers)      (*) as reported by 'uname -p', except on Windows and Mac OS X

Package 2303/2361HostnameOS / ArchINSTALLBUILDCHECKBUILD BIN
variancePartition 1.40.0  (landing page)
Gabriel E. Hoffman
Snapshot Date: 2025-11-11 13:45 -0500 (Tue, 11 Nov 2025)
git_url: https://git.bioconductor.org/packages/variancePartition
git_branch: RELEASE_3_22
git_last_commit: 1ff4f97
git_last_commit_date: 2025-10-29 10:27:03 -0500 (Wed, 29 Oct 2025)
nebbiolo2Linux (Ubuntu 24.04.3 LTS) / x86_64  OK    OK    OK  UNNEEDED, same version is already published
taishanLinux (openEuler 24.03 LTS) / aarch64  OK    OK    OK  


CHECK results for variancePartition on taishan

To the developers/maintainers of the variancePartition package:
- Allow up to 24 hours (and sometimes 48 hours) for your latest push to git@git.bioconductor.org:packages/variancePartition.git to reflect on this report. See Troubleshooting Build Report for more information.
- Use the following Renviron settings to reproduce errors and warnings.
- If 'R CMD check' started to fail recently on the Linux builder(s) over a missing dependency, add the missing dependency to 'Suggests:' in your DESCRIPTION file. See Renviron.bioc for more information.
- See Martin Grigorov's blog post for how to debug Linux ARM64 related issues on a x86_64 host.

raw results


Summary

Package: variancePartition
Version: 1.40.0
Command: /home/biocbuild/R/R/bin/R CMD check --install=check:variancePartition.install-out.txt --library=/home/biocbuild/R/R/site-library --no-vignettes --timings variancePartition_1.40.0.tar.gz
StartedAt: 2025-11-11 16:10:32 -0000 (Tue, 11 Nov 2025)
EndedAt: 2025-11-11 16:22:35 -0000 (Tue, 11 Nov 2025)
EllapsedTime: 723.1 seconds
RetCode: 0
Status:   OK  
CheckDir: variancePartition.Rcheck
Warnings: 0

Command output

##############################################################################
##############################################################################
###
### Running command:
###
###   /home/biocbuild/R/R/bin/R CMD check --install=check:variancePartition.install-out.txt --library=/home/biocbuild/R/R/site-library --no-vignettes --timings variancePartition_1.40.0.tar.gz
###
##############################################################################
##############################################################################


* using log directory ‘/home/biocbuild/bbs-3.22-bioc/meat/variancePartition.Rcheck’
* using R version 4.5.0 (2025-04-11)
* using platform: aarch64-unknown-linux-gnu
* R was compiled by
    aarch64-unknown-linux-gnu-gcc (GCC) 14.2.0
    GNU Fortran (GCC) 14.2.0
* running under: openEuler 24.03 (LTS)
* using session charset: UTF-8
* using option ‘--no-vignettes’
* checking for file ‘variancePartition/DESCRIPTION’ ... OK
* checking extension type ... Package
* this is package ‘variancePartition’ version ‘1.40.0’
* package encoding: UTF-8
* checking package namespace information ... OK
* checking package dependencies ... OK
* checking if this is a source package ... OK
* checking if there is a namespace ... OK
* checking for hidden files and directories ... OK
* checking for portable file names ... OK
* checking for sufficient/correct file permissions ... OK
* checking whether package ‘variancePartition’ can be installed ... OK
* checking installed package size ... OK
* checking package directory ... OK
* checking ‘build’ directory ... OK
* checking DESCRIPTION meta-information ... OK
* checking top-level files ... OK
* checking for left-over files ... OK
* checking index information ... OK
* checking package subdirectories ... OK
* checking code files for non-ASCII characters ... OK
* checking R files for syntax errors ... OK
* checking whether the package can be loaded ... OK
* checking whether the package can be loaded with stated dependencies ... OK
* checking whether the package can be unloaded cleanly ... OK
* checking whether the namespace can be loaded with stated dependencies ... OK
* checking whether the namespace can be unloaded cleanly ... OK
* checking loading without being on the library search path ... OK
* checking dependencies in R code ... NOTE
Unexported object imported by a ':::' call: ‘lmerTest:::as_lmerModLT’
  See the note in ?`:::` about the use of this operator.
* checking S3 generic/method consistency ... OK
* checking replacement functions ... OK
* checking foreign function calls ... OK
* checking R code for possible problems ... OK
* checking Rd files ... OK
* checking Rd metadata ... OK
* checking Rd cross-references ... OK
* checking for missing documentation entries ... OK
* checking for code/documentation mismatches ... OK
* checking Rd \usage sections ... NOTE
S3 methods shown with full name in Rd file 'residuals.MArrayLM2.Rd':
  ‘residuals.MArrayLM2’

The \usage entries for S3 methods should use the \method markup and not
their full name.
See chapter ‘Writing R documentation files’ in the ‘Writing R
Extensions’ manual.
* checking Rd contents ... OK
* checking for unstated dependencies in examples ... OK
* checking contents of ‘data’ directory ... OK
* checking data for non-ASCII characters ... OK
* checking data for ASCII and uncompressed saves ... OK
* checking files in ‘vignettes’ ... NOTE
The following directory looks like a leftover from 'knitr':
  ‘figure’
Please remove from your package.
* checking examples ... OK
Examples with CPU (user + system) or elapsed time > 5s
                                 user system elapsed
fitVarPartModel-method         42.042  0.088  42.975
fitExtractVarPartModel-method  33.476  0.151  34.373
getTreat-method                28.353  0.092  29.027
plotCompareP-method            22.475  0.008  22.626
extractVarPart                 21.147  0.132  21.362
varPartConfInf                 13.930  0.000  14.238
plotPercentBars-method         11.293  0.047  11.375
sortCols-method                10.565  0.000  10.608
plotVarPart-method             10.553  0.000  10.593
residuals-VarParFitList-method  9.793  0.028   9.856
mvTest-method                   7.706  0.028  17.648
dream-method                    4.718  0.105  15.323
* checking for unstated dependencies in ‘tests’ ... OK
* checking tests ...
  Running ‘runTests.R’
 OK
* checking for unstated dependencies in vignettes ... OK
* checking package vignettes ... OK
* checking running R code from vignettes ... SKIPPED
* checking re-building of vignette outputs ... SKIPPED
* checking PDF version of manual ... OK
* DONE

Status: 3 NOTEs
See
  ‘/home/biocbuild/bbs-3.22-bioc/meat/variancePartition.Rcheck/00check.log’
for details.


Installation output

variancePartition.Rcheck/00install.out

##############################################################################
##############################################################################
###
### Running command:
###
###   /home/biocbuild/R/R/bin/R CMD INSTALL variancePartition
###
##############################################################################
##############################################################################


* installing to library ‘/home/biocbuild/R/R-4.5.0/site-library’
* installing *source* package ‘variancePartition’ ...
** this is package ‘variancePartition’ version ‘1.40.0’
** using staged installation
** R
** data
** inst
** byte-compile and prepare package for lazy loading
in method for ‘calcVarPart’ with signature ‘"negbin"’: no definition for class “negbin”
in method for ‘checkModelStatus’ with signature ‘"negbin"’: no definition for class “negbin”
Creating a new generic function for ‘eBayes’ in package ‘variancePartition’
Creating a new generic function for ‘classifyTestsF’ in package ‘variancePartition’
Creating a new generic function for ‘topTable’ in package ‘variancePartition’
** help
Loading required namespace: variancePartition
*** installing help indices
*** copying figures
** building package indices
** installing vignettes
** testing if installed package can be loaded from temporary location
** testing if installed package can be loaded from final location
** testing if installed package keeps a record of temporary installation path
* DONE (variancePartition)

Tests output

variancePartition.Rcheck/tests/runTests.Rout


R version 4.5.0 (2025-04-11) -- "How About a Twenty-Six"
Copyright (C) 2025 The R Foundation for Statistical Computing
Platform: aarch64-unknown-linux-gnu

R is free software and comes with ABSOLUTELY NO WARRANTY.
You are welcome to redistribute it under certain conditions.
Type 'license()' or 'licence()' for distribution details.

R is a collaborative project with many contributors.
Type 'contributors()' for more information and
'citation()' on how to cite R or R packages in publications.

Type 'demo()' for some demos, 'help()' for on-line help, or
'help.start()' for an HTML browser interface to help.
Type 'q()' to quit R.

> BiocGenerics:::testPackage("variancePartition")

Attaching package: 'variancePartition'

The following objects are masked from 'package:limma':

    eBayes, topTable

Loading required package: lme4
Loading required package: Matrix

Attaching package: 'lmerTest'

The following object is masked from 'package:lme4':

    lmer

The following object is masked from 'package:stats':

    step

boundary (singular) fit: see help('isSingular')
boundary (singular) fit: see help('isSingular')
Removing intercept from test coefficients
Removing intercept from test coefficients
Removing intercept from test coefficients
Removing intercept from test coefficients
boundary (singular) fit: see help('isSingular')
boundary (singular) fit: see help('isSingular')
boundary (singular) fit: see help('isSingular')
boundary (singular) fit: see help('isSingular')
boundary (singular) fit: see help('isSingular')
boundary (singular) fit: see help('isSingular')
boundary (singular) fit: see help('isSingular')
boundary (singular) fit: see help('isSingular')
boundary (singular) fit: see help('isSingular')
boundary (singular) fit: see help('isSingular')
boundary (singular) fit: see help('isSingular')
boundary (singular) fit: see help('isSingular')
boundary (singular) fit: see help('isSingular')
boundary (singular) fit: see help('isSingular')
boundary (singular) fit: see help('isSingular')
boundary (singular) fit: see help('isSingular')
boundary (singular) fit: see help('isSingular')
boundary (singular) fit: see help('isSingular')
Removing intercept from test coefficients
Removing intercept from test coefficients
Loading required package: Rcpp
Loading required package: zigg
Loading required package: RcppParallel

Attaching package: 'RcppParallel'

The following object is masked from 'package:Rcpp':

    LdFlags


Rfast: 2.1.5.2
 ___ __ __ __ __    __ __ __ __ __ _             _               __ __ __ __ __     __ __ __ __ __ __   
|  __ __ __ __  |  |  __ __ __ __ _/            / \             |  __ __ __ __ /   /__ __ _   _ __ __\  
| |           | |  | |                         / _ \            | |                        / /          
| |           | |  | |                        / / \ \           | |                       / /          
| |           | |  | |                       / /   \ \          | |                      / /          
| |__ __ __ __| |  | |__ __ __ __           / /     \ \         | |__ __ __ __ _        / /__/\          
|    __ __ __ __|  |  __ __ __ __|         / /__ _ __\ \        |_ __ __ __ _   |      / ___  /           
|   \              | |                    / _ _ _ _ _ _ \                     | |      \/  / /       
| |\ \             | |                   / /           \ \                    | |         / /          
| | \ \            | |                  / /             \ \                   | |        / /          
| |  \ \           | |                 / /               \ \                  | |       / /          
| |   \ \__ __ _   | |                / /                 \ \     _ __ __ __ _| |      / /          
|_|    \__ __ __\  |_|               /_/                   \_\   /_ __ __ __ ___|      \/             team

Attaching package: 'Rfast'

The following object is masked from 'package:edgeR':

    gini

Warning: 
Variables contain NA's: Disease 
Samples with missing data will be dropped.



RUNIT TEST PROTOCOL -- Tue Nov 11 16:22:27 2025 
*********************************************** 
Number of test functions: 31 
Number of errors: 0 
Number of failures: 0 

 
1 Test Suite : 
variancePartition RUnit Tests - 31 test functions, 0 errors, 0 failures
Number of test functions: 31 
Number of errors: 0 
Number of failures: 0 
There were 32 warnings (use warnings() to see them)
> 
> proc.time()
   user  system elapsed 
274.986   2.383 337.418 

Example timings

variancePartition.Rcheck/variancePartition-Ex.timings

nameusersystemelapsed
ESS-method0.2030.0160.270
as.data.frame.varPartResults0.4530.0000.638
as.matrix-varPartResults-method0.3990.0000.401
augmentPriorCount0.8200.0190.842
calcVarPart-method0.0770.0120.089
canCorPairs0.0980.0000.098
colinearityScore0.6540.0160.672
deviation-method1.3230.0041.332
diffVar-method1.8330.0401.937
dream-method 4.718 0.10515.323
extractVarPart21.147 0.13221.362
fitExtractVarPartModel-method33.476 0.15134.373
fitVarPartModel-method42.042 0.08842.975
getContrast-method0.0090.0000.008
getTreat-method28.353 0.09229.027
get_prediction-method0.0890.0080.101
ggColorHue000
makeContrastsDream2.2610.0002.425
mvTest-method 7.706 0.02817.648
plotCompareP-method22.475 0.00822.626
plotContrasts0.4470.0040.453
plotCorrMatrix0.0820.0000.082
plotCorrStructure1.0940.0041.102
plotPercentBars-method11.293 0.04711.375
plotStratify1.7040.0041.713
plotStratifyBy1.9470.0041.957
plotVarPart-method10.553 0.00010.593
rdf0.0350.0000.034
rdf.merMod0.0790.0000.079
residuals-VarParFitList-method9.7930.0289.856
sortCols-method10.565 0.00010.608
varPartConfInf13.930 0.00014.238
vcovSqrt-method0.0190.0000.019
voomWithDreamWeights4.1260.0204.180