Back to Multiple platform build/check report for BioC 3.22:   simplified   long
ABCDEFGHIJKLMNOPQRS[T]UVWXYZ

This page was generated on 2025-11-14 11:59 -0500 (Fri, 14 Nov 2025).

HostnameOSArch (*)R versionInstalled pkgs
nebbiolo2Linux (Ubuntu 24.04.3 LTS)x86_644.5.1 Patched (2025-08-23 r88802) -- "Great Square Root" 4903
taishanLinux (openEuler 24.03 LTS)aarch644.5.0 (2025-04-11) -- "How About a Twenty-Six" 4668
Click on any hostname to see more info about the system (e.g. compilers)      (*) as reported by 'uname -p', except on Windows and Mac OS X

Package 2282/2361HostnameOS / ArchINSTALLBUILDCHECKBUILD BIN
twoddpcr 1.34.0  (landing page)
Anthony Chiu
Snapshot Date: 2025-11-13 13:45 -0500 (Thu, 13 Nov 2025)
git_url: https://git.bioconductor.org/packages/twoddpcr
git_branch: RELEASE_3_22
git_last_commit: 75a6d44
git_last_commit_date: 2025-10-29 10:37:06 -0500 (Wed, 29 Oct 2025)
nebbiolo2Linux (Ubuntu 24.04.3 LTS) / x86_64  OK    OK    OK  UNNEEDED, same version is already published
taishanLinux (openEuler 24.03 LTS) / aarch64  OK    OK    OK  


CHECK results for twoddpcr on taishan

To the developers/maintainers of the twoddpcr package:
- Allow up to 24 hours (and sometimes 48 hours) for your latest push to git@git.bioconductor.org:packages/twoddpcr.git to reflect on this report. See Troubleshooting Build Report for more information.
- Use the following Renviron settings to reproduce errors and warnings.
- If 'R CMD check' started to fail recently on the Linux builder(s) over a missing dependency, add the missing dependency to 'Suggests:' in your DESCRIPTION file. See Renviron.bioc for more information.
- See Martin Grigorov's blog post for how to debug Linux ARM64 related issues on a x86_64 host.

raw results


Summary

Package: twoddpcr
Version: 1.34.0
Command: /home/biocbuild/R/R/bin/R CMD check --install=check:twoddpcr.install-out.txt --library=/home/biocbuild/R/R/site-library --no-vignettes --timings twoddpcr_1.34.0.tar.gz
StartedAt: 2025-11-14 16:08:13 -0000 (Fri, 14 Nov 2025)
EndedAt: 2025-11-14 16:10:51 -0000 (Fri, 14 Nov 2025)
EllapsedTime: 158.3 seconds
RetCode: 0
Status:   OK  
CheckDir: twoddpcr.Rcheck
Warnings: 0

Command output

##############################################################################
##############################################################################
###
### Running command:
###
###   /home/biocbuild/R/R/bin/R CMD check --install=check:twoddpcr.install-out.txt --library=/home/biocbuild/R/R/site-library --no-vignettes --timings twoddpcr_1.34.0.tar.gz
###
##############################################################################
##############################################################################


* using log directory ‘/home/biocbuild/bbs-3.22-bioc/meat/twoddpcr.Rcheck’
* using R version 4.5.0 (2025-04-11)
* using platform: aarch64-unknown-linux-gnu
* R was compiled by
    aarch64-unknown-linux-gnu-gcc (GCC) 14.2.0
    GNU Fortran (GCC) 14.2.0
* running under: openEuler 24.03 (LTS)
* using session charset: UTF-8
* using option ‘--no-vignettes’
* checking for file ‘twoddpcr/DESCRIPTION’ ... OK
* this is package ‘twoddpcr’ version ‘1.34.0’
* checking package namespace information ... OK
* checking package dependencies ... OK
* checking if this is a source package ... OK
* checking if there is a namespace ... OK
* checking for hidden files and directories ... OK
* checking for portable file names ... OK
* checking for sufficient/correct file permissions ... OK
* checking whether package ‘twoddpcr’ can be installed ... OK
* checking installed package size ... OK
* checking package directory ... OK
* checking ‘build’ directory ... OK
* checking DESCRIPTION meta-information ... OK
* checking top-level files ... OK
* checking for left-over files ... OK
* checking index information ... OK
* checking package subdirectories ... OK
* checking code files for non-ASCII characters ... OK
* checking R files for syntax errors ... OK
* checking whether the package can be loaded ... OK
* checking whether the package can be loaded with stated dependencies ... OK
* checking whether the package can be unloaded cleanly ... OK
* checking whether the namespace can be loaded with stated dependencies ... OK
* checking whether the namespace can be unloaded cleanly ... OK
* checking loading without being on the library search path ... OK
* checking dependencies in R code ... OK
* checking S3 generic/method consistency ... OK
* checking replacement functions ... OK
* checking foreign function calls ... OK
* checking R code for possible problems ... OK
* checking Rd files ... OK
* checking Rd metadata ... OK
* checking Rd cross-references ... OK
* checking for missing documentation entries ... OK
* checking for code/documentation mismatches ... OK
* checking Rd \usage sections ... NOTE
S3 methods shown with full name in Rd file 'ggplot.well.Rd':
  ‘ggplot.well’ ‘ggplot.plate’

The \usage entries for S3 methods should use the \method markup and not
their full name.
See chapter ‘Writing R documentation files’ in the ‘Writing R
Extensions’ manual.
* checking Rd contents ... OK
* checking for unstated dependencies in examples ... OK
* checking contents of ‘data’ directory ... OK
* checking data for non-ASCII characters ... OK
* checking LazyData ... OK
* checking data for ASCII and uncompressed saves ... OK
* checking files in ‘vignettes’ ... OK
* checking examples ... OK
Examples with CPU (user + system) or elapsed time > 5s
               user system elapsed
knnClassify  17.574  0.071  17.737
ggplot.well   6.653  0.128   6.796
gridClassify  5.471  0.052   5.566
dropletPlot   5.403  0.108   5.560
* checking for unstated dependencies in ‘tests’ ... OK
* checking tests ...
  Running ‘testthat.R’
 OK
* checking for unstated dependencies in vignettes ... OK
* checking package vignettes ... OK
* checking running R code from vignettes ... SKIPPED
* checking re-building of vignette outputs ... SKIPPED
* checking PDF version of manual ... OK
* DONE

Status: 1 NOTE
See
  ‘/home/biocbuild/bbs-3.22-bioc/meat/twoddpcr.Rcheck/00check.log’
for details.


Installation output

twoddpcr.Rcheck/00install.out

##############################################################################
##############################################################################
###
### Running command:
###
###   /home/biocbuild/R/R/bin/R CMD INSTALL twoddpcr
###
##############################################################################
##############################################################################


* installing to library ‘/home/biocbuild/R/R-4.5.0/site-library’
* installing *source* package ‘twoddpcr’ ...
** this is package ‘twoddpcr’ version ‘1.34.0’
** using staged installation
** R
** data
*** moving datasets to lazyload DB
** inst
** byte-compile and prepare package for lazy loading
** help
*** installing help indices
** building package indices
** installing vignettes
** testing if installed package can be loaded from temporary location
** testing if installed package can be loaded from final location
** testing if installed package keeps a record of temporary installation path
* DONE (twoddpcr)

Tests output

twoddpcr.Rcheck/tests/testthat.Rout


R version 4.5.0 (2025-04-11) -- "How About a Twenty-Six"
Copyright (C) 2025 The R Foundation for Statistical Computing
Platform: aarch64-unknown-linux-gnu

R is free software and comes with ABSOLUTELY NO WARRANTY.
You are welcome to redistribute it under certain conditions.
Type 'license()' or 'licence()' for distribution details.

R is a collaborative project with many contributors.
Type 'contributors()' for more information and
'citation()' on how to cite R or R packages in publications.

Type 'demo()' for some demos, 'help()' for on-line help, or
'help.start()' for an HTML browser interface to help.
Type 'q()' to quit R.

> library(testthat)
> library(twoddpcr)
> 
> test_check("twoddpcr")
[ FAIL 0 | WARN 2 | SKIP 0 | PASS 155 ]

[ FAIL 0 | WARN 2 | SKIP 0 | PASS 155 ]
> 
> proc.time()
   user  system elapsed 
  8.429   0.645   9.107 

Example timings

twoddpcr.Rcheck/twoddpcr-Ex.timings

nameusersystemelapsed
amplitudes0.4000.0080.409
basicsSummary0.0060.0000.006
castSummary0.0220.0000.022
classCov0.0800.0000.081
classMeans0.2440.0000.245
classStats0.0840.0040.088
clusterCentres0.8270.0000.835
copiesSummary0.0070.0000.007
ddpcrPlate-class0.3120.0000.318
ddpcrWell-class0.0250.0000.026
ddpcrWell-methods0.4470.0000.454
dropletPlot5.4030.1085.560
exportTable0.1810.0060.193
extractPlateName000
extractWellNames000
facetPlot3.1010.1043.214
flatPlot4.6140.0964.730
fullCopiesSummary0.0080.0000.007
fullCountsSummary0.0340.0000.033
ggplot.well6.6530.1286.796
gridClassify5.4710.0525.566
heatPlot2.0980.0282.146
kmeansClassify1.2950.0041.304
knnClassify17.574 0.07117.737
mahalanobisRain0.9770.0160.996
mutantCopiesSummary0.0020.0040.005
numDroplets0.2810.0040.302
parseClusterCounts0.0150.0000.015
plateClassification1.2220.0001.226
plateClassificationMethod0.4120.0000.413
plateSummary2.0030.0082.014
positiveCounts0.0290.0000.029
readCSVDataFrame0.0110.0040.015
relabelClasses0.0560.0000.056
removeDropletClasses0.8060.0000.814
renormalisePlate3.8270.0203.896
sdRain3.0690.0083.093
setChannelNames0.0020.0000.001
setDropletVolume000
sortDataFrame0.0020.0000.003
sortWells0.2940.0000.298
thresholdClassify1.6480.0161.682
wellClassification0.020.000.02
wellClassificationMethod0.0220.0000.023
whiteTheme1.6120.0201.639
wildTypeCopiesSummary0.0060.0000.005