Back to Multiple platform build/check report for BioC 3.21: simplified long |
|
This page was generated on 2025-10-13 11:41 -0400 (Mon, 13 Oct 2025).
Hostname | OS | Arch (*) | R version | Installed pkgs |
---|---|---|---|---|
nebbiolo1 | Linux (Ubuntu 24.04.3 LTS) | x86_64 | 4.5.1 (2025-06-13) -- "Great Square Root" | 4833 |
merida1 | macOS 12.7.5 Monterey | x86_64 | 4.5.1 RC (2025-06-05 r88288) -- "Great Square Root" | 4614 |
kjohnson1 | macOS 13.6.6 Ventura | arm64 | 4.5.1 Patched (2025-06-14 r88325) -- "Great Square Root" | 4555 |
kunpeng2 | Linux (openEuler 24.03 LTS) | aarch64 | R Under development (unstable) (2025-02-19 r87757) -- "Unsuffered Consequences" | 4586 |
Click on any hostname to see more info about the system (e.g. compilers) (*) as reported by 'uname -p', except on Windows and Mac OS X |
Package 2245/2341 | Hostname | OS / Arch | INSTALL | BUILD | CHECK | BUILD BIN | ||||||||
trio 3.46.0 (landing page) Holger Schwender
| nebbiolo1 | Linux (Ubuntu 24.04.3 LTS) / x86_64 | OK | OK | OK | ![]() | ||||||||
merida1 | macOS 12.7.5 Monterey / x86_64 | OK | OK | OK | OK | ![]() | ||||||||
kjohnson1 | macOS 13.6.6 Ventura / arm64 | OK | OK | OK | OK | ![]() | ||||||||
kunpeng2 | Linux (openEuler 24.03 LTS) / aarch64 | OK | OK | OK | ||||||||||
To the developers/maintainers of the trio package: - Allow up to 24 hours (and sometimes 48 hours) for your latest push to git@git.bioconductor.org:packages/trio.git to reflect on this report. See Troubleshooting Build Report for more information. - Use the following Renviron settings to reproduce errors and warnings. - If 'R CMD check' started to fail recently on the Linux builder(s) over a missing dependency, add the missing dependency to 'Suggests:' in your DESCRIPTION file. See Renviron.bioc for more information. |
Package: trio |
Version: 3.46.0 |
Command: /Library/Frameworks/R.framework/Resources/bin/R CMD check --install=check:trio.install-out.txt --library=/Library/Frameworks/R.framework/Resources/library --no-vignettes --timings trio_3.46.0.tar.gz |
StartedAt: 2025-10-11 17:36:09 -0400 (Sat, 11 Oct 2025) |
EndedAt: 2025-10-11 17:38:54 -0400 (Sat, 11 Oct 2025) |
EllapsedTime: 165.3 seconds |
RetCode: 0 |
Status: OK |
CheckDir: trio.Rcheck |
Warnings: 0 |
############################################################################## ############################################################################## ### ### Running command: ### ### /Library/Frameworks/R.framework/Resources/bin/R CMD check --install=check:trio.install-out.txt --library=/Library/Frameworks/R.framework/Resources/library --no-vignettes --timings trio_3.46.0.tar.gz ### ############################################################################## ############################################################################## * using log directory ‘/Users/biocbuild/bbs-3.21-bioc/meat/trio.Rcheck’ * using R version 4.5.1 Patched (2025-06-14 r88325) * using platform: aarch64-apple-darwin20 * R was compiled by Apple clang version 16.0.0 (clang-1600.0.26.6) GNU Fortran (GCC) 14.2.0 * running under: macOS Ventura 13.7.5 * using session charset: UTF-8 * using option ‘--no-vignettes’ * checking for file ‘trio/DESCRIPTION’ ... OK * checking extension type ... Package * this is package ‘trio’ version ‘3.46.0’ * checking package namespace information ... OK * checking package dependencies ... OK * checking if this is a source package ... OK * checking if there is a namespace ... OK * checking for hidden files and directories ... OK * checking for portable file names ... OK * checking for sufficient/correct file permissions ... OK * checking whether package ‘trio’ can be installed ... OK * checking installed package size ... OK * checking package directory ... OK * checking ‘build’ directory ... OK * checking DESCRIPTION meta-information ... OK * checking top-level files ... OK * checking for left-over files ... OK * checking index information ... OK * checking package subdirectories ... OK * checking code files for non-ASCII characters ... OK * checking R files for syntax errors ... OK * checking whether the package can be loaded ... OK * checking whether the package can be loaded with stated dependencies ... OK * checking whether the package can be unloaded cleanly ... OK * checking whether the namespace can be loaded with stated dependencies ... OK * checking whether the namespace can be unloaded cleanly ... OK * checking whether startup messages can be suppressed ... OK * checking dependencies in R code ... OK * checking S3 generic/method consistency ... OK * checking replacement functions ... OK * checking foreign function calls ... NOTE Foreign function call to a different package: .C("clogreg", ..., PACKAGE = "LogicReg") See chapter ‘System and foreign language interfaces’ in the ‘Writing R Extensions’ manual. * checking R code for possible problems ... NOTE read.pedfile: no visible binding for global variable ‘..ids.select’ Undefined global functions or variables: ..ids.select * checking Rd files ... OK * checking Rd metadata ... OK * checking Rd cross-references ... OK * checking for missing documentation entries ... OK * checking for code/documentation mismatches ... OK * checking Rd \usage sections ... OK * checking Rd contents ... OK * checking for unstated dependencies in examples ... OK * checking contents of ‘data’ directory ... OK * checking data for non-ASCII characters ... OK * checking data for ASCII and uncompressed saves ... OK * checking sizes of PDF files under ‘inst/doc’ ... OK * checking installed files from ‘inst/doc’ ... OK * checking files in ‘vignettes’ ... OK * checking examples ... OK Examples with CPU (user + system) or elapsed time > 5s user system elapsed print.trioFS 5.145 0.114 5.395 trioFS 5.016 0.052 5.126 colGxGPerms 4.830 0.221 5.093 * checking for unstated dependencies in vignettes ... OK * checking package vignettes ... OK * checking running R code from vignettes ... SKIPPED * checking re-building of vignette outputs ... SKIPPED * checking PDF version of manual ... OK * DONE Status: 2 NOTEs See ‘/Users/biocbuild/bbs-3.21-bioc/meat/trio.Rcheck/00check.log’ for details.
trio.Rcheck/00install.out
############################################################################## ############################################################################## ### ### Running command: ### ### /Library/Frameworks/R.framework/Resources/bin/R CMD INSTALL trio ### ############################################################################## ############################################################################## * installing to library ‘/Library/Frameworks/R.framework/Versions/4.5-arm64/Resources/library’ * installing *source* package ‘trio’ ... ** this is package ‘trio’ version ‘3.46.0’ ** using staged installation ** R ** data ** inst ** byte-compile and prepare package for lazy loading ** help *** installing help indices ** building package indices ** installing vignettes ** testing if installed package can be loaded from temporary location ** testing if installed package can be loaded from final location ** testing if installed package keeps a record of temporary installation path * DONE (trio)
trio.Rcheck/trio-Ex.timings
name | user | system | elapsed | |
allelicTDT | 0.028 | 0.006 | 0.035 | |
colEMlrt | 0.093 | 0.007 | 0.100 | |
colGxE | 0.010 | 0.002 | 0.012 | |
colGxGPerms | 4.830 | 0.221 | 5.093 | |
colNtrios | 0.017 | 0.003 | 0.020 | |
colPOlrt | 0.017 | 0.002 | 0.019 | |
colTDTmaxTest | 0.069 | 0.006 | 0.076 | |
colTDTsam | 0.041 | 0.004 | 0.046 | |
findLDblocks | 0.027 | 0.003 | 0.030 | |
getLD | 0.027 | 0.006 | 0.034 | |
getMatPseudo | 0.010 | 0.002 | 0.012 | |
lrControl | 0.000 | 0.000 | 0.001 | |
ntrios2Dom | 0.008 | 0.003 | 0.010 | |
ped2geno | 0.000 | 0.001 | 0.001 | |
plot.LDblocks | 0.055 | 0.008 | 0.064 | |
plot.getLD | 0.041 | 0.008 | 0.049 | |
plot.trioLR | 4.609 | 0.209 | 4.883 | |
poly4root | 0.001 | 0.001 | 0.000 | |
print.colGxE | 0.047 | 0.006 | 0.053 | |
print.trioFS | 5.145 | 0.114 | 5.395 | |
print.trioLR | 2.371 | 0.050 | 2.628 | |
probTDT | 0.048 | 0.018 | 0.068 | |
read.pedfile | 0.000 | 0.000 | 0.001 | |
removeSNPs | 0.008 | 0.002 | 0.011 | |
scoreTDT | 0.012 | 0.002 | 0.016 | |
tdt | 0.022 | 0.003 | 0.025 | |
tdtGxG | 1.253 | 0.066 | 1.363 | |
trio.check | 0.557 | 0.007 | 0.591 | |
trio.data | 0.003 | 0.001 | 0.004 | |
trio.permTest | 4.406 | 0.045 | 4.618 | |
trio.power | 0.014 | 0.001 | 0.014 | |
trio.prepare | 2.191 | 0.046 | 2.251 | |
trio.sim | 0.484 | 0.011 | 0.498 | |
trioFS | 5.016 | 0.052 | 5.126 | |
trioLR | 2.255 | 0.030 | 2.300 | |