Back to Multiple platform build/check report for BioC 3.21:   simplified   long
ABCDEFGHIJKLMNOPQRS[T]UVWXYZ

This page was generated on 2025-10-16 11:38 -0400 (Thu, 16 Oct 2025).

HostnameOSArch (*)R versionInstalled pkgs
nebbiolo1Linux (Ubuntu 24.04.3 LTS)x86_644.5.1 (2025-06-13) -- "Great Square Root" 4833
merida1macOS 12.7.6 Montereyx86_644.5.1 RC (2025-06-05 r88288) -- "Great Square Root" 4614
kjohnson1macOS 13.7.5 Venturaarm644.5.1 Patched (2025-06-14 r88325) -- "Great Square Root" 4555
kunpeng2Linux (openEuler 24.03 LTS)aarch64R Under development (unstable) (2025-02-19 r87757) -- "Unsuffered Consequences" 4586
Click on any hostname to see more info about the system (e.g. compilers)      (*) as reported by 'uname -p', except on Windows and Mac OS X

Package 2193/2341HostnameOS / ArchINSTALLBUILDCHECKBUILD BIN
tidytof 1.2.0  (landing page)
Timothy Keyes
Snapshot Date: 2025-10-13 13:40 -0400 (Mon, 13 Oct 2025)
git_url: https://git.bioconductor.org/packages/tidytof
git_branch: RELEASE_3_21
git_last_commit: d95118e
git_last_commit_date: 2025-04-15 13:39:34 -0400 (Tue, 15 Apr 2025)
nebbiolo1Linux (Ubuntu 24.04.3 LTS) / x86_64  OK    OK    ERROR  
merida1macOS 12.7.6 Monterey / x86_64  OK    OK    ERROR    OK  
kjohnson1macOS 13.7.5 Ventura / arm64  OK    OK    ERROR    OK  
kunpeng2Linux (openEuler 24.03 LTS) / aarch64  OK    OK    NA  


CHECK results for tidytof on nebbiolo1

To the developers/maintainers of the tidytof package:
- Allow up to 24 hours (and sometimes 48 hours) for your latest push to git@git.bioconductor.org:packages/tidytof.git to reflect on this report. See Troubleshooting Build Report for more information.
- Use the following Renviron settings to reproduce errors and warnings.
- If 'R CMD check' started to fail recently on the Linux builder(s) over a missing dependency, add the missing dependency to 'Suggests:' in your DESCRIPTION file. See Renviron.bioc for more information.

raw results


Summary

Package: tidytof
Version: 1.2.0
Command: /home/biocbuild/bbs-3.21-bioc/R/bin/R CMD check --install=check:tidytof.install-out.txt --library=/home/biocbuild/bbs-3.21-bioc/R/site-library --timings tidytof_1.2.0.tar.gz
StartedAt: 2025-10-16 04:24:25 -0400 (Thu, 16 Oct 2025)
EndedAt: 2025-10-16 04:36:42 -0400 (Thu, 16 Oct 2025)
EllapsedTime: 736.9 seconds
RetCode: 1
Status:   ERROR  
CheckDir: tidytof.Rcheck
Warnings: NA

Command output

##############################################################################
##############################################################################
###
### Running command:
###
###   /home/biocbuild/bbs-3.21-bioc/R/bin/R CMD check --install=check:tidytof.install-out.txt --library=/home/biocbuild/bbs-3.21-bioc/R/site-library --timings tidytof_1.2.0.tar.gz
###
##############################################################################
##############################################################################


* using log directory ‘/home/biocbuild/bbs-3.21-bioc/meat/tidytof.Rcheck’
* using R version 4.5.1 (2025-06-13)
* using platform: x86_64-pc-linux-gnu
* R was compiled by
    gcc (Ubuntu 13.3.0-6ubuntu2~24.04) 13.3.0
    GNU Fortran (Ubuntu 13.3.0-6ubuntu2~24.04) 13.3.0
* running under: Ubuntu 24.04.3 LTS
* using session charset: UTF-8
* checking for file ‘tidytof/DESCRIPTION’ ... OK
* checking extension type ... Package
* this is package ‘tidytof’ version ‘1.2.0’
* package encoding: UTF-8
* checking package namespace information ... OK
* checking package dependencies ... OK
* checking if this is a source package ... OK
* checking if there is a namespace ... OK
* checking for hidden files and directories ... OK
* checking for portable file names ... OK
* checking for sufficient/correct file permissions ... OK
* checking whether package ‘tidytof’ can be installed ... OK
* used C++ compiler: ‘g++ (Ubuntu 13.3.0-6ubuntu2~24.04) 13.3.0’
* checking installed package size ... OK
* checking package directory ... OK
* checking ‘build’ directory ... OK
* checking DESCRIPTION meta-information ... OK
* checking top-level files ... OK
* checking for left-over files ... OK
* checking index information ... OK
* checking package subdirectories ... OK
* checking code files for non-ASCII characters ... OK
* checking R files for syntax errors ... OK
* checking whether the package can be loaded ... OK
* checking whether the package can be loaded with stated dependencies ... OK
* checking whether the package can be unloaded cleanly ... OK
* checking whether the namespace can be loaded with stated dependencies ... OK
* checking whether the namespace can be unloaded cleanly ... OK
* checking loading without being on the library search path ... OK
* checking dependencies in R code ... OK
* checking S3 generic/method consistency ... OK
* checking replacement functions ... OK
* checking foreign function calls ... OK
* checking R code for possible problems ... OK
* checking Rd files ... OK
* checking Rd metadata ... OK
* checking Rd cross-references ... OK
* checking for missing documentation entries ... OK
* checking for code/documentation mismatches ... OK
* checking Rd \usage sections ... OK
* checking Rd contents ... OK
* checking for unstated dependencies in examples ... OK
* checking contents of ‘data’ directory ... OK
* checking data for non-ASCII characters ... OK
* checking data for ASCII and uncompressed saves ... OK
* checking R/sysdata.rda ... OK
* checking line endings in C/C++/Fortran sources/headers ... OK
* checking compiled code ... NOTE
Note: information on .o files is not available
* checking files in ‘vignettes’ ... OK
* checking examples ... OK
Examples with CPU (user + system) or elapsed time > 5s
                         user system elapsed
tof_assess_clusters_knn 7.461   0.16   7.623
* checking for unstated dependencies in ‘tests’ ... OK
* checking tests ...
  Running ‘spelling.R’
  Running ‘testthat.R’
 ERROR
Running the tests in ‘tests/testthat.R’ failed.
Last 13 lines of output:
    9.             └─yardstick::curve_metric_summarizer(...)
   10.               └─yardstick:::yardstick_eval_select_dots(..., data = data, error_call = error_call)
   11.                 └─tidyselect::eval_select(...)
   12.                   └─tidyselect:::eval_select_impl(...)
   13.                     ├─tidyselect:::with_subscript_errors(...)
   14.                     │ └─base::withCallingHandlers(...)
   15.                     └─tidyselect:::vars_select_eval(...)
   16.                       └─tidyselect:::ensure_named(...)
   17.                         └─tidyselect:::check_empty(pos, allow_empty, call = call)
   18.                           └─cli::cli_abort("Must select at least one item.", call = call)
   19.                             └─rlang::abort(...)
  
  [ FAIL 2 | WARN 1 | SKIP 0 | PASS 684 ]
  Error: Test failures
  Execution halted
* checking for unstated dependencies in vignettes ... OK
* checking package vignettes ... OK
* checking re-building of vignette outputs ... OK
* checking PDF version of manual ... OK
* DONE

Status: 1 ERROR, 1 NOTE
See
  ‘/home/biocbuild/bbs-3.21-bioc/meat/tidytof.Rcheck/00check.log’
for details.


Installation output

tidytof.Rcheck/00install.out

##############################################################################
##############################################################################
###
### Running command:
###
###   /home/biocbuild/bbs-3.21-bioc/R/bin/R CMD INSTALL tidytof
###
##############################################################################
##############################################################################


* installing to library ‘/home/biocbuild/bbs-3.21-bioc/R/site-library’
* installing *source* package ‘tidytof’ ...
** this is package ‘tidytof’ version ‘1.2.0’
** using staged installation
** libs
using C++ compiler: ‘g++ (Ubuntu 13.3.0-6ubuntu2~24.04) 13.3.0’
g++ -std=gnu++17 -I"/home/biocbuild/bbs-3.21-bioc/R/include" -DNDEBUG  -I'/home/biocbuild/bbs-3.21-bioc/R/site-library/Rcpp/include' -I/usr/local/include    -fpic  -g -O2  -Wall -Werror=format-security  -c RcppExports.cpp -o RcppExports.o
g++ -std=gnu++17 -I"/home/biocbuild/bbs-3.21-bioc/R/include" -DNDEBUG  -I'/home/biocbuild/bbs-3.21-bioc/R/site-library/Rcpp/include' -I/usr/local/include    -fpic  -g -O2  -Wall -Werror=format-security  -c code.cpp -o code.o
g++ -std=gnu++17 -shared -L/home/biocbuild/bbs-3.21-bioc/R/lib -L/usr/local/lib -o tidytof.so RcppExports.o code.o -L/home/biocbuild/bbs-3.21-bioc/R/lib -lR
installing to /home/biocbuild/bbs-3.21-bioc/R/site-library/00LOCK-tidytof/00new/tidytof/libs
** R
** data
** inst
** byte-compile and prepare package for lazy loading
** help
*** installing help indices
*** copying figures
** building package indices
** installing vignettes
** testing if installed package can be loaded from temporary location
** checking absolute paths in shared objects and dynamic libraries
** testing if installed package can be loaded from final location
** testing if installed package keeps a record of temporary installation path
* DONE (tidytof)

Tests output

tidytof.Rcheck/tests/spelling.Rout


R version 4.5.1 (2025-06-13) -- "Great Square Root"
Copyright (C) 2025 The R Foundation for Statistical Computing
Platform: x86_64-pc-linux-gnu

R is free software and comes with ABSOLUTELY NO WARRANTY.
You are welcome to redistribute it under certain conditions.
Type 'license()' or 'licence()' for distribution details.

R is a collaborative project with many contributors.
Type 'contributors()' for more information and
'citation()' on how to cite R or R packages in publications.

Type 'demo()' for some demos, 'help()' for on-line help, or
'help.start()' for an HTML browser interface to help.
Type 'q()' to quit R.

> if (requireNamespace("spelling", quietly = TRUE)) {
+     spelling::spell_check_test(
+         vignettes = TRUE, error = FALSE,
+         skip_on_cran = TRUE
+     )
+ }
All Done!
> 
> proc.time()
   user  system elapsed 
  0.149   0.039   0.174 

tidytof.Rcheck/tests/testthat.Rout.fail


R version 4.5.1 (2025-06-13) -- "Great Square Root"
Copyright (C) 2025 The R Foundation for Statistical Computing
Platform: x86_64-pc-linux-gnu

R is free software and comes with ABSOLUTELY NO WARRANTY.
You are welcome to redistribute it under certain conditions.
Type 'license()' or 'licence()' for distribution details.

R is a collaborative project with many contributors.
Type 'contributors()' for more information and
'citation()' on how to cite R or R packages in publications.

Type 'demo()' for some demos, 'help()' for on-line help, or
'help.start()' for an HTML browser interface to help.
Type 'q()' to quit R.

> Sys.setenv(R_TESTS="")
> library(testthat)
> library(tidytof)

Attaching package: 'tidytof'

The following object is masked from 'package:testthat':

    matches

> test_check("tidytof")

Attaching package: 'dplyr'

The following object is masked from 'package:testthat':

    matches

The following objects are masked from 'package:stats':

    filter, lag

The following objects are masked from 'package:base':

    intersect, setdiff, setequal, union


Attaching package: 'purrr'

The following object is masked from 'package:testthat':

    is_null


Attaching package: 'tidyr'

The following object is masked from 'package:testthat':

    matches

Loading required namespace: diffcyt

Attaching package: 'readr'

The following objects are masked from 'package:testthat':

    edition_get, local_edition

[ FAIL 2 | WARN 1 | SKIP 0 | PASS 684 ]

══ Failed tests ════════════════════════════════════════════════════════════════
── Error ('test-patient-level_modeling.R:1050:1'): (code run outside of `test_that()`) ──
Error in `yardstick::roc_curve(dplyr::mutate(input_data, truth = dplyr::pull(input_data, 
    {
        {
            truth_col
        }
    })), {
    {
        prob_cols
    }
}, truth = "truth", event_level = "second")`: Must select at least one item.
Backtrace:
     ▆
  1. └─tidytof::tof_assess_model(bootstrap_multinomial_regression, new_data = feature_tibble) at test-patient-level_modeling.R:1050:1
  2.   └─tidytof:::tof_assess_model_new_data(tof_model = tof_model, new_data = new_data)
  3.     └─tidytof::tof_make_roc_curve(...)
  4.       ├─dplyr::mutate(...)
  5.       ├─yardstick::roc_curve(...)
  6.       └─yardstick:::roc_curve.data.frame(...)
  7.         └─yardstick::curve_metric_summarizer(...)
  8.           └─yardstick:::yardstick_eval_select_dots(..., data = data, error_call = error_call)
  9.             └─tidyselect::eval_select(...)
 10.               └─tidyselect:::eval_select_impl(...)
 11.                 ├─tidyselect:::with_subscript_errors(...)
 12.                 │ └─base::withCallingHandlers(...)
 13.                 └─tidyselect:::vars_select_eval(...)
 14.                   └─tidyselect:::ensure_named(...)
 15.                     └─tidyselect:::check_empty(pos, allow_empty, call = call)
 16.                       └─cli::cli_abort("Must select at least one item.", call = call)
 17.                         └─rlang::abort(...)
── Error ('test-visualization.R:553:1'): (code run outside of `test_that()`) ───
Error in `yardstick::roc_curve(dplyr::mutate(input_data, truth = dplyr::pull(input_data, 
    {
        {
            truth_col
        }
    })), {
    {
        prob_cols
    }
}, truth = "truth", event_level = "second")`: Must select at least one item.
Backtrace:
     ▆
  1. └─tidytof::tof_plot_model(multinomial_tof_model) at test-visualization.R:553:1
  2.   └─tidytof:::tof_plot_model_multinomial(...)
  3.     └─tidytof::tof_assess_model(tof_model = tof_model, new_data = new_data)
  4.       └─tidytof:::tof_assess_model_new_data(tof_model = tof_model, new_data = new_data)
  5.         └─tidytof::tof_make_roc_curve(...)
  6.           ├─dplyr::mutate(...)
  7.           ├─yardstick::roc_curve(...)
  8.           └─yardstick:::roc_curve.data.frame(...)
  9.             └─yardstick::curve_metric_summarizer(...)
 10.               └─yardstick:::yardstick_eval_select_dots(..., data = data, error_call = error_call)
 11.                 └─tidyselect::eval_select(...)
 12.                   └─tidyselect:::eval_select_impl(...)
 13.                     ├─tidyselect:::with_subscript_errors(...)
 14.                     │ └─base::withCallingHandlers(...)
 15.                     └─tidyselect:::vars_select_eval(...)
 16.                       └─tidyselect:::ensure_named(...)
 17.                         └─tidyselect:::check_empty(pos, allow_empty, call = call)
 18.                           └─cli::cli_abort("Must select at least one item.", call = call)
 19.                             └─rlang::abort(...)

[ FAIL 2 | WARN 1 | SKIP 0 | PASS 684 ]
Error: Test failures
Execution halted

Example timings

tidytof.Rcheck/tidytof-Ex.timings

nameusersystemelapsed
as_SingleCellExperiment000
as_flowFrame000
as_flowSet0.0000.0000.001
as_seurat000
as_tof_tbl0.3500.0000.349
make_flowcore_annotated_data_frame000
reexports0.0000.0010.000
rev_asinh0.0000.0000.001
tidytof_example_data0.0010.0000.002
tof_analyze_abundance0.0000.0000.001
tof_analyze_abundance_diffcyt000
tof_analyze_abundance_glmm000
tof_analyze_abundance_ttest000
tof_analyze_expression000
tof_analyze_expression_diffcyt0.0000.0000.001
tof_analyze_expression_lmm0.0010.0000.000
tof_analyze_expression_ttest0.0000.0010.000
tof_annotate_clusters0.0820.0050.088
tof_apply_classifier0.0000.0010.000
tof_assess_channels0.0770.0010.079
tof_assess_clusters_distance0.3800.0790.458
tof_assess_clusters_entropy0.6170.0430.659
tof_assess_clusters_knn7.4610.1607.623
tof_assess_flow_rate0.9550.0180.973
tof_assess_flow_rate_tibble0.270.000.27
tof_assess_model0.4140.0050.418
tof_batch_correct0.0000.0000.001
tof_batch_correct_quantile000
tof_batch_correct_quantile_tibble0.0000.0010.000
tof_batch_correct_rescale000
tof_calculate_flow_rate0.0120.0010.013
tof_cluster0.4080.0120.420
tof_cluster_ddpr0.1620.0020.164
tof_cluster_flowsom4.7210.1014.824
tof_cluster_kmeans0.0310.0020.033
tof_cluster_phenograph1.3920.0051.396
tof_cosine_dist000
tof_create_grid0.0450.0010.045
tof_downsample0.1740.0020.176
tof_downsample_constant0.0630.0000.063
tof_downsample_density0.5640.0100.574
tof_downsample_prop0.0700.0010.071
tof_estimate_density0.3890.0050.395
tof_extract_central_tendency0.1770.0010.178
tof_extract_emd0.4220.0000.423
tof_extract_features0.4560.0000.457
tof_extract_jsd0.5020.0150.518
tof_extract_proportion0.1510.0000.151
tof_extract_threshold0.1580.0010.158
tof_find_knn0.2060.2260.432
tof_generate_palette0.0000.0000.001
tof_get_model_mixture0.2140.0010.215
tof_get_model_outcomes0.2290.0000.229
tof_get_model_penalty0.1990.0020.200
tof_get_model_training_data0.2340.0010.234
tof_get_model_type0.2220.0000.223
tof_get_model_x0.2260.0040.230
tof_get_model_y0.2260.0020.228
tof_get_panel0.0350.0000.035
tof_log_rank_test0.0010.0000.000
tof_make_knn_graph0.0000.0000.001
tof_make_roc_curve0.3040.0010.305
tof_metacluster0.6370.0020.638
tof_metacluster_consensus0.3050.0000.305
tof_metacluster_flowsom0.6890.0030.693
tof_metacluster_hierarchical0.0490.0010.050
tof_metacluster_kmeans0.0530.0000.053
tof_metacluster_phenograph0.0710.0000.072
tof_plot_cells_density0.0770.0030.079
tof_plot_cells_embedding3.6120.0013.616
tof_plot_cells_layout2.7180.0002.718
tof_plot_cells_scatter0.0020.0000.003
tof_plot_clusters_heatmap0.110.000.11
tof_plot_clusters_mst0.2510.0030.254
tof_plot_clusters_volcano0.0750.0010.076
tof_plot_model0.6460.0020.649
tof_plot_sample_features0.1530.0000.153
tof_plot_sample_heatmap0.0950.0010.095
tof_postprocess0.0880.0010.089
tof_predict0.2290.0000.229
tof_preprocess0.1520.0000.152
tof_read_data0.0740.0010.075
tof_reduce_dimensions2.4330.0532.483
tof_reduce_pca0.1380.0020.140
tof_reduce_tsne0.9340.0010.936
tof_reduce_umap3.6580.0293.644
tof_set_panel0.0680.0030.071
tof_spade_density0.5210.0090.531
tof_split_data0.0450.0010.046
tof_split_tidytof_reduced_dimensions000
tof_train_model1.3120.0041.316
tof_transform0.1460.0010.148
tof_upsample0.2090.0030.212
tof_upsample_distance0.3270.0040.331
tof_upsample_neighbor0.0580.0010.059
tof_write_data000
tof_write_fcs000
where000