| Back to Multiple platform build/check report for BioC 3.21: simplified long |
|
This page was generated on 2025-10-16 11:38 -0400 (Thu, 16 Oct 2025).
| Hostname | OS | Arch (*) | R version | Installed pkgs |
|---|---|---|---|---|
| nebbiolo1 | Linux (Ubuntu 24.04.3 LTS) | x86_64 | 4.5.1 (2025-06-13) -- "Great Square Root" | 4833 |
| merida1 | macOS 12.7.6 Monterey | x86_64 | 4.5.1 RC (2025-06-05 r88288) -- "Great Square Root" | 4614 |
| kjohnson1 | macOS 13.7.5 Ventura | arm64 | 4.5.1 Patched (2025-06-14 r88325) -- "Great Square Root" | 4555 |
| kunpeng2 | Linux (openEuler 24.03 LTS) | aarch64 | R Under development (unstable) (2025-02-19 r87757) -- "Unsuffered Consequences" | 4586 |
| Click on any hostname to see more info about the system (e.g. compilers) (*) as reported by 'uname -p', except on Windows and Mac OS X | ||||
| Package 2204/2341 | Hostname | OS / Arch | INSTALL | BUILD | CHECK | BUILD BIN | ||||||||
| tLOH 1.16.0 (landing page) Michelle Webb
| nebbiolo1 | Linux (Ubuntu 24.04.3 LTS) / x86_64 | OK | OK | OK | |||||||||
| merida1 | macOS 12.7.6 Monterey / x86_64 | OK | OK | OK | OK | |||||||||
| kjohnson1 | macOS 13.7.5 Ventura / arm64 | OK | OK | OK | OK | |||||||||
| kunpeng2 | Linux (openEuler 24.03 LTS) / aarch64 | OK | OK | NA | ||||||||||
|
To the developers/maintainers of the tLOH package: - Allow up to 24 hours (and sometimes 48 hours) for your latest push to git@git.bioconductor.org:packages/tLOH.git to reflect on this report. See Troubleshooting Build Report for more information. - Use the following Renviron settings to reproduce errors and warnings. - If 'R CMD check' started to fail recently on the Linux builder(s) over a missing dependency, add the missing dependency to 'Suggests:' in your DESCRIPTION file. See Renviron.bioc for more information. |
| Package: tLOH |
| Version: 1.16.0 |
| Command: /home/biocbuild/bbs-3.21-bioc/R/bin/R CMD check --install=check:tLOH.install-out.txt --library=/home/biocbuild/bbs-3.21-bioc/R/site-library --timings tLOH_1.16.0.tar.gz |
| StartedAt: 2025-10-16 04:27:14 -0400 (Thu, 16 Oct 2025) |
| EndedAt: 2025-10-16 04:38:29 -0400 (Thu, 16 Oct 2025) |
| EllapsedTime: 674.9 seconds |
| RetCode: 0 |
| Status: OK |
| CheckDir: tLOH.Rcheck |
| Warnings: 0 |
##############################################################################
##############################################################################
###
### Running command:
###
### /home/biocbuild/bbs-3.21-bioc/R/bin/R CMD check --install=check:tLOH.install-out.txt --library=/home/biocbuild/bbs-3.21-bioc/R/site-library --timings tLOH_1.16.0.tar.gz
###
##############################################################################
##############################################################################
* using log directory ‘/home/biocbuild/bbs-3.21-bioc/meat/tLOH.Rcheck’
* using R version 4.5.1 (2025-06-13)
* using platform: x86_64-pc-linux-gnu
* R was compiled by
gcc (Ubuntu 13.3.0-6ubuntu2~24.04) 13.3.0
GNU Fortran (Ubuntu 13.3.0-6ubuntu2~24.04) 13.3.0
* running under: Ubuntu 24.04.3 LTS
* using session charset: UTF-8
* checking for file ‘tLOH/DESCRIPTION’ ... OK
* checking extension type ... Package
* this is package ‘tLOH’ version ‘1.16.0’
* package encoding: UTF-8
* checking package namespace information ... OK
* checking package dependencies ... OK
* checking if this is a source package ... OK
* checking if there is a namespace ... OK
* checking for hidden files and directories ... OK
* checking for portable file names ... OK
* checking for sufficient/correct file permissions ... OK
* checking whether package ‘tLOH’ can be installed ... OK
* checking installed package size ... OK
* checking package directory ... OK
* checking ‘build’ directory ... OK
* checking DESCRIPTION meta-information ... NOTE
License stub is invalid DCF.
* checking top-level files ... OK
* checking for left-over files ... OK
* checking index information ... OK
* checking package subdirectories ... NOTE
Problems with news in ‘NEWS.md’:
No news entries found.
* checking code files for non-ASCII characters ... OK
* checking R files for syntax errors ... OK
* checking whether the package can be loaded ... OK
* checking whether the package can be loaded with stated dependencies ... OK
* checking whether the package can be unloaded cleanly ... OK
* checking whether the namespace can be loaded with stated dependencies ... OK
* checking whether the namespace can be unloaded cleanly ... OK
* checking loading without being on the library search path ... OK
* checking dependencies in R code ... OK
* checking S3 generic/method consistency ... OK
* checking replacement functions ... OK
* checking foreign function calls ... OK
* checking R code for possible problems ... OK
* checking Rd files ... OK
* checking Rd metadata ... OK
* checking Rd cross-references ... OK
* checking for missing documentation entries ... OK
* checking for code/documentation mismatches ... OK
* checking Rd \usage sections ... OK
* checking Rd contents ... OK
* checking for unstated dependencies in examples ... OK
* checking contents of ‘data’ directory ... OK
* checking data for non-ASCII characters ... OK
* checking data for ASCII and uncompressed saves ... OK
* checking files in ‘vignettes’ ... OK
* checking examples ... OK
Examples with CPU (user + system) or elapsed time > 5s
user system elapsed
hiddenMarkovAnalysis 71.250 0.578 75.463
regionAnalysis 53.957 1.386 58.394
runHMM_3 44.711 0.458 45.170
runHMM_2 42.230 0.246 42.478
prepareHMMdataframes 32.798 0.154 33.441
runHMM_1 25.592 0.299 25.891
tLOHCalcUpdate 23.681 0.064 23.746
splitByChromosome 23.426 0.120 23.552
alleleFrequencyPlot 6.986 0.244 7.231
aggregateCHRPlot 6.275 0.220 6.487
* checking for unstated dependencies in vignettes ... OK
* checking package vignettes ... OK
* checking re-building of vignette outputs ... OK
* checking PDF version of manual ... OK
* DONE
Status: 2 NOTEs
See
‘/home/biocbuild/bbs-3.21-bioc/meat/tLOH.Rcheck/00check.log’
for details.
tLOH.Rcheck/00install.out
############################################################################## ############################################################################## ### ### Running command: ### ### /home/biocbuild/bbs-3.21-bioc/R/bin/R CMD INSTALL tLOH ### ############################################################################## ############################################################################## * installing to library ‘/home/biocbuild/bbs-3.21-bioc/R/site-library’ * installing *source* package ‘tLOH’ ... ** this is package ‘tLOH’ version ‘1.16.0’ ** using staged installation ** R ** data ** inst ** byte-compile and prepare package for lazy loading ** help *** installing help indices ** building package indices ** installing vignettes ** testing if installed package can be loaded from temporary location ** testing if installed package can be loaded from final location ** testing if installed package keeps a record of temporary installation path * DONE (tLOH)
tLOH.Rcheck/tLOH-Ex.timings
| name | user | system | elapsed | |
| aggregateCHRPlot | 6.275 | 0.220 | 6.487 | |
| alleleFrequencyPlot | 6.986 | 0.244 | 7.231 | |
| documentErrorRegions | 0.002 | 0.000 | 0.002 | |
| hiddenMarkovAnalysis | 71.250 | 0.578 | 75.463 | |
| humanGBMsampleAC | 0.039 | 0.001 | 0.041 | |
| initialStartProbabilities | 0.000 | 0.001 | 0.001 | |
| marginalLikelihoodM1 | 0.000 | 0.002 | 0.003 | |
| marginalLikelihoodM2 | 0.001 | 0.000 | 0.002 | |
| marginalM1Calc | 0 | 0 | 0 | |
| marginalM2CalcBHET | 0.001 | 0.000 | 0.001 | |
| marginalM2CalcBLOH | 0.000 | 0.000 | 0.001 | |
| modePeakCalc | 0.000 | 0.001 | 0.001 | |
| prepareHMMdataframes | 32.798 | 0.154 | 33.441 | |
| regionAnalysis | 53.957 | 1.386 | 58.394 | |
| regionFinalize | 0 | 0 | 0 | |
| removeOutlierFromCalc | 0 | 0 | 0 | |
| runHMM_1 | 25.592 | 0.299 | 25.891 | |
| runHMM_2 | 42.230 | 0.246 | 42.478 | |
| runHMM_3 | 44.711 | 0.458 | 45.170 | |
| splitByChromosome | 23.426 | 0.120 | 23.552 | |
| summarizeRegions1 | 0.000 | 0.000 | 0.001 | |
| summarizeRegions2 | 0 | 0 | 0 | |
| tLOHCalc | 4.308 | 0.008 | 4.316 | |
| tLOHCalcUpdate | 23.681 | 0.064 | 23.746 | |
| tLOHDataImport | 0 | 0 | 0 | |