Back to Multiple platform build/check report for BioC 3.22:   simplified   long
ABCDEFGHIJKLMNOPQR[S]TUVWXYZ

This page was generated on 2025-11-11 12:02 -0500 (Tue, 11 Nov 2025).

HostnameOSArch (*)R versionInstalled pkgs
nebbiolo2Linux (Ubuntu 24.04.3 LTS)x86_644.5.1 Patched (2025-08-23 r88802) -- "Great Square Root" 4902
kjohnson3macOS 13.7.7 Venturaarm644.5.1 Patched (2025-09-10 r88807) -- "Great Square Root" 4638
Click on any hostname to see more info about the system (e.g. compilers)      (*) as reported by 'uname -p', except on Windows and Mac OS X

Package 2146/2361HostnameOS / ArchINSTALLBUILDCHECKBUILD BIN
structToolbox 1.22.0  (landing page)
Gavin Rhys Lloyd
Snapshot Date: 2025-11-10 13:45 -0500 (Mon, 10 Nov 2025)
git_url: https://git.bioconductor.org/packages/structToolbox
git_branch: RELEASE_3_22
git_last_commit: cad0ce8
git_last_commit_date: 2025-10-29 10:56:35 -0500 (Wed, 29 Oct 2025)
nebbiolo2Linux (Ubuntu 24.04.3 LTS) / x86_64  OK    OK    OK  NO, package depends on 'struct' which is not available
kjohnson3macOS 13.7.7 Ventura / arm64  OK    OK    OK    OK  NO, package depends on 'struct' which is not available


CHECK results for structToolbox on nebbiolo2

To the developers/maintainers of the structToolbox package:
- Allow up to 24 hours (and sometimes 48 hours) for your latest push to git@git.bioconductor.org:packages/structToolbox.git to reflect on this report. See Troubleshooting Build Report for more information.
- Use the following Renviron settings to reproduce errors and warnings.
- If 'R CMD check' started to fail recently on the Linux builder(s) over a missing dependency, add the missing dependency to 'Suggests:' in your DESCRIPTION file. See Renviron.bioc for more information.

raw results


Summary

Package: structToolbox
Version: 1.22.0
Command: /home/biocbuild/bbs-3.22-bioc/R/bin/R CMD check --install=check:structToolbox.install-out.txt --library=/home/biocbuild/bbs-3.22-bioc/R/site-library --timings structToolbox_1.22.0.tar.gz
StartedAt: 2025-11-11 04:51:20 -0500 (Tue, 11 Nov 2025)
EndedAt: 2025-11-11 05:09:55 -0500 (Tue, 11 Nov 2025)
EllapsedTime: 1115.1 seconds
RetCode: 0
Status:   OK  
CheckDir: structToolbox.Rcheck
Warnings: 0

Command output

##############################################################################
##############################################################################
###
### Running command:
###
###   /home/biocbuild/bbs-3.22-bioc/R/bin/R CMD check --install=check:structToolbox.install-out.txt --library=/home/biocbuild/bbs-3.22-bioc/R/site-library --timings structToolbox_1.22.0.tar.gz
###
##############################################################################
##############################################################################


* using log directory ‘/home/biocbuild/bbs-3.22-bioc/meat/structToolbox.Rcheck’
* using R version 4.5.1 Patched (2025-08-23 r88802)
* using platform: x86_64-pc-linux-gnu
* R was compiled by
    gcc (Ubuntu 13.3.0-6ubuntu2~24.04) 13.3.0
    GNU Fortran (Ubuntu 13.3.0-6ubuntu2~24.04) 13.3.0
* running under: Ubuntu 24.04.3 LTS
* using session charset: UTF-8
* checking for file ‘structToolbox/DESCRIPTION’ ... OK
* checking extension type ... Package
* this is package ‘structToolbox’ version ‘1.22.0’
* package encoding: UTF-8
* checking package namespace information ... OK
* checking package dependencies ... OK
* checking if this is a source package ... OK
* checking if there is a namespace ... OK
* checking for hidden files and directories ... OK
* checking for portable file names ... OK
* checking for sufficient/correct file permissions ... OK
* checking whether package ‘structToolbox’ can be installed ... OK
* checking installed package size ... OK
* checking package directory ... OK
* checking ‘build’ directory ... OK
* checking DESCRIPTION meta-information ... OK
* checking top-level files ... OK
* checking for left-over files ... OK
* checking index information ... OK
* checking package subdirectories ... OK
* checking code files for non-ASCII characters ... OK
* checking R files for syntax errors ... OK
* checking whether the package can be loaded ... OK
* checking whether the package can be loaded with stated dependencies ... OK
* checking whether the package can be unloaded cleanly ... OK
* checking whether the namespace can be loaded with stated dependencies ... OK
* checking whether the namespace can be unloaded cleanly ... OK
* checking loading without being on the library search path ... OK
* checking dependencies in R code ... OK
* checking S3 generic/method consistency ... OK
* checking replacement functions ... OK
* checking foreign function calls ... OK
* checking R code for possible problems ... OK
* checking Rd files ... OK
* checking Rd metadata ... OK
* checking Rd cross-references ... OK
* checking for missing documentation entries ... OK
* checking for code/documentation mismatches ... OK
* checking Rd \usage sections ... OK
* checking Rd contents ... OK
* checking for unstated dependencies in examples ... OK
* checking R/sysdata.rda ... OK
* checking files in ‘vignettes’ ... OK
* checking examples ... OK
Examples with CPU (user + system) or elapsed time > 5s
                            user system elapsed
fold_change_int           15.545  0.062  15.607
fold_change               10.599  0.093  10.692
fisher_exact               9.338  0.038   9.375
fs_line                    6.828  0.107   6.936
forward_selection_by_rank  5.846  0.046   5.892
compare_dist               5.411  0.128   5.539
* checking for unstated dependencies in ‘tests’ ... OK
* checking tests ...
  Running ‘testthat.R’
 OK
* checking for unstated dependencies in vignettes ... OK
* checking package vignettes ... OK
* checking re-building of vignette outputs ... OK
* checking PDF version of manual ... OK
* DONE

Status: OK


Installation output

structToolbox.Rcheck/00install.out

##############################################################################
##############################################################################
###
### Running command:
###
###   /home/biocbuild/bbs-3.22-bioc/R/bin/R CMD INSTALL structToolbox
###
##############################################################################
##############################################################################


* installing to library ‘/home/biocbuild/bbs-3.22-bioc/R/site-library’
* installing *source* package ‘structToolbox’ ...
** this is package ‘structToolbox’ version ‘1.22.0’
** using staged installation
** R
** inst
** byte-compile and prepare package for lazy loading
** help
*** installing help indices
** building package indices
** installing vignettes
** testing if installed package can be loaded from temporary location
** testing if installed package can be loaded from final location
** testing if installed package keeps a record of temporary installation path
* DONE (structToolbox)

Tests output

structToolbox.Rcheck/tests/testthat.Rout


R version 4.5.1 Patched (2025-08-23 r88802) -- "Great Square Root"
Copyright (C) 2025 The R Foundation for Statistical Computing
Platform: x86_64-pc-linux-gnu

R is free software and comes with ABSOLUTELY NO WARRANTY.
You are welcome to redistribute it under certain conditions.
Type 'license()' or 'licence()' for distribution details.

R is a collaborative project with many contributors.
Type 'contributors()' for more information and
'citation()' on how to cite R or R packages in publications.

Type 'demo()' for some demos, 'help()' for on-line help, or
'help.start()' for an HTML browser interface to help.
Type 'q()' to quit R.

> library(testthat)
> library(ggplot2)
> library(structToolbox)
Loading required package: struct
> 
> test_check("structToolbox")
[ FAIL 0 | WARN 6 | SKIP 0 | PASS 166 ]

[ FAIL 0 | WARN 6 | SKIP 0 | PASS 166 ]
> 
> proc.time()
   user  system elapsed 
182.557   1.872 184.475 

Example timings

structToolbox.Rcheck/structToolbox-Ex.timings

nameusersystemelapsed
ANOVA0.2030.0000.203
AUC2.0140.0832.097
DFA0.1790.0000.179
DatasetExperiment_boxplot0.9870.0120.999
DatasetExperiment_dist1.5840.0881.672
DatasetExperiment_factor_boxplot0.3430.0000.343
DatasetExperiment_heatmap1.3520.0311.383
HCA0.0610.0030.064
HSD0.3020.0090.315
HSDEM0.2740.0010.275
MTBLS79_DatasetExperiment0.0010.0000.001
OPLSDA0.0100.0000.011
OPLSR0.0070.0000.007
PCA0.0040.0000.004
PLSDA0.0100.0010.011
PLSR0.0090.0000.009
SVM0.0200.0010.021
as_data_frame0.1270.0000.126
autoscale0.0770.0000.076
balanced_accuracy1.7400.0351.775
blank_filter0.3760.0300.406
blank_filter_hist0.0010.0000.001
bootstrap0.0110.0000.011
calculate0.0050.0000.006
chart_plot0.030.000.03
classical_lsq0.2860.0070.293
compare_dist5.4110.1285.539
confounders_clsq2.7460.0252.771
confounders_lsq_barchart3.0970.0373.134
confounders_lsq_boxplot3.0380.0073.047
constant_sum_norm0.0060.0000.007
corr_coef0.2400.0280.268
dfa_scores_plot0.9640.0431.007
dratio_filter0.2450.0010.246
equal_split0.1080.0010.109
feature_boxplot0.0250.0000.025
feature_profile0.4840.0030.486
feature_profile_array0.6290.0020.630
filter_by_name0.0290.0000.028
filter_na_count0.9020.0010.902
filter_smeta0.0570.0000.056
fisher_exact9.3380.0389.375
fold_change10.599 0.09310.692
fold_change_int15.545 0.06215.607
fold_change_plot0.0070.0000.007
forward_selection_by_rank5.8460.0465.892
fs_line6.8280.1076.936
glog_opt_plot1.3670.0051.373
glog_transform0.2860.0000.285
grid_search_1d3.2000.0373.237
gs_line0.0010.0000.000
hca_dendrogram0.0010.0000.000
kfold_xval3.2680.0053.273
kfoldxcv_grid3.8390.0283.867
kfoldxcv_metric0.0000.0010.001
knn_impute0.0110.0010.012
kw_p_hist0.0010.0000.001
kw_rank_sum0.0720.0000.073
linear_model0.0310.0010.033
log_transform0.0080.0000.008
mean_centre0.0030.0000.003
mean_of_medians0.1500.0020.152
mixed_effect0.1630.0000.164
model_apply0.0230.0000.023
model_predict0.0530.0000.053
model_reverse0.0260.0000.026
model_train0.0490.0000.049
mv_boxplot0.4390.0040.443
mv_feature_filter0.1100.0010.110
mv_feature_filter_hist0.0010.0000.001
mv_histogram0.3610.0000.361
mv_sample_filter0.0110.0000.011
mv_sample_filter_hist0.0010.0000.001
nroot_transform0.0240.0000.024
ontology_cache000
pairs_filter0.0140.0000.014
pareto_scale0.0630.0000.063
pca_biplot0.0150.0000.016
pca_correlation_plot0.0060.0000.006
pca_dstat_plot0.0090.0000.009
pca_loadings_plot0.0090.0000.009
pca_scores_plot0.7160.0000.716
pca_scree_plot0.0070.0000.007
permutation_test0.0090.0000.009
permutation_test_plot0.0020.0000.002
permute_sample_order0.0060.0000.006
pls_regcoeff_plot0.4840.0000.485
pls_scores_plot0.8680.0000.868
pls_vip_plot0.4940.0010.496
plsda_feature_importance_plot0.8750.0020.877
plsda_predicted_plot0.5870.0020.589
plsda_roc_plot1.1920.0021.193
plsr_cook_dist0.0080.0000.007
plsr_prediction_plot0.0070.0000.007
plsr_qq_plot0.0070.0000.007
plsr_residual_hist0.0060.0000.007
pqn_norm0.3750.0000.375
pqn_norm_hist0.0000.0000.001
prop_na0.0090.0000.009
r_squared0.0010.0000.000
resample0.0140.0000.014
resample_chart0.0020.0000.003
rsd_filter0.0120.0010.013
rsd_filter_hist0.0010.0000.000
run0.0280.0000.028
sb_corr0.0240.0000.024
scatter_chart0.5370.0000.537
split_data0.0070.0000.007
stratified_split0.1120.0000.112
svm_plot_2d0.8220.0100.832
tSNE0.0240.0000.025
tSNE_scatter0.0070.0000.007
tic_chart0.3530.0000.353
ttest0.0210.0000.020
vec_norm0.0010.0000.001
wilcox_p_hist0.0000.0000.001
wilcox_test0.0160.0010.018