Back to Multiple platform build/check report for BioC 3.21:   simplified   long
ABCDEFGHIJKLMNOPQR[S]TUVWXYZ

This page was generated on 2025-10-16 11:41 -0400 (Thu, 16 Oct 2025).

HostnameOSArch (*)R versionInstalled pkgs
nebbiolo1Linux (Ubuntu 24.04.3 LTS)x86_644.5.1 (2025-06-13) -- "Great Square Root" 4833
merida1macOS 12.7.6 Montereyx86_644.5.1 RC (2025-06-05 r88288) -- "Great Square Root" 4614
kjohnson1macOS 13.7.5 Venturaarm644.5.1 Patched (2025-06-14 r88325) -- "Great Square Root" 4555
kunpeng2Linux (openEuler 24.03 LTS)aarch64R Under development (unstable) (2025-02-19 r87757) -- "Unsuffered Consequences" 4586
Click on any hostname to see more info about the system (e.g. compilers)      (*) as reported by 'uname -p', except on Windows and Mac OS X

Package 2122/2341HostnameOS / ArchINSTALLBUILDCHECKBUILD BIN
structToolbox 1.20.0  (landing page)
Gavin Rhys Lloyd
Snapshot Date: 2025-10-13 13:40 -0400 (Mon, 13 Oct 2025)
git_url: https://git.bioconductor.org/packages/structToolbox
git_branch: RELEASE_3_21
git_last_commit: 1668438
git_last_commit_date: 2025-04-15 11:54:06 -0400 (Tue, 15 Apr 2025)
nebbiolo1Linux (Ubuntu 24.04.3 LTS) / x86_64  OK    OK    OK  UNNEEDED, same version is already published
merida1macOS 12.7.6 Monterey / x86_64  OK    OK    OK    OK  UNNEEDED, same version is already published
kjohnson1macOS 13.7.5 Ventura / arm64  OK    OK    OK    OK  UNNEEDED, same version is already published
kunpeng2Linux (openEuler 24.03 LTS) / aarch64  OK    OK    OK  


CHECK results for structToolbox on kunpeng2

To the developers/maintainers of the structToolbox package:
- Allow up to 24 hours (and sometimes 48 hours) for your latest push to git@git.bioconductor.org:packages/structToolbox.git to reflect on this report. See Troubleshooting Build Report for more information.
- Use the following Renviron settings to reproduce errors and warnings.
- If 'R CMD check' started to fail recently on the Linux builder(s) over a missing dependency, add the missing dependency to 'Suggests:' in your DESCRIPTION file. See Renviron.bioc for more information.
- See Martin Grigorov's blog post for how to debug Linux ARM64 related issues on a x86_64 host.

raw results


Summary

Package: structToolbox
Version: 1.20.0
Command: /home/biocbuild/R/R/bin/R CMD check --install=check:structToolbox.install-out.txt --library=/home/biocbuild/R/R/site-library --no-vignettes --timings structToolbox_1.20.0.tar.gz
StartedAt: 2025-10-14 15:01:14 -0000 (Tue, 14 Oct 2025)
EndedAt: 2025-10-14 15:14:18 -0000 (Tue, 14 Oct 2025)
EllapsedTime: 784.2 seconds
RetCode: 0
Status:   OK  
CheckDir: structToolbox.Rcheck
Warnings: 0

Command output

##############################################################################
##############################################################################
###
### Running command:
###
###   /home/biocbuild/R/R/bin/R CMD check --install=check:structToolbox.install-out.txt --library=/home/biocbuild/R/R/site-library --no-vignettes --timings structToolbox_1.20.0.tar.gz
###
##############################################################################
##############################################################################


* using log directory ‘/home/biocbuild/bbs-3.21-bioc/meat/structToolbox.Rcheck’
* using R Under development (unstable) (2025-02-19 r87757)
* using platform: aarch64-unknown-linux-gnu
* R was compiled by
    aarch64-unknown-linux-gnu-gcc (GCC) 14.2.0
    GNU Fortran (GCC) 14.2.0
* running under: openEuler 24.03 (LTS-SP1)
* using session charset: UTF-8
* using option ‘--no-vignettes’
* checking for file ‘structToolbox/DESCRIPTION’ ... OK
* checking extension type ... Package
* this is package ‘structToolbox’ version ‘1.20.0’
* package encoding: UTF-8
* checking package namespace information ... OK
* checking package dependencies ... OK
* checking if this is a source package ... OK
* checking if there is a namespace ... OK
* checking for hidden files and directories ... OK
* checking for portable file names ... OK
* checking for sufficient/correct file permissions ... OK
* checking whether package ‘structToolbox’ can be installed ... OK
* checking installed package size ... OK
* checking package directory ... OK
* checking ‘build’ directory ... OK
* checking DESCRIPTION meta-information ... OK
* checking top-level files ... OK
* checking for left-over files ... OK
* checking index information ... OK
* checking package subdirectories ... OK
* checking code files for non-ASCII characters ... OK
* checking R files for syntax errors ... OK
* checking whether the package can be loaded ... OK
* checking whether the package can be loaded with stated dependencies ... OK
* checking whether the package can be unloaded cleanly ... OK
* checking whether the namespace can be loaded with stated dependencies ... OK
* checking whether the namespace can be unloaded cleanly ... OK
* checking loading without being on the library search path ... OK
* checking dependencies in R code ... OK
* checking S3 generic/method consistency ... OK
* checking replacement functions ... OK
* checking foreign function calls ... OK
* checking R code for possible problems ... OK
* checking Rd files ... OK
* checking Rd metadata ... OK
* checking Rd cross-references ... OK
* checking for missing documentation entries ... OK
* checking for code/documentation mismatches ... OK
* checking Rd \usage sections ... OK
* checking Rd contents ... OK
* checking for unstated dependencies in examples ... OK
* checking R/sysdata.rda ... OK
* checking files in ‘vignettes’ ... OK
* checking examples ... OK
Examples with CPU (user + system) or elapsed time > 5s
                            user system elapsed
fold_change_int           23.561  0.123  27.627
fold_change               17.765  0.140  21.670
fisher_exact              14.218  0.187  16.366
forward_selection_by_rank  9.991  0.127  12.493
fs_line                    9.471  0.019  10.292
compare_dist               7.514  0.273   9.403
grid_search_1d             5.669  0.015   6.097
kfoldxcv_grid              5.597  0.016   6.203
kfold_xval                 4.798  0.048   5.103
confounders_lsq_barchart   4.692  0.024   5.771
confounders_lsq_boxplot    4.621  0.071   5.339
confounders_clsq           4.275  0.100   5.096
* checking for unstated dependencies in ‘tests’ ... OK
* checking tests ...
  Running ‘testthat.R’
 OK
* checking for unstated dependencies in vignettes ... OK
* checking package vignettes ... OK
* checking running R code from vignettes ... SKIPPED
* checking re-building of vignette outputs ... SKIPPED
* checking PDF version of manual ... OK
* DONE

Status: OK


Installation output

structToolbox.Rcheck/00install.out

##############################################################################
##############################################################################
###
### Running command:
###
###   /home/biocbuild/R/R/bin/R CMD INSTALL structToolbox
###
##############################################################################
##############################################################################


* installing to library ‘/home/biocbuild/R/R-devel_2025-02-19/site-library’
* installing *source* package ‘structToolbox’ ...
** this is package ‘structToolbox’ version ‘1.20.0’
** using staged installation
** R
** inst
** byte-compile and prepare package for lazy loading
** help
*** installing help indices
** building package indices
** installing vignettes
** testing if installed package can be loaded from temporary location
** testing if installed package can be loaded from final location
** testing if installed package keeps a record of temporary installation path
* DONE (structToolbox)

Tests output

structToolbox.Rcheck/tests/testthat.Rout


R Under development (unstable) (2025-02-19 r87757) -- "Unsuffered Consequences"
Copyright (C) 2025 The R Foundation for Statistical Computing
Platform: aarch64-unknown-linux-gnu

R is free software and comes with ABSOLUTELY NO WARRANTY.
You are welcome to redistribute it under certain conditions.
Type 'license()' or 'licence()' for distribution details.

R is a collaborative project with many contributors.
Type 'contributors()' for more information and
'citation()' on how to cite R or R packages in publications.

Type 'demo()' for some demos, 'help()' for on-line help, or
'help.start()' for an HTML browser interface to help.
Type 'q()' to quit R.

> library(testthat)
> library(ggplot2)
> library(structToolbox)
Loading required package: struct
> 
> test_check("structToolbox")
[ FAIL 0 | WARN 6 | SKIP 0 | PASS 166 ]

[ FAIL 0 | WARN 6 | SKIP 0 | PASS 166 ]
> 
> proc.time()
   user  system elapsed 
272.166   1.975 300.013 

Example timings

structToolbox.Rcheck/structToolbox-Ex.timings

nameusersystemelapsed
ANOVA0.3340.0160.569
AUC2.8800.1473.547
DFA0.3000.0000.525
DatasetExperiment_boxplot2.3250.0683.045
DatasetExperiment_dist1.9090.1242.562
DatasetExperiment_factor_boxplot0.5050.0120.518
DatasetExperiment_heatmap0.8910.0000.991
HCA0.0950.0030.099
HSD0.4310.0090.769
HSDEM0.4680.0120.482
MTBLS79_DatasetExperiment0.0010.0000.002
OPLSDA0.0160.0000.016
OPLSR0.0220.0000.022
PCA0.0070.0000.007
PLSDA0.0370.0000.037
PLSR0.0140.0000.014
SVM0.040.000.04
as_data_frame0.1770.0000.179
autoscale0.1100.0000.118
balanced_accuracy2.5320.0242.693
blank_filter0.4850.0040.490
blank_filter_hist0.0010.0000.001
bootstrap0.0250.0000.026
calculate0.0070.0000.007
chart_plot0.0560.0000.057
classical_lsq0.4210.0400.468
compare_dist7.5140.2739.403
confounders_clsq4.2750.1005.096
confounders_lsq_barchart4.6920.0245.771
confounders_lsq_boxplot4.6210.0715.339
constant_sum_norm0.0200.0000.021
corr_coef0.4040.0040.409
dfa_scores_plot1.4060.0081.476
dratio_filter0.4580.0160.501
equal_split0.1650.0000.165
feature_boxplot0.0420.0000.042
feature_profile0.7880.0000.797
feature_profile_array0.9360.0000.983
filter_by_name0.0410.0000.041
filter_na_count1.5360.0281.596
filter_smeta0.0900.0000.152
fisher_exact14.218 0.18716.366
fold_change17.765 0.14021.670
fold_change_int23.561 0.12327.627
fold_change_plot0.0340.0040.076
forward_selection_by_rank 9.991 0.12712.493
fs_line 9.471 0.01910.292
glog_opt_plot0.8150.0081.004
glog_transform0.3940.0000.397
grid_search_1d5.6690.0156.097
gs_line0.0010.0000.001
hca_dendrogram0.0010.0000.001
kfold_xval4.7980.0485.103
kfoldxcv_grid5.5970.0166.203
kfoldxcv_metric0.0010.0000.001
knn_impute0.0180.0000.018
kw_p_hist0.0010.0000.001
kw_rank_sum0.1120.0000.112
linear_model0.0400.0000.039
log_transform0.0190.0000.019
mean_centre0.0040.0000.004
mean_of_medians0.1730.0000.173
mixed_effect0.2310.0000.245
model_apply0.0290.0040.032
model_predict0.0750.0000.076
model_reverse0.0740.0000.074
model_train0.0720.0000.071
mv_boxplot0.6440.0000.980
mv_feature_filter0.1690.0000.353
mv_feature_filter_hist0.0010.0000.001
mv_histogram0.5380.0000.557
mv_sample_filter0.0220.0000.042
mv_sample_filter_hist0.0010.0000.000
nroot_transform0.0190.0000.044
ontology_cache0.0000.0000.001
pairs_filter0.0230.0000.044
pareto_scale0.0870.0000.175
pca_biplot0.0310.0000.065
pca_correlation_plot0.0170.0000.025
pca_dstat_plot0.0160.0040.020
pca_loadings_plot0.0210.0000.021
pca_scores_plot1.1190.0121.426
pca_scree_plot0.0170.0000.017
permutation_test0.0440.0030.047
permutation_test_plot0.0040.0000.004
permute_sample_order0.0230.0000.023
pls_regcoeff_plot0.6930.0281.137
pls_scores_plot1.3280.0121.938
pls_vip_plot0.7250.0000.754
plsda_feature_importance_plot1.2990.0001.519
plsda_predicted_plot0.8910.0001.085
plsda_roc_plot1.9550.0122.125
plsr_cook_dist0.0160.0000.016
plsr_prediction_plot0.0160.0000.016
plsr_qq_plot0.0160.0000.016
plsr_residual_hist0.0150.0000.016
pqn_norm0.5120.0000.655
pqn_norm_hist0.0010.0000.001
prop_na0.0230.0000.023
r_squared0.0010.0000.001
resample0.0330.0000.033
resample_chart0.0030.0000.004
rsd_filter0.0280.0000.028
rsd_filter_hist0.0010.0000.001
run0.0400.0000.042
sb_corr0.0460.0000.047
scatter_chart0.8310.0000.944
split_data0.0200.0000.019
stratified_split0.1660.0000.166
svm_plot_2d1.1490.0001.615
tSNE0.0380.0040.042
tSNE_scatter0.0170.0000.017
tic_chart0.5170.0080.525
ttest0.0270.0040.032
vec_norm0.0010.0000.001
wilcox_p_hist0.0000.0000.001
wilcox_test0.0360.0000.044