| Back to Multiple platform build/check report for BioC 3.21: simplified long |
|
This page was generated on 2025-04-22 13:18 -0400 (Tue, 22 Apr 2025).
| Hostname | OS | Arch (*) | R version | Installed pkgs |
|---|---|---|---|---|
| nebbiolo1 | Linux (Ubuntu 24.04.1 LTS) | x86_64 | 4.5.0 RC (2025-04-04 r88126) -- "How About a Twenty-Six" | 4831 |
| palomino7 | Windows Server 2022 Datacenter | x64 | 4.5.0 RC (2025-04-04 r88126 ucrt) -- "How About a Twenty-Six" | 4573 |
| lconway | macOS 12.7.1 Monterey | x86_64 | 4.5.0 RC (2025-04-04 r88126) -- "How About a Twenty-Six" | 4599 |
| kjohnson3 | macOS 13.7.1 Ventura | arm64 | 4.5.0 RC (2025-04-04 r88126) -- "How About a Twenty-Six" | 4553 |
| kunpeng2 | Linux (openEuler 24.03 LTS) | aarch64 | R Under development (unstable) (2025-02-19 r87757) -- "Unsuffered Consequences" | 4570 |
| Click on any hostname to see more info about the system (e.g. compilers) (*) as reported by 'uname -p', except on Windows and Mac OS X | ||||
| Package 2077/2341 | Hostname | OS / Arch | INSTALL | BUILD | CHECK | BUILD BIN | ||||||||
| spiky 1.14.0 (landing page) Tim Triche
| nebbiolo1 | Linux (Ubuntu 24.04.1 LTS) / x86_64 | OK | OK | OK | |||||||||
| palomino7 | Windows Server 2022 Datacenter / x64 | OK | OK | OK | OK | |||||||||
| lconway | macOS 12.7.1 Monterey / x86_64 | OK | OK | OK | OK | |||||||||
| kjohnson3 | macOS 13.7.1 Ventura / arm64 | OK | OK | OK | OK | |||||||||
| kunpeng2 | Linux (openEuler 24.03 LTS) / aarch64 | OK | OK | OK | ||||||||||
|
To the developers/maintainers of the spiky package: - Allow up to 24 hours (and sometimes 48 hours) for your latest push to git@git.bioconductor.org:packages/spiky.git to reflect on this report. See Troubleshooting Build Report for more information. - Use the following Renviron settings to reproduce errors and warnings. - If 'R CMD check' started to fail recently on the Linux builder(s) over a missing dependency, add the missing dependency to 'Suggests:' in your DESCRIPTION file. See Renviron.bioc for more information. |
| Package: spiky |
| Version: 1.14.0 |
| Command: /Library/Frameworks/R.framework/Resources/bin/R CMD check --install=check:spiky.install-out.txt --library=/Library/Frameworks/R.framework/Resources/library --no-vignettes --timings spiky_1.14.0.tar.gz |
| StartedAt: 2025-04-21 21:53:09 -0400 (Mon, 21 Apr 2025) |
| EndedAt: 2025-04-21 21:55:13 -0400 (Mon, 21 Apr 2025) |
| EllapsedTime: 123.4 seconds |
| RetCode: 0 |
| Status: OK |
| CheckDir: spiky.Rcheck |
| Warnings: 0 |
##############################################################################
##############################################################################
###
### Running command:
###
### /Library/Frameworks/R.framework/Resources/bin/R CMD check --install=check:spiky.install-out.txt --library=/Library/Frameworks/R.framework/Resources/library --no-vignettes --timings spiky_1.14.0.tar.gz
###
##############################################################################
##############################################################################
* using log directory ‘/Users/biocbuild/bbs-3.21-bioc/meat/spiky.Rcheck’
* using R version 4.5.0 RC (2025-04-04 r88126)
* using platform: aarch64-apple-darwin20
* R was compiled by
Apple clang version 14.0.0 (clang-1400.0.29.202)
GNU Fortran (GCC) 14.2.0
* running under: macOS Ventura 13.7.1
* using session charset: UTF-8
* using option ‘--no-vignettes’
* checking for file ‘spiky/DESCRIPTION’ ... OK
* checking extension type ... Package
* this is package ‘spiky’ version ‘1.14.0’
* package encoding: UTF-8
* checking package namespace information ... OK
* checking package dependencies ... OK
* checking if this is a source package ... OK
* checking if there is a namespace ... OK
* checking for hidden files and directories ... OK
* checking for portable file names ... OK
* checking for sufficient/correct file permissions ... OK
* checking whether package ‘spiky’ can be installed ... OK
* checking installed package size ... INFO
installed size is 16.3Mb
sub-directories of 1Mb or more:
data 3.1Mb
extdata 12.9Mb
* checking package directory ... OK
* checking ‘build’ directory ... OK
* checking DESCRIPTION meta-information ... OK
* checking top-level files ... OK
* checking for left-over files ... OK
* checking index information ... OK
* checking package subdirectories ... OK
* checking code files for non-ASCII characters ... OK
* checking R files for syntax errors ... OK
* checking whether the package can be loaded ... OK
* checking whether the package can be loaded with stated dependencies ... OK
* checking whether the package can be unloaded cleanly ... OK
* checking whether the namespace can be loaded with stated dependencies ... OK
* checking whether the namespace can be unloaded cleanly ... OK
* checking dependencies in R code ... OK
* checking S3 generic/method consistency ... OK
* checking replacement functions ... OK
* checking foreign function calls ... OK
* checking R code for possible problems ... NOTE
.toGRs: warning in grep("(chrom|seqnames|start|end)1", colnames(x), val
= TRUE): partial argument match of 'val' to 'value'
.toGRs: warning in grep("(chrom|seqnames|start|end)2", colnames(x), val
= TRUE): partial argument match of 'val' to 'value'
* checking Rd files ... OK
* checking Rd metadata ... OK
* checking Rd cross-references ... OK
* checking for missing documentation entries ... OK
* checking for code/documentation mismatches ... OK
* checking Rd \usage sections ... OK
* checking Rd contents ... OK
* checking for unstated dependencies in examples ... OK
* checking contents of ‘data’ directory ... OK
* checking data for non-ASCII characters ... OK
* checking LazyData ... OK
* checking data for ASCII and uncompressed saves ... OK
* checking files in ‘vignettes’ ... OK
* checking examples ... OK
Examples with CPU (user + system) or elapsed time > 5s
user system elapsed
scan_genomic_bedpe 7.009 0.129 7.163
scan_genomic_contigs 6.494 0.530 7.035
* checking for unstated dependencies in vignettes ... OK
* checking package vignettes ... OK
* checking running R code from vignettes ... SKIPPED
* checking re-building of vignette outputs ... SKIPPED
* checking PDF version of manual ... OK
* DONE
Status: 1 NOTE
See
‘/Users/biocbuild/bbs-3.21-bioc/meat/spiky.Rcheck/00check.log’
for details.
spiky.Rcheck/00install.out
############################################################################## ############################################################################## ### ### Running command: ### ### /Library/Frameworks/R.framework/Resources/bin/R CMD INSTALL spiky ### ############################################################################## ############################################################################## * installing to library ‘/Library/Frameworks/R.framework/Versions/4.5-arm64/Resources/library’ * installing *source* package ‘spiky’ ... ** this is package ‘spiky’ version ‘1.14.0’ ** using staged installation ** R ** data *** moving datasets to lazyload DB ** inst ** byte-compile and prepare package for lazy loading ** help *** installing help indices ** building package indices ** installing vignettes ** testing if installed package can be loaded from temporary location ** testing if installed package can be loaded from final location ** testing if installed package keeps a record of temporary installation path * DONE (spiky)
spiky.Rcheck/spiky-Ex.timings
| name | user | system | elapsed | |
| add_frag_info | 0.049 | 0.009 | 0.059 | |
| bam_to_bins | 0.044 | 0.003 | 0.048 | |
| bin_pmol | 2.118 | 0.623 | 2.903 | |
| covg_to_df | 0.024 | 0.001 | 0.024 | |
| find_spike_contigs | 0.010 | 0.001 | 0.011 | |
| generate_spike_fasta | 0.049 | 0.001 | 0.051 | |
| get_base_name | 0.003 | 0.001 | 0.004 | |
| get_binned_coverage | 0.070 | 0.003 | 0.073 | |
| get_merged_gr | 0.019 | 0.001 | 0.020 | |
| get_spike_depth | 0.117 | 0.003 | 0.121 | |
| get_spiked_coverage | 0.062 | 0.003 | 0.065 | |
| kmax | 0.017 | 0.002 | 0.019 | |
| kmers | 0.011 | 0.001 | 0.012 | |
| methylation_specificity | 0.023 | 0.002 | 0.025 | |
| model_bam_standards | 1.932 | 0.098 | 2.030 | |
| model_glm_pmol | 0.018 | 0.002 | 0.019 | |
| predict_pmol | 1.063 | 0.405 | 1.484 | |
| process_spikes | 0.068 | 0.005 | 0.073 | |
| read_bedpe | 0 | 0 | 0 | |
| scan_genomic_bedpe | 7.009 | 0.129 | 7.163 | |
| scan_genomic_contigs | 6.494 | 0.530 | 7.035 | |
| scan_methylation_specificity | 0.011 | 0.002 | 0.012 | |
| scan_spike_bedpe | 1.862 | 0.056 | 1.952 | |
| scan_spike_contigs | 0.114 | 0.010 | 0.130 | |
| scan_spike_counts | 0.018 | 0.003 | 0.021 | |
| scan_spiked_bam | 0.137 | 0.011 | 0.157 | |
| seqinfo_from_header | 0.033 | 0.011 | 0.053 | |
| spike_bland_altman_plot | 0.038 | 0.003 | 0.044 | |
| spike_counts | 0.020 | 0.002 | 0.024 | |
| tile_bins | 0.012 | 0.001 | 0.012 | |