| Back to Multiple platform build/check report for BioC 3.21: simplified long |
|
This page was generated on 2025-08-18 11:42 -0400 (Mon, 18 Aug 2025).
| Hostname | OS | Arch (*) | R version | Installed pkgs |
|---|---|---|---|---|
| nebbiolo1 | Linux (Ubuntu 24.04.3 LTS) | x86_64 | 4.5.1 (2025-06-13) -- "Great Square Root" | 4824 |
| palomino7 | Windows Server 2022 Datacenter | x64 | 4.5.1 (2025-06-13 ucrt) -- "Great Square Root" | 4566 |
| merida1 | macOS 12.7.5 Monterey | x86_64 | 4.5.1 RC (2025-06-05 r88288) -- "Great Square Root" | 4604 |
| kjohnson1 | macOS 13.6.6 Ventura | arm64 | 4.5.1 Patched (2025-06-14 r88325) -- "Great Square Root" | 4545 |
| kunpeng2 | Linux (openEuler 24.03 LTS) | aarch64 | R Under development (unstable) (2025-02-19 r87757) -- "Unsuffered Consequences" | 4579 |
| Click on any hostname to see more info about the system (e.g. compilers) (*) as reported by 'uname -p', except on Windows and Mac OS X | ||||
| Package 2049/2341 | Hostname | OS / Arch | INSTALL | BUILD | CHECK | BUILD BIN | ||||||||
| sparrow 1.14.0 (landing page) Steve Lianoglou
| nebbiolo1 | Linux (Ubuntu 24.04.3 LTS) / x86_64 | OK | OK | OK | |||||||||
| palomino7 | Windows Server 2022 Datacenter / x64 | OK | OK | OK | OK | |||||||||
| merida1 | macOS 12.7.5 Monterey / x86_64 | OK | OK | OK | OK | |||||||||
| kjohnson1 | macOS 13.6.6 Ventura / arm64 | OK | OK | OK | OK | |||||||||
| kunpeng2 | Linux (openEuler 24.03 LTS) / aarch64 | OK | OK | NA | ||||||||||
|
To the developers/maintainers of the sparrow package: - Allow up to 24 hours (and sometimes 48 hours) for your latest push to git@git.bioconductor.org:packages/sparrow.git to reflect on this report. See Troubleshooting Build Report for more information. - Use the following Renviron settings to reproduce errors and warnings. - If 'R CMD check' started to fail recently on the Linux builder(s) over a missing dependency, add the missing dependency to 'Suggests:' in your DESCRIPTION file. See Renviron.bioc for more information. |
| Package: sparrow |
| Version: 1.14.0 |
| Command: E:\biocbuild\bbs-3.21-bioc\R\bin\R.exe CMD check --no-multiarch --install=check:sparrow.install-out.txt --library=E:\biocbuild\bbs-3.21-bioc\R\library --no-vignettes --timings sparrow_1.14.0.tar.gz |
| StartedAt: 2025-08-15 07:10:07 -0400 (Fri, 15 Aug 2025) |
| EndedAt: 2025-08-15 07:24:49 -0400 (Fri, 15 Aug 2025) |
| EllapsedTime: 881.5 seconds |
| RetCode: 0 |
| Status: OK |
| CheckDir: sparrow.Rcheck |
| Warnings: 0 |
##############################################################################
##############################################################################
###
### Running command:
###
### E:\biocbuild\bbs-3.21-bioc\R\bin\R.exe CMD check --no-multiarch --install=check:sparrow.install-out.txt --library=E:\biocbuild\bbs-3.21-bioc\R\library --no-vignettes --timings sparrow_1.14.0.tar.gz
###
##############################################################################
##############################################################################
* using log directory 'E:/biocbuild/bbs-3.21-bioc/meat/sparrow.Rcheck'
* using R version 4.5.1 (2025-06-13 ucrt)
* using platform: x86_64-w64-mingw32
* R was compiled by
gcc.exe (GCC) 14.2.0
GNU Fortran (GCC) 14.2.0
* running under: Windows Server 2022 x64 (build 20348)
* using session charset: UTF-8
* using option '--no-vignettes'
* checking for file 'sparrow/DESCRIPTION' ... OK
* checking extension type ... Package
* this is package 'sparrow' version '1.14.0'
* package encoding: UTF-8
* checking package namespace information ... OK
* checking package dependencies ... OK
* checking if this is a source package ... OK
* checking if there is a namespace ... OK
* checking for hidden files and directories ... OK
* checking for portable file names ... OK
* checking whether package 'sparrow' can be installed ... OK
* checking installed package size ... OK
* checking package directory ... OK
* checking 'build' directory ... OK
* checking DESCRIPTION meta-information ... NOTE
License stub is invalid DCF.
* checking top-level files ... OK
* checking for left-over files ... OK
* checking index information ... OK
* checking package subdirectories ... OK
* checking code files for non-ASCII characters ... OK
* checking R files for syntax errors ... OK
* checking whether the package can be loaded ... OK
* checking whether the package can be loaded with stated dependencies ... OK
* checking whether the package can be unloaded cleanly ... OK
* checking whether the namespace can be loaded with stated dependencies ... OK
* checking whether the namespace can be unloaded cleanly ... OK
* checking whether startup messages can be suppressed ... OK
* checking dependencies in R code ... OK
* checking S3 generic/method consistency ... OK
* checking replacement functions ... OK
* checking foreign function calls ... OK
* checking R code for possible problems ... NOTE
.map_ids_orthogene: no visible binding for global variable 'gspecies'
.map_ids_orthogene: no visible binding for global variable 'species'
.map_ids_orthogene: no visible binding for global variable 'input_ensg'
.map_ids_orthogene: no visible binding for global variable
'ortholog_ensg'
.map_ids_orthogene: no visible binding for global variable
'ortholog_gene'
.map_ids_orthogene: no visible binding for global variable 'symbol'
.map_ids_orthogene: no visible binding for global variable 'input_id'
.map_ids_orthogene: no visible global function definition for
'starts_with'
.map_ids_orthogene: no visible global function definition for
'last_col'
.map_ids_orthogene: no visible binding for global variable 'rm_na'
geneSetsStats: no visible binding for global variable 'direction'
getMSigGeneSetDb: no visible binding for global variable 'ncbi_gene'
getMSigGeneSetDb: no visible binding for global variable 'db_species'
getMSigGeneSetDb: no visible binding for global variable
'msigdb_collection'
getMSigGeneSetDb: no visible binding for global variable 'gene_symbol'
getMSigGeneSetDb: no visible binding for global variable
'gs_collection_name'
getMSigGeneSetDb: no visible binding for global variable 'gs_url'
convertIdentifiers,GeneSetDb: no visible binding for global variable
'.convert_ids_with_babelgene'
convertIdentifiers,GeneSetDb: no visible global function definition for
'.map_ids_babelgene'
Undefined global functions or variables:
.convert_ids_with_babelgene .map_ids_babelgene db_species direction
gene_symbol gs_collection_name gs_url gspecies input_ensg input_id
last_col msigdb_collection ncbi_gene ortholog_ensg ortholog_gene
rm_na species starts_with symbol
* checking Rd files ... OK
* checking Rd metadata ... OK
* checking Rd cross-references ... NOTE
Non-topic package-anchored link(s) in Rd file 'GeneSetDb-class.Rd':
'[GSEABase:GeneIdentifierType-constructors]{GSEABase::EntrezIdentifier()}'
Non-topic package-anchored link(s) in Rd file 'calculateIndividualLogFC.Rd':
'[limma:ebayes]{limma::eBayes()}'
Non-topic package-anchored link(s) in Rd file 'collectionMetadata.Rd':
'[GSEABase:GeneIdentifierType-constructors]{GSEABase::EntrezIdentifier()}'
Non-topic package-anchored link(s) in Rd file 'seas.Rd':
'[limma:toptable]{limma::topTable()}'
'[limma:dupcor]{limma::duplicateCorrelation()}'
See section 'Cross-references' in the 'Writing R Extensions' manual.
Found the following Rd file(s) with Rd \link{} targets missing package
anchors:
seas.Rd: BiocParallel
Please provide package anchors for all Rd \link{} targets not in the
package itself and the base packages.
* checking for missing documentation entries ... OK
* checking for code/documentation mismatches ... OK
* checking Rd \usage sections ... OK
* checking Rd contents ... OK
* checking for unstated dependencies in examples ... OK
* checking line endings in Makefiles ... OK
* checking for GNU extensions in Makefiles ... OK
* checking include directives in Makefiles ... OK
* checking files in 'vignettes' ... OK
* checking examples ... OK
Examples with CPU (user + system) or elapsed time > 5s
user system elapsed
goseq 8.49 0.67 9.15
scoreSingleSamples 8.11 1.04 8.33
seas 5.50 0.36 5.79
eigenWeightedMean 4.75 0.30 5.04
* checking for unstated dependencies in 'tests' ... OK
* checking tests ...
Running 'testthat.R'
OK
* checking for unstated dependencies in vignettes ... OK
* checking package vignettes ... OK
* checking running R code from vignettes ... SKIPPED
* checking re-building of vignette outputs ... SKIPPED
* checking PDF version of manual ... OK
* DONE
Status: 3 NOTEs
See
'E:/biocbuild/bbs-3.21-bioc/meat/sparrow.Rcheck/00check.log'
for details.
sparrow.Rcheck/00install.out
############################################################################## ############################################################################## ### ### Running command: ### ### E:\biocbuild\bbs-3.21-bioc\R\bin\R.exe CMD INSTALL sparrow ### ############################################################################## ############################################################################## * installing to library 'E:/biocbuild/bbs-3.21-bioc/R/library' * installing *source* package 'sparrow' ... ** this is package 'sparrow' version '1.14.0' ** using staged installation ** R ** inst ** byte-compile and prepare package for lazy loading ** help *** installing help indices *** copying figures ** building package indices ** installing vignettes ** testing if installed package can be loaded from temporary location ** testing if installed package can be loaded from final location ** testing if installed package keeps a record of temporary installation path * DONE (sparrow)
sparrow.Rcheck/tests/testthat.Rout
R version 4.5.1 (2025-06-13 ucrt) -- "Great Square Root"
Copyright (C) 2025 The R Foundation for Statistical Computing
Platform: x86_64-w64-mingw32/x64
R is free software and comes with ABSOLUTELY NO WARRANTY.
You are welcome to redistribute it under certain conditions.
Type 'license()' or 'licence()' for distribution details.
R is a collaborative project with many contributors.
Type 'contributors()' for more information and
'citation()' on how to cite R or R packages in publications.
Type 'demo()' for some demos, 'help()' for on-line help, or
'help.start()' for an HTML browser interface to help.
Type 'q()' to quit R.
> library("sparrow")
> library("testthat")
> library("data.table")
> library("dplyr")
Attaching package: 'dplyr'
The following objects are masked from 'package:data.table':
between, first, last
The following object is masked from 'package:testthat':
matches
The following object is masked from 'package:sparrow':
combine
The following objects are masked from 'package:stats':
filter, lag
The following objects are masked from 'package:base':
intersect, setdiff, setequal, union
>
> test_check("sparrow")
Attaching package: 'magrittr'
The following objects are masked from 'package:testthat':
equals, is_less_than, not
[ FAIL 0 | WARN 0 | SKIP 6 | PASS 1479 ]
══ Skipped tests (6) ═══════════════════════════════════════════════════════════
• empty test (1): 'test-MultiGSEAResult.R:3:1'
• {misgdbdf} is not installed (5): 'test-get-msigdb.R:6:3',
'test-get-msigdb.R:14:3', 'test-get-msigdb.R:27:3', 'test-get-msigdb.R:65:3',
'test-get-msigdb.R:99:3'
[ FAIL 0 | WARN 0 | SKIP 6 | PASS 1479 ]
>
> ## Remove temporary files that were generated
> test.dir <- system.file('tests', package = "sparrow")
> pdfs <- dir(test.dir, "\\.pdf$", full.names=TRUE)
> if (length(pdfs)) {
+ unlink(pdfs)
+ }
>
>
> proc.time()
user system elapsed
304.84 18.07 546.01
sparrow.Rcheck/sparrow-Ex.timings
| name | user | system | elapsed | |
| GeneSetDb-class | 0.08 | 0.03 | 0.13 | |
| SparrowResult-utilities | 3.87 | 0.15 | 4.07 | |
| addGeneSetMetadata | 0.08 | 0.00 | 0.07 | |
| annotateGeneSetMembership | 4.42 | 0.20 | 4.52 | |
| calculateIndividualLogFC | 2.72 | 0.11 | 2.83 | |
| collectionMetadata | 0.08 | 0.00 | 0.08 | |
| combine-GeneSetDb-GeneSetDb-method | 0.08 | 0.00 | 0.07 | |
| combine-SparrowResult-SparrowResult-method | 0.10 | 0.00 | 0.11 | |
| conform | 0.51 | 0.04 | 0.55 | |
| conversion | 1.21 | 0.03 | 1.25 | |
| convertIdentifiers | 0.17 | 0.04 | 0.20 | |
| corplot | 0.12 | 0.00 | 0.12 | |
| eigenWeightedMean | 4.75 | 0.30 | 5.04 | |
| examples | 0.50 | 0.03 | 0.53 | |
| failWith | 0 | 0 | 0 | |
| featureIdMap | 0.52 | 0.05 | 0.53 | |
| featureIds | 0.61 | 0.01 | 0.62 | |
| geneSet | 0.11 | 0.02 | 0.11 | |
| geneSetCollectionURLfunction | 0.04 | 0.03 | 0.08 | |
| geneSetSummaryByGenes | 3.69 | 0.25 | 3.91 | |
| geneSets | 0.06 | 0.02 | 0.08 | |
| geneSetsStats | 3.55 | 0.29 | 3.68 | |
| getKeggCollection | 0 | 0 | 0 | |
| getMSigCollection | 0 | 0 | 0 | |
| getPantherCollection | 0 | 0 | 0 | |
| getReactomeCollection | 0 | 0 | 0 | |
| goseq | 8.49 | 0.67 | 9.15 | |
| gsdScore | 1.45 | 0.03 | 1.49 | |
| gskey | 0.01 | 0.00 | 0.01 | |
| hasGeneSet | 0.08 | 0.00 | 0.08 | |
| hasGeneSetCollection | 0.05 | 0.01 | 0.06 | |
| incidenceMatrix | 2.42 | 0.07 | 2.47 | |
| iplot | 1.24 | 0.09 | 3.95 | |
| is.active | 0.39 | 0.03 | 1.57 | |
| logFC | 3.14 | 0.24 | 3.31 | |
| mgheatmap | 0 | 0 | 0 | |
| mgheatmap2 | 0 | 0 | 0 | |
| msg | 0 | 0 | 0 | |
| ora | 0.36 | 0.00 | 0.46 | |
| p.matrix | 0.10 | 0.00 | 0.09 | |
| randomGeneSetDb | 0.2 | 0.0 | 0.3 | |
| renameCollections | 0.06 | 0.00 | 0.08 | |
| renameRows | 0.48 | 0.00 | 0.49 | |
| results | 0.09 | 0.00 | 0.09 | |
| scale_rows | 0 | 0 | 0 | |
| scoreSingleSamples | 8.11 | 1.04 | 8.33 | |
| seas | 5.50 | 0.36 | 5.79 | |
| sparrow_methods | 0 | 0 | 0 | |
| species_info | 0.00 | 0.00 | 0.68 | |
| subset.GeneSetDb | 0.07 | 0.05 | 0.09 | |
| subsetByFeatures | 0.04 | 0.06 | 0.09 | |
| validateInputs | 0.14 | 0.03 | 0.71 | |
| volcanoPlot | 3.99 | 0.13 | 4.11 | |
| volcanoStatsTable | 0.06 | 0.00 | 0.06 | |
| zScore | 0.84 | 0.01 | 0.84 | |