| Back to Multiple platform build/check report for BioC 3.21: simplified long |
|
This page was generated on 2025-10-16 11:38 -0400 (Thu, 16 Oct 2025).
| Hostname | OS | Arch (*) | R version | Installed pkgs |
|---|---|---|---|---|
| nebbiolo1 | Linux (Ubuntu 24.04.3 LTS) | x86_64 | 4.5.1 (2025-06-13) -- "Great Square Root" | 4833 |
| merida1 | macOS 12.7.6 Monterey | x86_64 | 4.5.1 RC (2025-06-05 r88288) -- "Great Square Root" | 4614 |
| kjohnson1 | macOS 13.7.5 Ventura | arm64 | 4.5.1 Patched (2025-06-14 r88325) -- "Great Square Root" | 4555 |
| kunpeng2 | Linux (openEuler 24.03 LTS) | aarch64 | R Under development (unstable) (2025-02-19 r87757) -- "Unsuffered Consequences" | 4586 |
| Click on any hostname to see more info about the system (e.g. compilers) (*) as reported by 'uname -p', except on Windows and Mac OS X | ||||
| Package 1995/2341 | Hostname | OS / Arch | INSTALL | BUILD | CHECK | BUILD BIN | ||||||||
| signifinder 1.10.0 (landing page) Stefania Pirrotta
| nebbiolo1 | Linux (Ubuntu 24.04.3 LTS) / x86_64 | OK | OK | OK | |||||||||
| merida1 | macOS 12.7.6 Monterey / x86_64 | OK | OK | TIMEOUT | OK | |||||||||
| kjohnson1 | macOS 13.7.5 Ventura / arm64 | OK | OK | OK | OK | |||||||||
| kunpeng2 | Linux (openEuler 24.03 LTS) / aarch64 | OK | OK | OK | ||||||||||
|
To the developers/maintainers of the signifinder package: - Allow up to 24 hours (and sometimes 48 hours) for your latest push to git@git.bioconductor.org:packages/signifinder.git to reflect on this report. See Troubleshooting Build Report for more information. - Use the following Renviron settings to reproduce errors and warnings. - If 'R CMD check' started to fail recently on the Linux builder(s) over a missing dependency, add the missing dependency to 'Suggests:' in your DESCRIPTION file. See Renviron.bioc for more information. |
| Package: signifinder |
| Version: 1.10.0 |
| Command: /home/biocbuild/bbs-3.21-bioc/R/bin/R CMD check --install=check:signifinder.install-out.txt --library=/home/biocbuild/bbs-3.21-bioc/R/site-library --timings signifinder_1.10.0.tar.gz |
| StartedAt: 2025-10-16 03:38:16 -0400 (Thu, 16 Oct 2025) |
| EndedAt: 2025-10-16 03:59:39 -0400 (Thu, 16 Oct 2025) |
| EllapsedTime: 1282.5 seconds |
| RetCode: 0 |
| Status: OK |
| CheckDir: signifinder.Rcheck |
| Warnings: 0 |
##############################################################################
##############################################################################
###
### Running command:
###
### /home/biocbuild/bbs-3.21-bioc/R/bin/R CMD check --install=check:signifinder.install-out.txt --library=/home/biocbuild/bbs-3.21-bioc/R/site-library --timings signifinder_1.10.0.tar.gz
###
##############################################################################
##############################################################################
* using log directory ‘/home/biocbuild/bbs-3.21-bioc/meat/signifinder.Rcheck’
* using R version 4.5.1 (2025-06-13)
* using platform: x86_64-pc-linux-gnu
* R was compiled by
gcc (Ubuntu 13.3.0-6ubuntu2~24.04) 13.3.0
GNU Fortran (Ubuntu 13.3.0-6ubuntu2~24.04) 13.3.0
* running under: Ubuntu 24.04.3 LTS
* using session charset: UTF-8
* checking for file ‘signifinder/DESCRIPTION’ ... OK
* checking extension type ... Package
* this is package ‘signifinder’ version ‘1.10.0’
* package encoding: UTF-8
* checking package namespace information ... OK
* checking package dependencies ... INFO
Imports includes 27 non-default packages.
Importing from so many packages makes the package vulnerable to any of
them becoming unavailable. Move as many as possible to Suggests and
use conditionally.
* checking if this is a source package ... OK
* checking if there is a namespace ... OK
* checking for hidden files and directories ... OK
* checking for portable file names ... OK
* checking for sufficient/correct file permissions ... OK
* checking whether package ‘signifinder’ can be installed ... OK
* checking installed package size ... OK
* checking package directory ... OK
* checking ‘build’ directory ... OK
* checking DESCRIPTION meta-information ... OK
* checking top-level files ... OK
* checking for left-over files ... OK
* checking index information ... OK
* checking package subdirectories ... OK
* checking code files for non-ASCII characters ... OK
* checking R files for syntax errors ... OK
* checking whether the package can be loaded ... OK
* checking whether the package can be loaded with stated dependencies ... OK
* checking whether the package can be unloaded cleanly ... OK
* checking whether the namespace can be loaded with stated dependencies ... OK
* checking whether the namespace can be unloaded cleanly ... OK
* checking loading without being on the library search path ... OK
* checking dependencies in R code ... OK
* checking S3 generic/method consistency ... OK
* checking replacement functions ... OK
* checking foreign function calls ... OK
* checking R code for possible problems ... OK
* checking Rd files ... OK
* checking Rd metadata ... OK
* checking Rd cross-references ... NOTE
Found the following Rd file(s) with Rd \link{} targets missing package
anchors:
ADOSign.Rd: SummarizedExperiment-class
APMSign.Rd: SummarizedExperiment-class
ASCSign.Rd: SummarizedExperiment-class
CD39CD8TcellSign.Rd: SummarizedExperiment-class
CINSign.Rd: SummarizedExperiment-class
CISSign.Rd: SummarizedExperiment-class
COXISSign.Rd: SummarizedExperiment-class
CombinedSign.Rd: SummarizedExperiment-class
DNArepSign.Rd: SummarizedExperiment-class
ECMSign.Rd: SummarizedExperiment-class
EMTSign.Rd: SummarizedExperiment-class
HRDSSign.Rd: SummarizedExperiment-class
ICBResponseSign.Rd: SummarizedExperiment-class
IFNSign.Rd: SummarizedExperiment-class
IPRESSign.Rd: SummarizedExperiment-class
IPSOVSign.Rd: SummarizedExperiment-class
IPSSign.Rd: SummarizedExperiment-class
IRGSign.Rd: SummarizedExperiment-class
ISCSign.Rd: SummarizedExperiment-class
LRRC15CAFSign.Rd: SummarizedExperiment-class
MITFlowPTENnegSign.Rd: SummarizedExperiment-class
MPSSign.Rd: SummarizedExperiment-class
PassONSign.Rd: SummarizedExperiment-class
SCSubtypeSign.Rd: SummarizedExperiment-class
TGFBSign.Rd: SummarizedExperiment-class
TLSSign.Rd: SummarizedExperiment-class
TinflamSign.Rd: SummarizedExperiment-class
VEGFSign.Rd: SummarizedExperiment-class
autophagySign.Rd: SummarizedExperiment-class
cellCycleSign.Rd: SummarizedExperiment-class
chemokineSign.Rd: SummarizedExperiment-class
consensusOVSign.Rd: SummarizedExperiment-class
correlationSignPlot.Rd: SummarizedExperiment-class
evaluationSignPlot.Rd: SummarizedExperiment-class
expandedImmuneSign.Rd: SummarizedExperiment-class
ferroptosisSign.Rd: SummarizedExperiment-class
geneHeatmapSignPlot.Rd: SummarizedExperiment-class
glycolysisSign.Rd: SummarizedExperiment-class
heatmapSignPlot.Rd: SummarizedExperiment-class
hypoxiaSign.Rd: SummarizedExperiment-class
immuneCytSign.Rd: SummarizedExperiment-class
immunoScoreSign.Rd: SummarizedExperiment-class
interferonSign.Rd: SummarizedExperiment-class
lipidMetabolismSign.Rd: SummarizedExperiment-class
matrisomeSign.Rd: SummarizedExperiment-class
metalSign.Rd: SummarizedExperiment-class
mitoticIndexSign.Rd: SummarizedExperiment-class
multipleSign.Rd: SummarizedExperiment-class
oneSignPlot.Rd: SummarizedExperiment-class
oxphosSign.Rd: SummarizedExperiment-class
pyroptosisSign.Rd: SummarizedExperiment-class
ridgelineSignPlot.Rd: SummarizedExperiment-class
stateSign.Rd: SummarizedExperiment-class
stemCellCD49fSign.Rd: SummarizedExperiment-class
stressSign.Rd: SummarizedExperiment-class
survivalSignPlot.Rd: SummarizedExperiment-class
Please provide package anchors for all Rd \link{} targets not in the
package itself and the base packages.
* checking for missing documentation entries ... OK
* checking for code/documentation mismatches ... OK
* checking Rd \usage sections ... OK
* checking Rd contents ... OK
* checking for unstated dependencies in examples ... OK
* checking contents of ‘data’ directory ... OK
* checking data for non-ASCII characters ... OK
* checking data for ASCII and uncompressed saves ... OK
* checking R/sysdata.rda ... OK
* checking files in ‘vignettes’ ... OK
* checking examples ... OK
Examples with CPU (user + system) or elapsed time > 5s
user system elapsed
multipleSign 143.203 0.650 143.866
consensusOVSign 73.289 0.598 73.899
* checking for unstated dependencies in ‘tests’ ... OK
* checking tests ...
Running ‘testthat.R’
OK
* checking for unstated dependencies in vignettes ... OK
* checking package vignettes ... OK
* checking re-building of vignette outputs ... OK
* checking PDF version of manual ... OK
* DONE
Status: 1 NOTE
See
‘/home/biocbuild/bbs-3.21-bioc/meat/signifinder.Rcheck/00check.log’
for details.
signifinder.Rcheck/00install.out
############################################################################## ############################################################################## ### ### Running command: ### ### /home/biocbuild/bbs-3.21-bioc/R/bin/R CMD INSTALL signifinder ### ############################################################################## ############################################################################## * installing to library ‘/home/biocbuild/bbs-3.21-bioc/R/site-library’ * installing *source* package ‘signifinder’ ... ** this is package ‘signifinder’ version ‘1.10.0’ ** using staged installation ** R ** data ** inst ** byte-compile and prepare package for lazy loading ** help *** installing help indices *** copying figures ** building package indices ** installing vignettes ** testing if installed package can be loaded from temporary location ** testing if installed package can be loaded from final location ** testing if installed package keeps a record of temporary installation path * DONE (signifinder)
signifinder.Rcheck/tests/testthat.Rout
R version 4.5.1 (2025-06-13) -- "Great Square Root"
Copyright (C) 2025 The R Foundation for Statistical Computing
Platform: x86_64-pc-linux-gnu
R is free software and comes with ABSOLUTELY NO WARRANTY.
You are welcome to redistribute it under certain conditions.
Type 'license()' or 'licence()' for distribution details.
R is a collaborative project with many contributors.
Type 'contributors()' for more information and
'citation()' on how to cite R or R packages in publications.
Type 'demo()' for some demos, 'help()' for on-line help, or
'help.start()' for an HTML browser interface to help.
Type 'q()' to quit R.
> library(testthat)
> library(signifinder)
>
> test_check("signifinder")
pyroptosisSignLi is using 100% of signature genes
'select()' returned 1:1 mapping between keys and columns
Loading required package: edgeR
Loading required package: limma
Attaching package: 'limma'
The following object is masked from 'package:BiocGenerics':
plotMA
ferroptosisSignYe is using 100% of signature genes
lipidMetabolismSign is using 100% of signature genes
StemCellCD49fSign is using 100% of signature genes
glycolysisSignZhang is using 100% of signature genes
autophagySignChenH is using 100% of signature genes
'select()' returned 1:1 mapping between keys and columns
autophagySignChenM is using 27% of OS signature genes
autophagySignChenM is using 100% of DFS signature genes
TinflamSign is using 100% of signature genes
interferonSign is using 100% of Interferon signature genes
EMTSignMiow is using 0% of epithelial signature genes
EMTSignMiow is using 100% of mesenchymal signature genes
i argument assay='norm_expr' ignored since exprData has no assay names.
i GSVA version 2.2.1
i Calculating ssGSEA scores for 1 gene sets
i Calculating ranks
i Calculating rank weights
v Calculations finished
EMTSignMiow is using 0% of epithelial signature genes
i argument assay='norm_expr' ignored since exprData has no assay names.
i GSVA version 2.2.1
i Calculating ssGSEA scores for 1 gene sets
i Calculating ranks
i Calculating rank weights
v Calculations finished
EMTSignMak is using 100% of epithelial signature genes
EMTSignMak is using 100% of mesenchymal signature genes
EMTSignMak is using 100% of mesenchymal signature genes
EMTSignCheng is using 100% of signature genes
EMTSignThompson is using 100% of epithelial signature genes
EMTSignThompson is using 100% of mesenchymal signature genes
'select()' returned 1:1 mapping between keys and columns
EMTSignThompson is using 100% of mesenchymal signature genes
'select()' returned 1:1 mapping between keys and columns
EMTSign is using 100% of cEMT signature genes
EMTSign is using 100% of pEMT signature genes
EMTSign is using 100% of pEMT signature genes
hipoxiaSign is using 100% of Hypoxia signature genes
ASCSign is using 100% of signature genes
ChemokineSign is using 100% of signature genes
'select()' returned 1:1 mapping between keys and columns
PassONSign is using 100% of signature genes
i GSVA version 2.2.1
i Calculating ssGSEA scores for 4 gene sets
i Calculating ranks
i Calculating rank weights
i Normalizing ssGSEA scores
v Calculations finished
CISSign is using 100% of up signature genes
CISSign is using 100% of down signature genes
CISSign is using 100% of down signature genes
HRDSSign is using 100% of signature genes
DNArepSign is using 100% of signature genes
'select()' returned 1:1 mapping between keys and columns
IPRESSign is using 100% of signature genes
i GSVA version 2.2.1
i Calculating GSVA ranks
i kcdf='auto' (default)
i GSVA dense (classical) algorithm
i Row-wise ECDF estimation with Poisson kernels
i Calculating GSVA column ranks
i Calculating GSVA scores
v Calculations finished
ECMSign is using 0% of up signature genes
ECMSign is using 100% of down signature genes
i argument assay='norm_expr' ignored since exprData has no assay names.
i GSVA version 2.2.1
i Calculating ssGSEA scores for 1 gene sets
i Calculating ranks
i Calculating rank weights
v Calculations finished
ECMSign is using 0% of up signature genes
i argument assay='norm_expr' ignored since exprData has no assay names.
i GSVA version 2.2.1
i Calculating ssGSEA scores for 1 gene sets
i Calculating ranks
i Calculating rank weights
v Calculations finished
IPSOVSign is using 100% of signature genes
i argument assay='norm_expr' ignored since exprData has no assay names.
i GSVA version 2.2.1
! Duplicated gene IDs removed from gene set Antimicrobials
! Some gene sets have size one. Consider setting minSize > 1
i Calculating ssGSEA scores for 15 gene sets
i Calculating ranks
i Calculating rank weights
v Calculations finished
i argument assay='norm_expr' ignored since exprData has no assay names.
i GSVA version 2.2.1
! Duplicated gene IDs removed from gene set Antimicrobials
! Some gene sets have size one. Consider setting minSize > 1
i Calculating ssGSEA scores for 15 gene sets
i Calculating ranks
i Calculating rank weights
v Calculations finished
'select()' returned 1:1 mapping between keys and columns
stateSign is using 100% of MES2 signature genes
stateSign is using 100% of MES1 signature genes
stateSign is using 100% of AC signature genes
stateSign is using 100% of OPC signature genes
stateSign is using 100% of NPC1 signature genes
stateSign is using 100% of NPC2 signature genes
'select()' returned 1:1 mapping between keys and columns
stateSign is using 100% of MES1 signature genes
stateSign is using 100% of AC signature genes
stateSign is using 100% of OPC signature genes
stateSign is using 100% of NPC1 signature genes
stateSign is using 100% of NPC2 signature genes
stateSign is using 100% of Alveolar signature genes
stateSign is using 100% of Basal signature genes
stateSign is using 100% of Squamous signature genes
stateSign is using 100% of Glandular signature genes
stateSign is using 100% of Ciliated signature genes
stateSign is using 100% of AC signature genes
stateSign is using 100% of OPC signature genes
stateSign is using 100% of NPC signature genes
stateSign is using 100% of Basal signature genes
stateSign is using 100% of Squamous signature genes
stateSign is using 100% of Glandular signature genes
stateSign is using 100% of Ciliated signature genes
stateSign is using 100% of AC signature genes
stateSign is using 100% of OPC signature genes
stateSign is using 100% of NPC signature genes
TinflamSignThompson is using 100% of signature genes
'select()' returned 1:1 mapping between keys and columns
'select()' returned 1:1 mapping between keys and columns
cellCycleSign is using 100% of Cycle signature genes
EMTSignThompson is using 100% of epithelial signature genes
EMTSignThompson is using 100% of mesenchymal signature genes
'select()' returned 1:1 mapping between keys and columns
TinflamSignThompson is using 100% of signature genes
'select()' returned 1:1 mapping between keys and columns
EMTSignThompson is using 100% of mesenchymal signature genes
'select()' returned 1:1 mapping between keys and columns
TinflamSignThompson is using 100% of signature genes
'select()' returned 1:1 mapping between keys and columns
'select()' returned 1:1 mapping between keys and columns
stateSign is using 100% of MITF signature genes
stateSign is using 100% of AXL signature genes
'select()' returned 1:1 mapping between keys and columns
stateSign is using 100% of AXL signature genes
'select()' returned 1:1 mapping between keys and columns
APMSign is using 100% of signature genes
'select()' returned 1:1 mapping between keys and columns
APMSign is using 100% of signature genes
i argument assay='norm_expr' ignored since exprData has no assay names.
i GSVA version 2.2.1
i Calculating GSVA ranks
i kcdf='auto' (default)
i GSVA dense (classical) algorithm
i Row-wise ECDF estimation with Poisson kernels
i Calculating GSVA column ranks
i Calculating GSVA scores
v Calculations finished
i argument assay='norm_expr' ignored since exprData has no assay names.
i GSVA version 2.2.1
i Calculating GSVA ranks
i kcdf='auto' (default)
i GSVA dense (classical) algorithm
i Row-wise ECDF estimation with Poisson kernels
i Calculating GSVA column ranks
i Calculating GSVA scores
v Calculations finished
'select()' returned 1:1 mapping between keys and columns
MPSSign is using 100% of signature genes
'select()' returned 1:1 mapping between keys and columns
IRGSign is using 100% of signature genes
TGFBSign is using 100% of signature genes
ADOSign is using 100% of signature genes
i argument assay='norm_expr' ignored since exprData has no assay names.
i GSVA version 2.2.1
i Calculating GSVA ranks
i kcdf='auto' (default)
i GSVA dense (classical) algorithm
i Row-wise ECDF estimation with Poisson kernels
i Calculating GSVA column ranks
i Calculating GSVA scores
v Calculations finished
i argument assay='norm_expr' ignored since exprData has no assay names.
i GSVA version 2.2.1
i Calculating GSVA ranks
i kcdf='auto' (default)
i GSVA dense (classical) algorithm
i Row-wise ECDF estimation with Poisson kernels
i Calculating GSVA column ranks
i Calculating GSVA scores
v Calculations finished
MITFlowPTENnegSign is using 100% of signature genes
LRRC15CAFSign is using 100% of signature genes
SCSubtypeSign is using 0% of Basal signature genes
SCSubtypeSign is using 0% of Her2E signature genes
SCSubtypeSign is using 100% of LumA signature genes
SCSubtypeSign is using 0% of LumB signature genes
SCSubtypeSign is using 0% of Basal signature genes
SCSubtypeSign is using 0% of Her2E signature genes
SCSubtypeSign is using 0% of LumB signature genes
ICBResponseSign is using 100% of responder signature genes
ICBResponseSign is using 0% of nonresponder signature genes
ICBResponseSign is using 0% of nonresponder signature genes
COXISSign is using 100% of signature genes
stressSign is using 100% of Stress signature genes
oxphosSign is using 100% of Oxphos signature genes
metalSign is using 100% of Metal signature genes
CD39CD8TcellSign is using 100% of signature genes
TLSSign is using 100% of signature genes
expandedImmuneSign is using 100% of signature genes
IFNSign is using 100% of signature genes
ImmuneCytSignRooney is using 100% of signature genes
mitoticIndexSign is using 100% of signature genes
matrisomeSign is using 100% of signature genes
immunoScoreSignRoh is using 100% of signature genes
CINSign is using 100% of signature genes
CINSign is using 100% of signature genes
CINSign is using 100% of signature genes
hypoxiaSign is using 100% of signature genes
cellCycleSignLundberg is using 100% of signature genes
cellCycleSignDavoli is using 100% of signature genes
VEGFSign is using 100% of signature genes
ImmuneCytSignDavoli is using 100% of signature genes
[ FAIL 0 | WARN 2 | SKIP 0 | PASS 332 ]
[ FAIL 0 | WARN 2 | SKIP 0 | PASS 332 ]
>
> proc.time()
user system elapsed
564.891 6.017 570.973
signifinder.Rcheck/signifinder-Ex.timings
| name | user | system | elapsed | |
| ADOSign | 1.885 | 0.014 | 1.901 | |
| APMSign | 0.290 | 0.010 | 0.301 | |
| ASCSign | 0.049 | 0.004 | 0.054 | |
| CD39CD8TcellSign | 0.078 | 0.010 | 0.090 | |
| CINSign | 0.095 | 0.001 | 0.097 | |
| CISSign | 0.055 | 0.001 | 0.056 | |
| COXISSign | 0.057 | 0.001 | 0.057 | |
| CombinedSign | 0.111 | 0.002 | 0.112 | |
| DNArepSign | 0.055 | 0.001 | 0.057 | |
| ECMSign | 0.311 | 0.001 | 0.314 | |
| EMTSign | 0.360 | 0.007 | 0.368 | |
| HRDSSign | 0.062 | 0.001 | 0.063 | |
| ICBResponseSign | 0.064 | 0.003 | 0.067 | |
| IFNSign | 0.051 | 0.014 | 0.066 | |
| IPRESSign | 0.324 | 0.001 | 0.326 | |
| IPSOVSign | 0.345 | 0.007 | 0.352 | |
| IPSSign | 0.094 | 0.003 | 0.098 | |
| IRGSign | 0.055 | 0.002 | 0.056 | |
| ISCSign | 0.066 | 0.000 | 0.065 | |
| LRRC15CAFSign | 0.056 | 0.002 | 0.057 | |
| MITFlowPTENnegSign | 0.075 | 0.004 | 0.080 | |
| MPSSign | 0.079 | 0.002 | 0.081 | |
| PassONSign | 0.338 | 0.002 | 0.341 | |
| SCSubtypeSign | 0.036 | 0.000 | 0.037 | |
| TGFBSign | 0.054 | 0.001 | 0.056 | |
| TLSSign | 0.058 | 0.000 | 0.060 | |
| TinflamSign | 0.057 | 0.001 | 0.058 | |
| VEGFSign | 0.081 | 0.004 | 0.086 | |
| autophagySign | 0.053 | 0.001 | 0.055 | |
| availableSignatures | 0.008 | 0.009 | 0.017 | |
| cellCycleSign | 0.051 | 0.003 | 0.055 | |
| chemokineSign | 0.051 | 0.000 | 0.052 | |
| consensusOVSign | 73.289 | 0.598 | 73.899 | |
| correlationSignPlot | 1.526 | 0.143 | 1.669 | |
| evaluationSignPlot | 2.178 | 0.085 | 2.264 | |
| expandedImmuneSign | 0.055 | 0.002 | 0.057 | |
| ferroptosisSign | 0.057 | 0.002 | 0.059 | |
| geneHeatmapSignPlot | 1.284 | 0.002 | 1.287 | |
| getSignGenes | 0.003 | 0.005 | 0.008 | |
| glycolysisSign | 0.057 | 0.002 | 0.060 | |
| heatmapSignPlot | 2.260 | 0.002 | 2.263 | |
| hypoxiaSign | 0.059 | 0.001 | 0.060 | |
| immuneCytSign | 0.062 | 0.001 | 0.063 | |
| immunoScoreSign | 0.064 | 0.002 | 0.065 | |
| interferonSign | 0.039 | 0.000 | 0.039 | |
| lipidMetabolismSign | 0.052 | 0.004 | 0.056 | |
| matrisomeSign | 0.056 | 0.001 | 0.057 | |
| metalSign | 0.037 | 0.003 | 0.040 | |
| mitoticIndexSign | 0.055 | 0.000 | 0.055 | |
| multipleSign | 143.203 | 0.650 | 143.866 | |
| oneSignPlot | 0.517 | 0.008 | 0.525 | |
| oxphosSign | 0.037 | 0.002 | 0.039 | |
| pyroptosisSign | 0.068 | 0.001 | 0.068 | |
| ridgelineSignPlot | 1.199 | 0.009 | 1.208 | |
| stateSign | 0.039 | 0.001 | 0.040 | |
| stemCellCD49fSign | 0.061 | 0.001 | 0.063 | |
| stressSign | 0.037 | 0.002 | 0.039 | |
| survivalSignPlot | 1.790 | 0.016 | 1.806 | |