| Back to Multiple platform build/check report for BioC 3.21: simplified long |
|
This page was generated on 2025-10-16 11:41 -0400 (Thu, 16 Oct 2025).
| Hostname | OS | Arch (*) | R version | Installed pkgs |
|---|---|---|---|---|
| nebbiolo1 | Linux (Ubuntu 24.04.3 LTS) | x86_64 | 4.5.1 (2025-06-13) -- "Great Square Root" | 4833 |
| merida1 | macOS 12.7.6 Monterey | x86_64 | 4.5.1 RC (2025-06-05 r88288) -- "Great Square Root" | 4614 |
| kjohnson1 | macOS 13.7.5 Ventura | arm64 | 4.5.1 Patched (2025-06-14 r88325) -- "Great Square Root" | 4555 |
| kunpeng2 | Linux (openEuler 24.03 LTS) | aarch64 | R Under development (unstable) (2025-02-19 r87757) -- "Unsuffered Consequences" | 4586 |
| Click on any hostname to see more info about the system (e.g. compilers) (*) as reported by 'uname -p', except on Windows and Mac OS X | ||||
| Package 1976/2341 | Hostname | OS / Arch | INSTALL | BUILD | CHECK | BUILD BIN | ||||||||
| sevenbridges 1.38.0 (landing page) Phil Webster
| nebbiolo1 | Linux (Ubuntu 24.04.3 LTS) / x86_64 | OK | OK | OK | |||||||||
| merida1 | macOS 12.7.6 Monterey / x86_64 | OK | OK | OK | OK | |||||||||
| kjohnson1 | macOS 13.7.5 Ventura / arm64 | OK | OK | OK | OK | |||||||||
| kunpeng2 | Linux (openEuler 24.03 LTS) / aarch64 | OK | OK | OK | ||||||||||
|
To the developers/maintainers of the sevenbridges package: - Allow up to 24 hours (and sometimes 48 hours) for your latest push to git@git.bioconductor.org:packages/sevenbridges.git to reflect on this report. See Troubleshooting Build Report for more information. - Use the following Renviron settings to reproduce errors and warnings. - If 'R CMD check' started to fail recently on the Linux builder(s) over a missing dependency, add the missing dependency to 'Suggests:' in your DESCRIPTION file. See Renviron.bioc for more information. - See Martin Grigorov's blog post for how to debug Linux ARM64 related issues on a x86_64 host. |
| Package: sevenbridges |
| Version: 1.38.0 |
| Command: /home/biocbuild/R/R/bin/R CMD check --install=check:sevenbridges.install-out.txt --library=/home/biocbuild/R/R/site-library --no-vignettes --timings sevenbridges_1.38.0.tar.gz |
| StartedAt: 2025-10-14 14:13:03 -0000 (Tue, 14 Oct 2025) |
| EndedAt: 2025-10-14 14:16:57 -0000 (Tue, 14 Oct 2025) |
| EllapsedTime: 234.3 seconds |
| RetCode: 0 |
| Status: OK |
| CheckDir: sevenbridges.Rcheck |
| Warnings: 0 |
##############################################################################
##############################################################################
###
### Running command:
###
### /home/biocbuild/R/R/bin/R CMD check --install=check:sevenbridges.install-out.txt --library=/home/biocbuild/R/R/site-library --no-vignettes --timings sevenbridges_1.38.0.tar.gz
###
##############################################################################
##############################################################################
* using log directory ‘/home/biocbuild/bbs-3.21-bioc/meat/sevenbridges.Rcheck’
* using R Under development (unstable) (2025-02-19 r87757)
* using platform: aarch64-unknown-linux-gnu
* R was compiled by
aarch64-unknown-linux-gnu-gcc (GCC) 14.2.0
GNU Fortran (GCC) 14.2.0
* running under: openEuler 24.03 (LTS-SP1)
* using session charset: UTF-8
* using option ‘--no-vignettes’
* checking for file ‘sevenbridges/DESCRIPTION’ ... OK
* checking extension type ... Package
* this is package ‘sevenbridges’ version ‘1.38.0’
* package encoding: UTF-8
* checking package namespace information ... OK
* checking package dependencies ... OK
* checking if this is a source package ... OK
* checking if there is a namespace ... OK
* checking for hidden files and directories ... OK
* checking for portable file names ... OK
* checking for sufficient/correct file permissions ... OK
* checking whether package ‘sevenbridges’ can be installed ... OK
* checking installed package size ... OK
* checking package directory ... OK
* checking ‘build’ directory ... OK
* checking DESCRIPTION meta-information ... OK
* checking top-level files ... OK
* checking for left-over files ... OK
* checking index information ... OK
* checking package subdirectories ... OK
* checking code files for non-ASCII characters ... OK
* checking R files for syntax errors ... OK
* checking whether the package can be loaded ... OK
* checking whether the package can be loaded with stated dependencies ... OK
* checking whether the package can be unloaded cleanly ... OK
* checking whether the namespace can be loaded with stated dependencies ... OK
* checking whether the namespace can be unloaded cleanly ... OK
* checking loading without being on the library search path ... OK
* checking whether startup messages can be suppressed ... OK
* checking dependencies in R code ... OK
* checking S3 generic/method consistency ... OK
* checking replacement functions ... OK
* checking foreign function calls ... OK
* checking R code for possible problems ... OK
* checking Rd files ... NOTE
checkRd: (-1) CommandLineBinding-class.Rd:22: Lost braces in \itemize; meant \describe ?
checkRd: (-1) CommandLineBinding-class.Rd:23: Lost braces in \itemize; meant \describe ?
checkRd: (-1) CommandLineBinding-class.Rd:24-25: Lost braces in \itemize; meant \describe ?
checkRd: (-1) CommandLineBinding-class.Rd:26: Lost braces in \itemize; meant \describe ?
checkRd: (-1) CommandLineBinding-class.Rd:27-29: Lost braces in \itemize; meant \describe ?
checkRd: (-1) CommandLineBinding-class.Rd:30-31: Lost braces in \itemize; meant \describe ?
checkRd: (-1) CommandLineBinding-class.Rd:32: Lost braces in \itemize; meant \describe ?
checkRd: (-1) CommandLineTool.Rd:75-78: Lost braces in \itemize; meant \describe ?
checkRd: (-1) CommandLineTool.Rd:80-84: Lost braces in \itemize; meant \describe ?
checkRd: (-1) CommandLineTool.Rd:86-90: Lost braces in \itemize; meant \describe ?
checkRd: (-1) CommandLineTool.Rd:92-93: Lost braces in \itemize; meant \describe ?
checkRd: (-1) CommandLineTool.Rd:95-97: Lost braces in \itemize; meant \describe ?
checkRd: (-1) CommandLineTool.Rd:99-100: Lost braces in \itemize; meant \describe ?
checkRd: (-1) Tool-class.Rd:12: Lost braces
12 | code{Tool} class extends \code{CommandLineTool}
| ^
checkRd: (-1) WorkflowStep.Rd:168-170: Lost braces in \itemize; meant \describe ?
checkRd: (-1) WorkflowStep.Rd:172-176: Lost braces in \itemize; meant \describe ?
checkRd: (-1) WorkflowStep.Rd:178-182: Lost braces in \itemize; meant \describe ?
* checking Rd metadata ... OK
* checking Rd cross-references ... OK
* checking for missing documentation entries ... OK
* checking for code/documentation mismatches ... OK
* checking Rd \usage sections ... OK
* checking Rd contents ... OK
* checking for unstated dependencies in examples ... OK
* checking files in ‘vignettes’ ... OK
* checking examples ... OK
Examples with CPU (user + system) or elapsed time > 5s
user system elapsed
Flow 63.368 0.358 70.625
Tool-class 18.306 0.024 20.127
link_what 11.119 0.008 12.334
link 9.914 0.000 12.141
convert_app 7.603 0.039 8.505
* checking for unstated dependencies in ‘tests’ ... OK
* checking tests ...
Running ‘testthat.R’
OK
* checking for unstated dependencies in vignettes ... OK
* checking package vignettes ... OK
* checking running R code from vignettes ... SKIPPED
* checking re-building of vignette outputs ... SKIPPED
* checking PDF version of manual ... OK
* DONE
Status: 1 NOTE
See
‘/home/biocbuild/bbs-3.21-bioc/meat/sevenbridges.Rcheck/00check.log’
for details.
sevenbridges.Rcheck/00install.out
############################################################################## ############################################################################## ### ### Running command: ### ### /home/biocbuild/R/R/bin/R CMD INSTALL sevenbridges ### ############################################################################## ############################################################################## * installing to library ‘/home/biocbuild/R/R-devel_2025-02-19/site-library’ * installing *source* package ‘sevenbridges’ ... ** this is package ‘sevenbridges’ version ‘1.38.0’ ** using staged installation ** R ** inst ** byte-compile and prepare package for lazy loading ** help *** installing help indices ** building package indices ** installing vignettes ** testing if installed package can be loaded from temporary location ** testing if installed package can be loaded from final location ** testing if installed package keeps a record of temporary installation path * DONE (sevenbridges)
sevenbridges.Rcheck/tests/testthat.Rout
R Under development (unstable) (2025-02-19 r87757) -- "Unsuffered Consequences"
Copyright (C) 2025 The R Foundation for Statistical Computing
Platform: aarch64-unknown-linux-gnu
R is free software and comes with ABSOLUTELY NO WARRANTY.
You are welcome to redistribute it under certain conditions.
Type 'license()' or 'licence()' for distribution details.
R is a collaborative project with many contributors.
Type 'contributors()' for more information and
'citation()' on how to cite R or R packages in publications.
Type 'demo()' for some demos, 'help()' for on-line help, or
'help.start()' for an HTML browser interface to help.
Type 'q()' to quit R.
> library("testthat")
> library("sevenbridges")
> test_check("sevenbridges")
[ FAIL 0 | WARN 0 | SKIP 0 | PASS 0 ]
>
> proc.time()
user system elapsed
3.080 0.134 3.833
sevenbridges.Rcheck/sevenbridges-Ex.timings
| name | user | system | elapsed | |
| App-class | 0 | 0 | 0 | |
| Auth-class | 0.008 | 0.000 | 0.009 | |
| Binding | 0.014 | 0.000 | 0.014 | |
| CCBList | 0.018 | 0.000 | 0.018 | |
| CWL | 0.001 | 0.000 | 0.001 | |
| CommandInputParameter-class | 0.027 | 0.000 | 0.027 | |
| CommandInputSchema-class | 0.032 | 0.000 | 0.032 | |
| CommandLineBinding-class | 0.008 | 0.000 | 0.008 | |
| CommandLineTool | 0.019 | 0.000 | 0.019 | |
| CommandOutputBinding-class | 0.009 | 0.000 | 0.009 | |
| CommandOutputParameter-class | 0.017 | 0.000 | 0.018 | |
| CommandOutputSchema-class | 0.016 | 0.000 | 0.016 | |
| DSCList | 0.023 | 0.000 | 0.022 | |
| Enum | 0.050 | 0.000 | 0.051 | |
| Expression-class | 0.009 | 0.000 | 0.010 | |
| ExpressionTool-class | 0.026 | 0.000 | 0.027 | |
| File-class | 0.083 | 0.028 | 0.112 | |
| Files-class | 0.007 | 0.004 | 0.011 | |
| Flow | 63.368 | 0.358 | 70.625 | |
| Metadata | 0.114 | 0.012 | 0.127 | |
| Parameter | 0.041 | 0.008 | 0.048 | |
| Process | 0.073 | 0.024 | 0.097 | |
| ProcessRequirement | 0.065 | 0.004 | 0.069 | |
| Schema | 0.020 | 0.000 | 0.021 | |
| TaskHook | 0.002 | 0.000 | 0.002 | |
| Tool-class | 18.306 | 0.024 | 20.127 | |
| Workflow | 0.035 | 0.000 | 0.035 | |
| WorkflowStep | 0.006 | 0.000 | 0.006 | |
| addIdNum | 0 | 0 | 0 | |
| api | 0 | 0 | 0 | |
| as-methods | 0.089 | 0.000 | 0.089 | |
| batch | 0 | 0 | 0 | |
| cli_list_projects | 0 | 0 | 0 | |
| cli_list_tags | 0 | 0 | 0 | |
| cli_upload | 0 | 0 | 0 | |
| convert_app | 7.603 | 0.039 | 8.505 | |
| cwl-utils | 0.139 | 0.000 | 0.278 | |
| delete-methods | 0 | 0 | 0 | |
| download-methods | 0 | 0 | 0 | |
| get_token | 0 | 0 | 0 | |
| get_uploader | 0.000 | 0.000 | 0.001 | |
| input_output_matrix | 0.123 | 0.001 | 0.248 | |
| link | 9.914 | 0.000 | 12.141 | |
| link_what | 11.119 | 0.008 | 12.334 | |
| project_details | 0 | 0 | 0 | |
| project_members | 0 | 0 | 0 | |
| requirements | 0.103 | 0.000 | 0.102 | |
| response-methods | 0 | 0 | 0 | |
| sbg_get_env | 0 | 0 | 0 | |
| sbg_set_env | 0 | 0 | 0 | |
| set_test_env | 0 | 0 | 0 | |
| shorthand-cwl | 0.032 | 0.000 | 0.032 | |
| tag-methods | 0 | 0 | 0 | |
| test_tool_bunny | 0 | 0 | 0 | |
| test_tool_cwlrun | 0 | 0 | 0 | |
| test_tool_rabix | 0 | 0 | 0 | |
| upload_complete_all | 0 | 0 | 0 | |
| upload_complete_part | 0 | 0 | 0 | |
| upload_delete | 0 | 0 | 0 | |
| upload_info | 0 | 0 | 0 | |
| upload_info_part | 0 | 0 | 0 | |
| upload_init | 0 | 0 | 0 | |