| Back to Multiple platform build/check report for BioC 3.22: simplified long |
|
This page was generated on 2025-11-12 11:58 -0500 (Wed, 12 Nov 2025).
| Hostname | OS | Arch (*) | R version | Installed pkgs |
|---|---|---|---|---|
| nebbiolo2 | Linux (Ubuntu 24.04.3 LTS) | x86_64 | 4.5.1 Patched (2025-08-23 r88802) -- "Great Square Root" | 4902 |
| taishan | Linux (openEuler 24.03 LTS) | aarch64 | 4.5.0 (2025-04-11) -- "How About a Twenty-Six" | 4668 |
| Click on any hostname to see more info about the system (e.g. compilers) (*) as reported by 'uname -p', except on Windows and Mac OS X | ||||
| Package 1992/2361 | Hostname | OS / Arch | INSTALL | BUILD | CHECK | BUILD BIN | ||||||||
| sesame 1.28.0 (landing page) Wanding Zhou
| nebbiolo2 | Linux (Ubuntu 24.04.3 LTS) / x86_64 | OK | OK | OK | |||||||||
| taishan | Linux (openEuler 24.03 LTS) / aarch64 | OK | OK | OK | ||||||||||
|
To the developers/maintainers of the sesame package: - Allow up to 24 hours (and sometimes 48 hours) for your latest push to git@git.bioconductor.org:packages/sesame.git to reflect on this report. See Troubleshooting Build Report for more information. - Use the following Renviron settings to reproduce errors and warnings. - If 'R CMD check' started to fail recently on the Linux builder(s) over a missing dependency, add the missing dependency to 'Suggests:' in your DESCRIPTION file. See Renviron.bioc for more information. - See Martin Grigorov's blog post for how to debug Linux ARM64 related issues on a x86_64 host. |
| Package: sesame |
| Version: 1.28.0 |
| Command: /home/biocbuild/R/R/bin/R CMD check --install=check:sesame.install-out.txt --library=/home/biocbuild/R/R/site-library --no-vignettes --timings sesame_1.28.0.tar.gz |
| StartedAt: 2025-11-11 14:47:15 -0000 (Tue, 11 Nov 2025) |
| EndedAt: 2025-11-11 15:03:53 -0000 (Tue, 11 Nov 2025) |
| EllapsedTime: 997.9 seconds |
| RetCode: 0 |
| Status: OK |
| CheckDir: sesame.Rcheck |
| Warnings: 0 |
##############################################################################
##############################################################################
###
### Running command:
###
### /home/biocbuild/R/R/bin/R CMD check --install=check:sesame.install-out.txt --library=/home/biocbuild/R/R/site-library --no-vignettes --timings sesame_1.28.0.tar.gz
###
##############################################################################
##############################################################################
* using log directory ‘/home/biocbuild/bbs-3.22-bioc/meat/sesame.Rcheck’
* using R version 4.5.0 (2025-04-11)
* using platform: aarch64-unknown-linux-gnu
* R was compiled by
aarch64-unknown-linux-gnu-gcc (GCC) 14.2.0
GNU Fortran (GCC) 14.2.0
* running under: openEuler 24.03 (LTS)
* using session charset: UTF-8
* using option ‘--no-vignettes’
* checking for file ‘sesame/DESCRIPTION’ ... OK
* checking extension type ... Package
* this is package ‘sesame’ version ‘1.28.0’
* package encoding: UTF-8
* checking package namespace information ... OK
* checking package dependencies ... OK
* checking if this is a source package ... OK
* checking if there is a namespace ... OK
* checking for hidden files and directories ... OK
* checking for portable file names ... OK
* checking for sufficient/correct file permissions ... OK
* checking whether package ‘sesame’ can be installed ... OK
* checking installed package size ... OK
* checking package directory ... OK
* checking ‘build’ directory ... OK
* checking DESCRIPTION meta-information ... OK
* checking top-level files ... OK
* checking for left-over files ... OK
* checking index information ... OK
* checking package subdirectories ... OK
* checking code files for non-ASCII characters ... OK
* checking R files for syntax errors ... OK
* checking whether the package can be loaded ... OK
* checking whether the package can be loaded with stated dependencies ... OK
* checking whether the package can be unloaded cleanly ... OK
* checking whether the namespace can be loaded with stated dependencies ... OK
* checking whether the namespace can be unloaded cleanly ... OK
* checking loading without being on the library search path ... OK
* checking whether startup messages can be suppressed ... OK
* checking dependencies in R code ... OK
* checking S3 generic/method consistency ... OK
* checking replacement functions ... OK
* checking foreign function calls ... OK
* checking R code for possible problems ... OK
* checking Rd files ... OK
* checking Rd metadata ... OK
* checking Rd cross-references ... OK
* checking for missing documentation entries ... OK
* checking for code/documentation mismatches ... OK
* checking Rd \usage sections ... OK
* checking Rd contents ... OK
* checking for unstated dependencies in examples ... OK
* checking files in ‘vignettes’ ... OK
* checking examples ... OK
Examples with CPU (user + system) or elapsed time > 5s
user system elapsed
imputeBetasByGenomicNeighbors 42.784 0.691 51.848
inferSex 27.570 0.306 32.580
imputeBetas 24.535 0.890 31.487
sesameQC_calcStats 23.275 0.287 29.353
sesameQC_plotHeatSNPs 21.975 0.230 24.185
inferSpecies 18.474 0.616 23.427
ELBAR 16.943 0.118 21.549
matchDesign 16.355 0.613 19.996
compareMouseStrainReference 15.806 0.290 17.688
diffRefSet 15.139 0.244 17.322
compareReference 14.020 0.191 17.011
sesameQC_plotBetaByDesign 13.983 0.206 16.804
sesameQC_plotBar 13.564 0.318 16.325
getRefSet 13.017 0.162 14.912
inferStrain 10.602 0.401 11.720
DMR 10.628 0.269 12.222
visualizeGene 9.922 0.286 11.504
DML 8.626 0.339 10.655
sdf_read_table 8.667 0.184 11.223
inferTissue 8.430 0.184 12.159
deIdentify 7.572 0.104 11.282
estimateLeukocyte 7.372 0.179 8.929
dyeBiasCorrMostBalanced 6.918 0.211 8.168
openSesame 6.501 0.347 8.040
getMask 6.635 0.202 7.713
dyeBiasNL 6.486 0.068 9.190
createUCSCtrack 6.281 0.161 8.107
reIdentify 6.269 0.147 6.781
probeSuccessRate 5.933 0.136 6.962
bisConversionControl 4.976 0.107 6.923
checkLevels 4.358 0.159 5.208
sesameQC_rankStats 4.278 0.083 5.038
mapToMammal40 2.985 0.120 5.032
* checking for unstated dependencies in ‘tests’ ... OK
* checking tests ...
Running ‘testthat.R’
OK
* checking for unstated dependencies in vignettes ... OK
* checking package vignettes ... OK
* checking running R code from vignettes ... SKIPPED
* checking re-building of vignette outputs ... SKIPPED
* checking PDF version of manual ... OK
* DONE
Status: OK
sesame.Rcheck/00install.out
############################################################################## ############################################################################## ### ### Running command: ### ### /home/biocbuild/R/R/bin/R CMD INSTALL sesame ### ############################################################################## ############################################################################## * installing to library ‘/home/biocbuild/R/R-4.5.0/site-library’ * installing *source* package ‘sesame’ ... ** this is package ‘sesame’ version ‘1.28.0’ ** using staged installation ** R ** inst ** byte-compile and prepare package for lazy loading ** help *** installing help indices ** building package indices ** installing vignettes ** testing if installed package can be loaded from temporary location ** testing if installed package can be loaded from final location ** testing if installed package keeps a record of temporary installation path * DONE (sesame)
sesame.Rcheck/tests/testthat.Rout
R version 4.5.0 (2025-04-11) -- "How About a Twenty-Six"
Copyright (C) 2025 The R Foundation for Statistical Computing
Platform: aarch64-unknown-linux-gnu
R is free software and comes with ABSOLUTELY NO WARRANTY.
You are welcome to redistribute it under certain conditions.
Type 'license()' or 'licence()' for distribution details.
R is a collaborative project with many contributors.
Type 'contributors()' for more information and
'citation()' on how to cite R or R packages in publications.
Type 'demo()' for some demos, 'help()' for on-line help, or
'help.start()' for an HTML browser interface to help.
Type 'q()' to quit R.
> library(testthat)
> library(sesame)
Loading required package: sesameData
Loading required package: ExperimentHub
Loading required package: BiocGenerics
Loading required package: generics
Attaching package: 'generics'
The following objects are masked from 'package:base':
as.difftime, as.factor, as.ordered, intersect, is.element, setdiff,
setequal, union
Attaching package: 'BiocGenerics'
The following objects are masked from 'package:stats':
IQR, mad, sd, var, xtabs
The following objects are masked from 'package:base':
Filter, Find, Map, Position, Reduce, anyDuplicated, aperm, append,
as.data.frame, basename, cbind, colnames, dirname, do.call,
duplicated, eval, evalq, get, grep, grepl, is.unsorted, lapply,
mapply, match, mget, order, paste, pmax, pmax.int, pmin, pmin.int,
rank, rbind, rownames, sapply, saveRDS, table, tapply, unique,
unsplit, which.max, which.min
Loading required package: AnnotationHub
Loading required package: BiocFileCache
Loading required package: dbplyr
Loading sesameData.
----------------------------------------------------------
| SEnsible Step-wise Analysis of DNA MEthylation (SeSAMe)
| --------------------------------------------------------
| Please cache auxiliary data by "sesameDataCache()".
| This needs to be done only once per SeSAMe installation.
----------------------------------------------------------
>
> test_check("sesame")
[ FAIL 0 | WARN 0 | SKIP 0 | PASS 5 ]
>
> proc.time()
user system elapsed
21.055 0.722 25.620
sesame.Rcheck/sesame-Ex.timings
| name | user | system | elapsed | |
| BetaValueToMValue | 0.000 | 0.000 | 0.001 | |
| DML | 8.626 | 0.339 | 10.655 | |
| DMLpredict | 1.505 | 0.051 | 1.565 | |
| DMR | 10.628 | 0.269 | 12.222 | |
| ELBAR | 16.943 | 0.118 | 21.549 | |
| MValueToBetaValue | 0 | 0 | 0 | |
| SigDF | 0.432 | 0.024 | 0.514 | |
| addMask | 0.101 | 0.000 | 0.102 | |
| betasCollapseToPfx | 0.008 | 0.008 | 0.016 | |
| bisConversionControl | 4.976 | 0.107 | 6.923 | |
| calcEffectSize | 1.380 | 0.016 | 1.465 | |
| checkLevels | 4.358 | 0.159 | 5.208 | |
| cnSegmentation | 0.339 | 0.027 | 0.404 | |
| compareMouseStrainReference | 15.806 | 0.290 | 17.688 | |
| compareMouseTissueReference | 0 | 0 | 0 | |
| compareReference | 14.020 | 0.191 | 17.011 | |
| controls | 2.318 | 0.087 | 3.391 | |
| createUCSCtrack | 6.281 | 0.161 | 8.107 | |
| deIdentify | 7.572 | 0.104 | 11.282 | |
| detectionPnegEcdf | 1.087 | 0.008 | 1.109 | |
| diffRefSet | 15.139 | 0.244 | 17.322 | |
| dmContrasts | 2.130 | 0.024 | 2.177 | |
| dyeBiasCorr | 3.180 | 0.048 | 3.492 | |
| dyeBiasCorrMostBalanced | 6.918 | 0.211 | 8.168 | |
| dyeBiasL | 2.645 | 0.028 | 4.183 | |
| dyeBiasNL | 6.486 | 0.068 | 9.190 | |
| estimateLeukocyte | 7.372 | 0.179 | 8.929 | |
| formatVCF | 2.390 | 0.060 | 4.022 | |
| getAFTypeIbySumAlleles | 1.922 | 0.056 | 2.680 | |
| getAFs | 1.294 | 0.020 | 1.604 | |
| getBetas | 0.962 | 0.008 | 1.080 | |
| getMask | 6.635 | 0.202 | 7.713 | |
| getRefSet | 13.017 | 0.162 | 14.912 | |
| imputeBetas | 24.535 | 0.890 | 31.487 | |
| imputeBetasByGenomicNeighbors | 42.784 | 0.691 | 51.848 | |
| imputeBetasMatrixByMean | 0.002 | 0.000 | 0.001 | |
| inferEthnicity | 0.001 | 0.000 | 0.001 | |
| inferInfiniumIChannel | 0.312 | 0.064 | 0.377 | |
| inferSex | 27.570 | 0.306 | 32.580 | |
| inferSpecies | 18.474 | 0.616 | 23.427 | |
| inferStrain | 10.602 | 0.401 | 11.720 | |
| inferTissue | 8.430 | 0.184 | 12.159 | |
| initFileSet | 1.326 | 0.031 | 1.587 | |
| listAvailableMasks | 1.493 | 0.032 | 2.405 | |
| mLiftOver | 0.001 | 0.000 | 0.000 | |
| mapFileSet | 0.04 | 0.00 | 0.04 | |
| mapToMammal40 | 2.985 | 0.120 | 5.032 | |
| matchDesign | 16.355 | 0.613 | 19.996 | |
| meanIntensity | 3.209 | 0.126 | 3.689 | |
| medianTotalIntensity | 0.880 | 0.104 | 0.987 | |
| noMasked | 3.784 | 0.131 | 4.164 | |
| noob | 2.533 | 0.123 | 2.679 | |
| openSesame | 6.501 | 0.347 | 8.040 | |
| openSesameToFile | 2.103 | 0.091 | 2.440 | |
| pOOBAH | 1.529 | 0.037 | 1.620 | |
| palgen | 0.045 | 0.012 | 0.075 | |
| parseGEOsignalMU | 3.335 | 0.167 | 3.848 | |
| predictAge | 2.621 | 0.099 | 3.270 | |
| predictAgeHorvath353 | 0.001 | 0.000 | 0.000 | |
| predictAgeSkinBlood | 0 | 0 | 0 | |
| predictMouseAgeInMonth | 0 | 0 | 0 | |
| prefixMask | 0.492 | 0.000 | 0.493 | |
| prefixMaskButC | 0.142 | 0.004 | 0.146 | |
| prefixMaskButCG | 0.065 | 0.000 | 0.065 | |
| prepSesame | 4.489 | 0.099 | 4.729 | |
| prepSesameList | 0.002 | 0.000 | 0.001 | |
| print.DMLSummary | 3.286 | 0.210 | 3.668 | |
| print.fileSet | 1.377 | 0.060 | 1.526 | |
| probeID_designType | 0 | 0 | 0 | |
| probeSuccessRate | 5.933 | 0.136 | 6.962 | |
| qualityMask | 2.046 | 0.055 | 2.254 | |
| reIdentify | 6.269 | 0.147 | 6.781 | |
| readFileSet | 0.058 | 0.003 | 0.063 | |
| readIDATpair | 0.132 | 0.004 | 0.137 | |
| recommendedMaskNames | 0 | 0 | 0 | |
| resetMask | 0.474 | 0.020 | 0.495 | |
| scrub | 2.857 | 0.124 | 4.138 | |
| scrubSoft | 4.412 | 0.143 | 4.658 | |
| sdfPlatform | 0.388 | 0.016 | 0.408 | |
| sdf_read_table | 8.667 | 0.184 | 11.223 | |
| sdf_write_table | 2.394 | 0.055 | 3.450 | |
| searchIDATprefixes | 0.002 | 0.004 | 0.022 | |
| sesame-package | 2.726 | 0.163 | 3.129 | |
| sesameAnno_attachManifest | 0 | 0 | 0 | |
| sesameAnno_buildAddressFile | 0 | 0 | 0 | |
| sesameAnno_buildManifestGRanges | 0.001 | 0.000 | 0.000 | |
| sesameAnno_download | 0.000 | 0.000 | 0.001 | |
| sesameAnno_readManifestTSV | 0 | 0 | 0 | |
| sesameQC_calcStats | 23.275 | 0.287 | 29.353 | |
| sesameQC_getStats | 2.049 | 0.023 | 2.122 | |
| sesameQC_plotBar | 13.564 | 0.318 | 16.325 | |
| sesameQC_plotBetaByDesign | 13.983 | 0.206 | 16.804 | |
| sesameQC_plotHeatSNPs | 21.975 | 0.230 | 24.185 | |
| sesameQC_plotIntensVsBetas | 2.425 | 0.028 | 2.475 | |
| sesameQC_plotRedGrnQQ | 1.628 | 0.032 | 1.671 | |
| sesameQC_rankStats | 4.278 | 0.083 | 5.038 | |
| sesameQCtoDF | 2.024 | 0.011 | 2.142 | |
| sesame_checkVersion | 0.005 | 0.000 | 0.004 | |
| sesamize | 0.001 | 0.000 | 0.000 | |
| setMask | 0.123 | 0.000 | 0.124 | |
| signalMU | 1.303 | 0.039 | 1.393 | |
| sliceFileSet | 0.037 | 0.003 | 0.040 | |
| summaryExtractTest | 3.451 | 0.139 | 3.627 | |
| totalIntensities | 2.995 | 0.056 | 3.104 | |
| updateSigDF | 3.657 | 0.139 | 4.003 | |
| visualizeGene | 9.922 | 0.286 | 11.504 | |
| visualizeProbes | 1.621 | 0.024 | 1.813 | |
| visualizeRegion | 0.447 | 0.000 | 0.449 | |
| visualizeSegments | 1.730 | 0.123 | 2.029 | |