| Back to Multiple platform build/check report for BioC 3.22: simplified long |
|
This page was generated on 2025-11-12 11:58 -0500 (Wed, 12 Nov 2025).
| Hostname | OS | Arch (*) | R version | Installed pkgs |
|---|---|---|---|---|
| nebbiolo2 | Linux (Ubuntu 24.04.3 LTS) | x86_64 | 4.5.1 Patched (2025-08-23 r88802) -- "Great Square Root" | 4902 |
| taishan | Linux (openEuler 24.03 LTS) | aarch64 | 4.5.0 (2025-04-11) -- "How About a Twenty-Six" | 4668 |
| Click on any hostname to see more info about the system (e.g. compilers) (*) as reported by 'uname -p', except on Windows and Mac OS X | ||||
| Package 1970/2361 | Hostname | OS / Arch | INSTALL | BUILD | CHECK | BUILD BIN | ||||||||
| segmentSeq 2.44.0 (landing page) Samuel Granjeaud
| nebbiolo2 | Linux (Ubuntu 24.04.3 LTS) / x86_64 | OK | OK | OK | |||||||||
| taishan | Linux (openEuler 24.03 LTS) / aarch64 | OK | OK | OK | ||||||||||
|
To the developers/maintainers of the segmentSeq package: - Allow up to 24 hours (and sometimes 48 hours) for your latest push to git@git.bioconductor.org:packages/segmentSeq.git to reflect on this report. See Troubleshooting Build Report for more information. - Use the following Renviron settings to reproduce errors and warnings. - If 'R CMD check' started to fail recently on the Linux builder(s) over a missing dependency, add the missing dependency to 'Suggests:' in your DESCRIPTION file. See Renviron.bioc for more information. - See Martin Grigorov's blog post for how to debug Linux ARM64 related issues on a x86_64 host. |
| Package: segmentSeq |
| Version: 2.44.0 |
| Command: /home/biocbuild/R/R/bin/R CMD check --install=check:segmentSeq.install-out.txt --library=/home/biocbuild/R/R/site-library --no-vignettes --timings segmentSeq_2.44.0.tar.gz |
| StartedAt: 2025-11-11 14:41:12 -0000 (Tue, 11 Nov 2025) |
| EndedAt: 2025-11-11 14:49:40 -0000 (Tue, 11 Nov 2025) |
| EllapsedTime: 508.2 seconds |
| RetCode: 0 |
| Status: OK |
| CheckDir: segmentSeq.Rcheck |
| Warnings: 0 |
##############################################################################
##############################################################################
###
### Running command:
###
### /home/biocbuild/R/R/bin/R CMD check --install=check:segmentSeq.install-out.txt --library=/home/biocbuild/R/R/site-library --no-vignettes --timings segmentSeq_2.44.0.tar.gz
###
##############################################################################
##############################################################################
* using log directory ‘/home/biocbuild/bbs-3.22-bioc/meat/segmentSeq.Rcheck’
* using R version 4.5.0 (2025-04-11)
* using platform: aarch64-unknown-linux-gnu
* R was compiled by
aarch64-unknown-linux-gnu-gcc (GCC) 14.2.0
GNU Fortran (GCC) 14.2.0
* running under: openEuler 24.03 (LTS)
* using session charset: UTF-8
* using option ‘--no-vignettes’
* checking for file ‘segmentSeq/DESCRIPTION’ ... OK
* checking extension type ... Package
* this is package ‘segmentSeq’ version ‘2.44.0’
* checking package namespace information ... OK
* checking package dependencies ... OK
* checking if this is a source package ... OK
* checking if there is a namespace ... OK
* checking for hidden files and directories ... OK
* checking for portable file names ... OK
* checking for sufficient/correct file permissions ... OK
* checking whether package ‘segmentSeq’ can be installed ... OK
* checking installed package size ... OK
* checking package directory ... OK
* checking ‘build’ directory ... OK
* checking DESCRIPTION meta-information ... OK
* checking top-level files ... OK
* checking for left-over files ... OK
* checking index information ... OK
* checking package subdirectories ... OK
* checking code files for non-ASCII characters ... OK
* checking R files for syntax errors ... OK
* checking whether the package can be loaded ... OK
* checking whether the package can be loaded with stated dependencies ... OK
* checking whether the package can be unloaded cleanly ... OK
* checking whether the namespace can be loaded with stated dependencies ... OK
* checking whether the namespace can be unloaded cleanly ... OK
* checking loading without being on the library search path ... OK
* checking dependencies in R code ... OK
* checking S3 generic/method consistency ... OK
* checking replacement functions ... OK
* checking foreign function calls ... OK
* checking R code for possible problems ... OK
* checking Rd files ... OK
* checking Rd metadata ... OK
* checking Rd cross-references ... NOTE
Found the following Rd file(s) with Rd \link{} targets missing package
anchors:
averageMethylationRegions.Rd: GRanges-class
findChunks.Rd: GRanges-class, GRanges
lociData-class.Rd: countData, countData-class
methData-class.Rd: countData, countData-class
Please provide package anchors for all Rd \link{} targets not in the
package itself and the base packages.
* checking for missing documentation entries ... OK
* checking for code/documentation mismatches ... OK
* checking Rd \usage sections ... OK
* checking Rd contents ... OK
* checking for unstated dependencies in examples ... OK
* checking contents of ‘data’ directory ... OK
* checking data for non-ASCII characters ... OK
* checking data for ASCII and uncompressed saves ... OK
* checking files in ‘vignettes’ ... OK
* checking examples ... OK
Examples with CPU (user + system) or elapsed time > 5s
user system elapsed
classifySeg 37.855 0.117 44.861
lociLikelihoods 16.603 0.004 18.579
heuristicSeg 16.418 0.007 18.642
plotGenome 9.253 0.008 12.931
getCounts 6.176 0.000 6.798
normaliseNC 5.011 0.048 8.867
segmentSeq-package 5.012 0.004 7.868
processAD 4.933 0.019 6.894
segData-class 4.803 0.012 5.153
alignmentData-class 4.470 0.009 6.972
getOverlaps 4.281 0.004 5.207
findChunks 3.952 0.005 5.675
thresholdFinder 3.420 0.052 6.095
* checking for unstated dependencies in vignettes ... OK
* checking package vignettes ... OK
* checking running R code from vignettes ... SKIPPED
* checking re-building of vignette outputs ... SKIPPED
* checking PDF version of manual ... OK
* DONE
Status: 1 NOTE
See
‘/home/biocbuild/bbs-3.22-bioc/meat/segmentSeq.Rcheck/00check.log’
for details.
segmentSeq.Rcheck/00install.out
############################################################################## ############################################################################## ### ### Running command: ### ### /home/biocbuild/R/R/bin/R CMD INSTALL segmentSeq ### ############################################################################## ############################################################################## * installing to library ‘/home/biocbuild/R/R-4.5.0/site-library’ * installing *source* package ‘segmentSeq’ ... ** this is package ‘segmentSeq’ version ‘2.44.0’ ** using staged installation ** R ** data ** inst ** byte-compile and prepare package for lazy loading ** help *** installing help indices ** building package indices ** installing vignettes ** testing if installed package can be loaded from temporary location ** testing if installed package can be loaded from final location ** testing if installed package keeps a record of temporary installation path * DONE (segmentSeq)
segmentSeq.Rcheck/segmentSeq-Ex.timings
| name | user | system | elapsed | |
| alignmentData-class | 4.470 | 0.009 | 6.972 | |
| classifySeg | 37.855 | 0.117 | 44.861 | |
| findChunks | 3.952 | 0.005 | 5.675 | |
| getCounts | 6.176 | 0.000 | 6.798 | |
| getOverlaps | 4.281 | 0.004 | 5.207 | |
| heuristicSeg | 16.418 | 0.007 | 18.642 | |
| lociLikelihoods | 16.603 | 0.004 | 18.579 | |
| normaliseNC | 5.011 | 0.048 | 8.867 | |
| plotGenome | 9.253 | 0.008 | 12.931 | |
| processAD | 4.933 | 0.019 | 6.894 | |
| readMethods | 3.914 | 0.000 | 4.256 | |
| readMeths | 4.072 | 0.059 | 4.494 | |
| segData-class | 4.803 | 0.012 | 5.153 | |
| segmentSeq-package | 5.012 | 0.004 | 7.868 | |
| thresholdFinder | 3.420 | 0.052 | 6.095 | |