Back to Multiple platform build/check report for BioC 3.22:   simplified   long
ABCDEFGHIJKLMNOPQR[S]TUVWXYZ

This page was generated on 2025-11-12 11:58 -0500 (Wed, 12 Nov 2025).

HostnameOSArch (*)R versionInstalled pkgs
nebbiolo2Linux (Ubuntu 24.04.3 LTS)x86_644.5.1 Patched (2025-08-23 r88802) -- "Great Square Root" 4902
taishanLinux (openEuler 24.03 LTS)aarch644.5.0 (2025-04-11) -- "How About a Twenty-Six" 4668
Click on any hostname to see more info about the system (e.g. compilers)      (*) as reported by 'uname -p', except on Windows and Mac OS X

Package 1919/2361HostnameOS / ArchINSTALLBUILDCHECKBUILD BIN
scDiagnostics 1.4.0  (landing page)
Anthony Christidis
Snapshot Date: 2025-11-11 13:45 -0500 (Tue, 11 Nov 2025)
git_url: https://git.bioconductor.org/packages/scDiagnostics
git_branch: RELEASE_3_22
git_last_commit: 7dca061
git_last_commit_date: 2025-10-29 11:31:45 -0500 (Wed, 29 Oct 2025)
nebbiolo2Linux (Ubuntu 24.04.3 LTS) / x86_64  OK    OK    OK  UNNEEDED, same version is already published
taishanLinux (openEuler 24.03 LTS) / aarch64  OK    OK    OK  


CHECK results for scDiagnostics on taishan

To the developers/maintainers of the scDiagnostics package:
- Allow up to 24 hours (and sometimes 48 hours) for your latest push to git@git.bioconductor.org:packages/scDiagnostics.git to reflect on this report. See Troubleshooting Build Report for more information.
- Use the following Renviron settings to reproduce errors and warnings.
- If 'R CMD check' started to fail recently on the Linux builder(s) over a missing dependency, add the missing dependency to 'Suggests:' in your DESCRIPTION file. See Renviron.bioc for more information.
- See Martin Grigorov's blog post for how to debug Linux ARM64 related issues on a x86_64 host.

raw results


Summary

Package: scDiagnostics
Version: 1.4.0
Command: /home/biocbuild/R/R/bin/R CMD check --install=check:scDiagnostics.install-out.txt --library=/home/biocbuild/R/R/site-library --no-vignettes --timings scDiagnostics_1.4.0.tar.gz
StartedAt: 2025-11-11 14:23:19 -0000 (Tue, 11 Nov 2025)
EndedAt: 2025-11-11 14:47:07 -0000 (Tue, 11 Nov 2025)
EllapsedTime: 1428.4 seconds
RetCode: 0
Status:   OK  
CheckDir: scDiagnostics.Rcheck
Warnings: 0

Command output

##############################################################################
##############################################################################
###
### Running command:
###
###   /home/biocbuild/R/R/bin/R CMD check --install=check:scDiagnostics.install-out.txt --library=/home/biocbuild/R/R/site-library --no-vignettes --timings scDiagnostics_1.4.0.tar.gz
###
##############################################################################
##############################################################################


* using log directory ‘/home/biocbuild/bbs-3.22-bioc/meat/scDiagnostics.Rcheck’
* using R version 4.5.0 (2025-04-11)
* using platform: aarch64-unknown-linux-gnu
* R was compiled by
    aarch64-unknown-linux-gnu-gcc (GCC) 14.2.0
    GNU Fortran (GCC) 14.2.0
* running under: openEuler 24.03 (LTS)
* using session charset: UTF-8
* using option ‘--no-vignettes’
* checking for file ‘scDiagnostics/DESCRIPTION’ ... OK
* checking extension type ... Package
* this is package ‘scDiagnostics’ version ‘1.4.0’
* package encoding: UTF-8
* checking package namespace information ... OK
* checking package dependencies ... OK
* checking if this is a source package ... OK
* checking if there is a namespace ... OK
* checking for hidden files and directories ... OK
* checking for portable file names ... OK
* checking for sufficient/correct file permissions ... OK
* checking whether package ‘scDiagnostics’ can be installed ... OK
* checking installed package size ... OK
* checking package directory ... OK
* checking ‘build’ directory ... OK
* checking DESCRIPTION meta-information ... OK
* checking top-level files ... OK
* checking for left-over files ... OK
* checking index information ... OK
* checking package subdirectories ... OK
* checking code files for non-ASCII characters ... OK
* checking R files for syntax errors ... OK
* checking whether the package can be loaded ... OK
* checking whether the package can be loaded with stated dependencies ... OK
* checking whether the package can be unloaded cleanly ... OK
* checking whether the namespace can be loaded with stated dependencies ... OK
* checking whether the namespace can be unloaded cleanly ... OK
* checking loading without being on the library search path ... OK
* checking dependencies in R code ... OK
* checking S3 generic/method consistency ... OK
* checking replacement functions ... OK
* checking foreign function calls ... OK
* checking R code for possible problems ... OK
* checking Rd files ... OK
* checking Rd metadata ... OK
* checking Rd cross-references ... NOTE
Found the following Rd file(s) with Rd \link{} targets missing package
anchors:
  argumentCheck.Rd: SingleCellExperiment-class
  boxplotPCA.Rd: SingleCellExperiment-class
  calculateAveragePairwiseCorrelation.Rd: SingleCellExperiment-class
  calculateCellDistances.Rd: SingleCellExperiment-class
  calculateCellDistancesSimilarity.Rd: SingleCellExperiment-class
  calculateCellSimilarityPCA.Rd: SingleCellExperiment-class
  calculateCramerPValue.Rd: SingleCellExperiment-class
  calculateDiscriminantSpace.Rd: SingleCellExperiment-class
  calculateGraphIntegration.Rd: SingleCellExperiment-class
  calculateHotellingPValue.Rd: SingleCellExperiment-class
  calculateMMDPValue.Rd: SingleCellExperiment-class
  calculateSIRSpace.Rd: SingleCellExperiment-class
  calculateTopLoadingGeneShifts.Rd: SingleCellExperiment-class
  calculateVarImpOverlap.Rd: SingleCellExperiment-class
  calculateWassersteinDistance.Rd: SingleCellExperiment-class
  compareMarkers.Rd: SingleCellExperiment-class
  comparePCA.Rd: SingleCellExperiment-class
  comparePCASubspace.Rd: SingleCellExperiment-class
  convertColumnsToCharacter.Rd: SingleCellExperiment-class
  detectAnomaly.Rd: SingleCellExperiment-class
  downsampleSCE.Rd: SingleCellExperiment-class
  histQCvsAnnotation.Rd: SingleCellExperiment-class
  plotCellTypeMDS.Rd: SingleCellExperiment-class
  plotCellTypePCA.Rd: SingleCellExperiment-class
  plotGeneExpressionDimred.Rd: SingleCellExperiment-class
  plotGeneSetScores.Rd: SingleCellExperiment-class
  plotMarkerExpression.Rd: SingleCellExperiment-class
  plotPairwiseDistancesDensity.Rd: SingleCellExperiment-class
  plotQCvsAnnotation.Rd: SingleCellExperiment-class
  processPCA.Rd: SingleCellExperiment-class
  projectPCA.Rd: SingleCellExperiment-class
  projectSIR.Rd: SingleCellExperiment-class
  regressPC.Rd: SingleCellExperiment-class
  scDiagnostics-package.Rd: SingleCellExperiment-class
  selectCellTypes.Rd: SingleCellExperiment-class
Please provide package anchors for all Rd \link{} targets not in the
package itself and the base packages.
* checking for missing documentation entries ... OK
* checking for code/documentation mismatches ... OK
* checking Rd \usage sections ... OK
* checking Rd contents ... OK
* checking for unstated dependencies in examples ... OK
* checking contents of ‘data’ directory ... OK
* checking data for non-ASCII characters ... OK
* checking LazyData ... OK
* checking data for ASCII and uncompressed saves ... OK
* checking files in ‘vignettes’ ... OK
* checking examples ... OK
Examples with CPU (user + system) or elapsed time > 5s
                                      user system elapsed
calculateMMDPValue                  75.323  0.232  87.360
plotCellTypeMDS                     64.477  0.192  79.030
calculateCramerPValue               28.391  0.102  37.956
compareMarkers                      20.916  0.099  26.109
calculateCellDistances              19.666  0.409  25.051
detectAnomaly                       16.500  0.019  16.286
calculateSIRSpace                   15.123  0.090  18.193
calculateDiscriminantSpace          13.052  0.116  16.699
calculateGraphIntegration           12.434  0.068  16.032
calculateCellDistancesSimilarity     9.549  0.133  10.826
plotGeneSetScores                    9.328  0.087  11.198
calculateWassersteinDistance         8.308  0.477  10.653
calculateHotellingPValue             8.583  0.024  10.107
plotGeneExpressionDimred             8.258  0.036   8.884
boxplotPCA                           7.539  0.538  11.022
calculateAveragePairwiseCorrelation  6.209  0.126   9.507
regressPC                            5.565  0.060   6.975
comparePCA                           5.336  0.041   6.519
comparePCASubspace                   5.232  0.016   6.393
* checking for unstated dependencies in ‘tests’ ... OK
* checking tests ...
  Running ‘testthat.R’
 OK
* checking for unstated dependencies in vignettes ... OK
* checking package vignettes ... OK
* checking running R code from vignettes ... SKIPPED
* checking re-building of vignette outputs ... SKIPPED
* checking PDF version of manual ... OK
* DONE

Status: 1 NOTE
See
  ‘/home/biocbuild/bbs-3.22-bioc/meat/scDiagnostics.Rcheck/00check.log’
for details.


Installation output

scDiagnostics.Rcheck/00install.out

##############################################################################
##############################################################################
###
### Running command:
###
###   /home/biocbuild/R/R/bin/R CMD INSTALL scDiagnostics
###
##############################################################################
##############################################################################


* installing to library ‘/home/biocbuild/R/R-4.5.0/site-library’
* installing *source* package ‘scDiagnostics’ ...
** this is package ‘scDiagnostics’ version ‘1.4.0’
** using staged installation
** R
** data
*** moving datasets to lazyload DB
** inst
** byte-compile and prepare package for lazy loading
** help
*** installing help indices
** building package indices
** installing vignettes
** testing if installed package can be loaded from temporary location
** testing if installed package can be loaded from final location
** testing if installed package keeps a record of temporary installation path
* DONE (scDiagnostics)

Tests output

scDiagnostics.Rcheck/tests/testthat.Rout


R version 4.5.0 (2025-04-11) -- "How About a Twenty-Six"
Copyright (C) 2025 The R Foundation for Statistical Computing
Platform: aarch64-unknown-linux-gnu

R is free software and comes with ABSOLUTELY NO WARRANTY.
You are welcome to redistribute it under certain conditions.
Type 'license()' or 'licence()' for distribution details.

R is a collaborative project with many contributors.
Type 'contributors()' for more information and
'citation()' on how to cite R or R packages in publications.

Type 'demo()' for some demos, 'help()' for on-line help, or
'help.start()' for an HTML browser interface to help.
Type 'q()' to quit R.

> # This file is part of the standard setup for testthat.
> # It is recommended that you do not modify it.
> #
> # Where should you do additional test configuration?
> # Learn more about the roles of various files in:
> # * https://r-pkgs.org/testing-design.html#sec-tests-files-overview
> # * https://testthat.r-lib.org/articles/special-files.html
> 
> library(testthat)
> library(scDiagnostics)
> 
> test_check("scDiagnostics")
Loading required package: SingleCellExperiment
Loading required package: SummarizedExperiment
Loading required package: MatrixGenerics
Loading required package: matrixStats

Attaching package: 'MatrixGenerics'

The following objects are masked from 'package:matrixStats':

    colAlls, colAnyNAs, colAnys, colAvgsPerRowSet, colCollapse,
    colCounts, colCummaxs, colCummins, colCumprods, colCumsums,
    colDiffs, colIQRDiffs, colIQRs, colLogSumExps, colMadDiffs,
    colMads, colMaxs, colMeans2, colMedians, colMins, colOrderStats,
    colProds, colQuantiles, colRanges, colRanks, colSdDiffs, colSds,
    colSums2, colTabulates, colVarDiffs, colVars, colWeightedMads,
    colWeightedMeans, colWeightedMedians, colWeightedSds,
    colWeightedVars, rowAlls, rowAnyNAs, rowAnys, rowAvgsPerColSet,
    rowCollapse, rowCounts, rowCummaxs, rowCummins, rowCumprods,
    rowCumsums, rowDiffs, rowIQRDiffs, rowIQRs, rowLogSumExps,
    rowMadDiffs, rowMads, rowMaxs, rowMeans2, rowMedians, rowMins,
    rowOrderStats, rowProds, rowQuantiles, rowRanges, rowRanks,
    rowSdDiffs, rowSds, rowSums2, rowTabulates, rowVarDiffs, rowVars,
    rowWeightedMads, rowWeightedMeans, rowWeightedMedians,
    rowWeightedSds, rowWeightedVars

Loading required package: GenomicRanges
Loading required package: stats4
Loading required package: BiocGenerics
Loading required package: generics

Attaching package: 'generics'

The following objects are masked from 'package:base':

    as.difftime, as.factor, as.ordered, intersect, is.element, setdiff,
    setequal, union


Attaching package: 'BiocGenerics'

The following objects are masked from 'package:stats':

    IQR, mad, sd, var, xtabs

The following objects are masked from 'package:base':

    Filter, Find, Map, Position, Reduce, anyDuplicated, aperm, append,
    as.data.frame, basename, cbind, colnames, dirname, do.call,
    duplicated, eval, evalq, get, grep, grepl, is.unsorted, lapply,
    mapply, match, mget, order, paste, pmax, pmax.int, pmin, pmin.int,
    rank, rbind, rownames, sapply, saveRDS, table, tapply, unique,
    unsplit, which.max, which.min

Loading required package: S4Vectors

Attaching package: 'S4Vectors'

The following object is masked from 'package:utils':

    findMatches

The following objects are masked from 'package:base':

    I, expand.grid, unname

Loading required package: IRanges
Loading required package: Seqinfo
Loading required package: Biobase
Welcome to Bioconductor

    Vignettes contain introductory material; view with
    'browseVignettes()'. To cite Bioconductor, see
    'citation("Biobase")', and for packages 'citation("pkgname")'.


Attaching package: 'Biobase'

The following object is masked from 'package:MatrixGenerics':

    rowMedians

The following objects are masked from 'package:matrixStats':

    anyMissing, rowMedians

Loading required package: scuttle
Loading required package: ggplot2
'magick' package is suggested to install to give better rasterization.

Set `ht_opt$message = FALSE` to turn off this message.
'magick' package is suggested to install to give better rasterization.

Set `ht_opt$message = FALSE` to turn off this message.
'magick' package is suggested to install to give better rasterization.

Set `ht_opt$message = FALSE` to turn off this message.
No data available to generate a heatmap for the specified parameters.
'magick' package is suggested to install to give better rasterization.

Set `ht_opt$message = FALSE` to turn off this message.
Computing MDS from expression data.
Data missing PCA - computing...
Computing PCA...
Using 231 highly variable genes for PCA computation
Data already has valid PCA - returning unchanged (503 cells)
Data missing PCA - computing...
Downsampling data from 1500 to 800 cells before PCA computation
Computing PCA...
Using 237 highly variable genes for PCA computation
Data already has valid PCA - returning unchanged (1500 cells)
[ FAIL 0 | WARN 0 | SKIP 0 | PASS 685 ]
> 
> proc.time()
   user  system elapsed 
564.729   6.000 698.070 

Example timings

scDiagnostics.Rcheck/scDiagnostics-Ex.timings

nameusersystemelapsed
boxplotPCA 7.539 0.53811.022
calculateAveragePairwiseCorrelation6.2090.1269.507
calculateCategorizationEntropy0.0740.0000.074
calculateCellDistances19.666 0.40925.051
calculateCellDistancesSimilarity 9.549 0.13310.826
calculateCellSimilarityPCA3.1350.0024.007
calculateCramerPValue28.391 0.10237.956
calculateDiscriminantSpace13.052 0.11616.699
calculateGraphIntegration12.434 0.06816.032
calculateHVGOverlap1.0110.0191.050
calculateHotellingPValue 8.583 0.02410.107
calculateMMDPValue75.323 0.23287.360
calculateSIRSpace15.123 0.09018.193
calculateVarImpOverlap4.4710.0014.289
calculateWassersteinDistance 8.308 0.47710.653
compareMarkers20.916 0.09926.109
comparePCA5.3360.0416.519
comparePCASubspace5.2320.0166.393
detectAnomaly16.500 0.01916.286
histQCvsAnnotation1.6730.0041.687
plotCellTypeMDS64.477 0.19279.030
plotGeneExpressionDimred8.2580.0368.884
plotGeneSetScores 9.328 0.08711.198
plotMarkerExpression1.0800.0161.148
plotPairwiseDistancesDensity2.1220.0642.252
plotQCvsAnnotation0.7650.0000.769
processPCA3.3070.0243.751
projectPCA1.1930.0001.231
projectSIR1.0950.0041.713
qc_data0.0010.0000.001
query_data0.0010.0000.005
reference_data0.0000.0000.001
regressPC5.5650.0606.975