| Back to Multiple platform build/check report for BioC 3.21: simplified long |
|
This page was generated on 2025-10-16 11:39 -0400 (Thu, 16 Oct 2025).
| Hostname | OS | Arch (*) | R version | Installed pkgs |
|---|---|---|---|---|
| nebbiolo1 | Linux (Ubuntu 24.04.3 LTS) | x86_64 | 4.5.1 (2025-06-13) -- "Great Square Root" | 4833 |
| merida1 | macOS 12.7.6 Monterey | x86_64 | 4.5.1 RC (2025-06-05 r88288) -- "Great Square Root" | 4614 |
| kjohnson1 | macOS 13.7.5 Ventura | arm64 | 4.5.1 Patched (2025-06-14 r88325) -- "Great Square Root" | 4555 |
| kunpeng2 | Linux (openEuler 24.03 LTS) | aarch64 | R Under development (unstable) (2025-02-19 r87757) -- "Unsuffered Consequences" | 4586 |
| Click on any hostname to see more info about the system (e.g. compilers) (*) as reported by 'uname -p', except on Windows and Mac OS X | ||||
| Package 1687/2341 | Hostname | OS / Arch | INSTALL | BUILD | CHECK | BUILD BIN | ||||||||
| ramr 1.16.0 (landing page) Oleksii Nikolaienko
| nebbiolo1 | Linux (Ubuntu 24.04.3 LTS) / x86_64 | OK | OK | OK | |||||||||
| merida1 | macOS 12.7.6 Monterey / x86_64 | OK | OK | OK | OK | |||||||||
| kjohnson1 | macOS 13.7.5 Ventura / arm64 | OK | OK | OK | OK | |||||||||
| kunpeng2 | Linux (openEuler 24.03 LTS) / aarch64 | OK | OK | TIMEOUT | ||||||||||
|
To the developers/maintainers of the ramr package: - Allow up to 24 hours (and sometimes 48 hours) for your latest push to git@git.bioconductor.org:packages/ramr.git to reflect on this report. See Troubleshooting Build Report for more information. - Use the following Renviron settings to reproduce errors and warnings. - If 'R CMD check' started to fail recently on the Linux builder(s) over a missing dependency, add the missing dependency to 'Suggests:' in your DESCRIPTION file. See Renviron.bioc for more information. |
| Package: ramr |
| Version: 1.16.0 |
| Command: /Library/Frameworks/R.framework/Resources/bin/R CMD check --install=check:ramr.install-out.txt --library=/Library/Frameworks/R.framework/Resources/library --no-vignettes --timings ramr_1.16.0.tar.gz |
| StartedAt: 2025-10-14 08:48:46 -0400 (Tue, 14 Oct 2025) |
| EndedAt: 2025-10-14 08:57:57 -0400 (Tue, 14 Oct 2025) |
| EllapsedTime: 551.9 seconds |
| RetCode: 0 |
| Status: OK |
| CheckDir: ramr.Rcheck |
| Warnings: 0 |
##############################################################################
##############################################################################
###
### Running command:
###
### /Library/Frameworks/R.framework/Resources/bin/R CMD check --install=check:ramr.install-out.txt --library=/Library/Frameworks/R.framework/Resources/library --no-vignettes --timings ramr_1.16.0.tar.gz
###
##############################################################################
##############################################################################
* using log directory ‘/Users/biocbuild/bbs-3.21-bioc/meat/ramr.Rcheck’
* using R version 4.5.1 RC (2025-06-05 r88288)
* using platform: x86_64-apple-darwin20
* R was compiled by
Apple clang version 14.0.0 (clang-1400.0.29.202)
GNU Fortran (GCC) 14.2.0
* running under: macOS Monterey 12.7.6
* using session charset: UTF-8
* using option ‘--no-vignettes’
* checking for file ‘ramr/DESCRIPTION’ ... OK
* this is package ‘ramr’ version ‘1.16.0’
* package encoding: UTF-8
* checking package namespace information ... OK
* checking package dependencies ... OK
* checking if this is a source package ... OK
* checking if there is a namespace ... OK
* checking for hidden files and directories ... OK
* checking for portable file names ... OK
* checking for sufficient/correct file permissions ... OK
* checking whether package ‘ramr’ can be installed ... OK
* used C++ compiler: ‘Apple clang version 14.0.0 (clang-1400.0.29.202)’
* used SDK: ‘MacOSX11.3.sdk’
* checking C++ specification ... OK
Not all R platforms support C++20
* checking installed package size ... OK
* checking package directory ... OK
* checking ‘build’ directory ... OK
* checking DESCRIPTION meta-information ... OK
* checking top-level files ... OK
* checking for left-over files ... OK
* checking index information ... OK
* checking package subdirectories ... OK
* checking code files for non-ASCII characters ... OK
* checking R files for syntax errors ... OK
* checking whether the package can be loaded ... OK
* checking whether the package can be loaded with stated dependencies ... OK
* checking whether the package can be unloaded cleanly ... OK
* checking whether the namespace can be loaded with stated dependencies ... OK
* checking whether the namespace can be unloaded cleanly ... OK
* checking whether startup messages can be suppressed ... OK
* checking dependencies in R code ... OK
* checking S3 generic/method consistency ... OK
* checking replacement functions ... OK
* checking foreign function calls ... OK
* checking R code for possible problems ... OK
* checking Rd files ... OK
* checking Rd metadata ... OK
* checking Rd cross-references ... OK
* checking for missing documentation entries ... OK
* checking for code/documentation mismatches ... OK
* checking Rd \usage sections ... OK
* checking Rd contents ... OK
* checking for unstated dependencies in examples ... OK
* checking contents of ‘data’ directory ... OK
* checking data for non-ASCII characters ... OK
* checking data for ASCII and uncompressed saves ... OK
* checking line endings in C/C++/Fortran sources/headers ... OK
* checking line endings in Makefiles ... OK
* checking compilation flags in Makevars ... OK
* checking for GNU extensions in Makefiles ... OK
* checking for portable use of $(BLAS_LIBS) and $(LAPACK_LIBS) ... OK
* checking use of PKG_*FLAGS in Makefiles ... OK
* checking compiled code ... NOTE
Note: information on .o files is not available
* checking files in ‘vignettes’ ... OK
* checking examples ... OK
Examples with CPU (user + system) or elapsed time > 5s
user system elapsed
getAMR.obsolete 35.315 2.808 22.692
plotAMR 11.016 0.379 11.943
simulateData.obsolete 5.283 1.488 5.398
* checking for unstated dependencies in ‘tests’ ... OK
* checking tests ...
Running ‘runTests.R’
OK
* checking for unstated dependencies in vignettes ... OK
* checking package vignettes ... OK
* checking running R code from vignettes ... SKIPPED
* checking re-building of vignette outputs ... SKIPPED
* checking PDF version of manual ... OK
* DONE
Status: 1 NOTE
See
‘/Users/biocbuild/bbs-3.21-bioc/meat/ramr.Rcheck/00check.log’
for details.
ramr.Rcheck/00install.out
##############################################################################
##############################################################################
###
### Running command:
###
### /Library/Frameworks/R.framework/Resources/bin/R CMD INSTALL ramr
###
##############################################################################
##############################################################################
* installing to library ‘/Library/Frameworks/R.framework/Versions/4.5-x86_64/Resources/library’
* installing *source* package ‘ramr’ ...
** this is package ‘ramr’ version ‘1.16.0’
** using staged installation
** libs
using C++ compiler: ‘Apple clang version 14.0.0 (clang-1400.0.29.202)’
using C++20
using SDK: ‘MacOSX11.3.sdk’
clang++ -arch x86_64 -std=gnu++20 -I"/Library/Frameworks/R.framework/Resources/include" -DNDEBUG -I'/Library/Frameworks/R.framework/Versions/4.5-x86_64/Resources/library/Rcpp/include' -I/opt/R/x86_64/include -fPIC -falign-functions=64 -Wall -g -O2 -c RcppExports.cpp -o RcppExports.o
clang++ -arch x86_64 -std=gnu++20 -I"/Library/Frameworks/R.framework/Resources/include" -DNDEBUG -I'/Library/Frameworks/R.framework/Versions/4.5-x86_64/Resources/library/Rcpp/include' -I/opt/R/x86_64/include -fPIC -falign-functions=64 -Wall -g -O2 -c rcpp_compute_logp.cpp -o rcpp_compute_logp.o
rcpp_compute_logp.cpp:150:16: warning: unused variable 'nthreads' [-Wunused-variable]
const size_t nthreads = thr->size() - 1; // 'thr' always starts with 0 and ends with 'nrow'
^
1 warning generated.
clang++ -arch x86_64 -std=gnu++20 -I"/Library/Frameworks/R.framework/Resources/include" -DNDEBUG -I'/Library/Frameworks/R.framework/Versions/4.5-x86_64/Resources/library/Rcpp/include' -I/opt/R/x86_64/include -fPIC -falign-functions=64 -Wall -g -O2 -c rcpp_compute_xiqr.cpp -o rcpp_compute_xiqr.o
rcpp_compute_xiqr.cpp:37:16: warning: unused variable 'nthreads' [-Wunused-variable]
const size_t nthreads = thr->size() - 1; // 'thr' always starts with 0 and ends with 'nrow'
^
1 warning generated.
clang++ -arch x86_64 -std=gnu++20 -I"/Library/Frameworks/R.framework/Resources/include" -DNDEBUG -I'/Library/Frameworks/R.framework/Versions/4.5-x86_64/Resources/library/Rcpp/include' -I/opt/R/x86_64/include -fPIC -falign-functions=64 -Wall -g -O2 -c rcpp_create_granges.cpp -o rcpp_create_granges.o
clang++ -arch x86_64 -std=gnu++20 -I"/Library/Frameworks/R.framework/Resources/include" -DNDEBUG -I'/Library/Frameworks/R.framework/Versions/4.5-x86_64/Resources/library/Rcpp/include' -I/opt/R/x86_64/include -fPIC -falign-functions=64 -Wall -g -O2 -c rcpp_filter_threshold.cpp -o rcpp_filter_threshold.o
rcpp_filter_threshold.cpp:32:16: warning: unused variable 'nthreads' [-Wunused-variable]
const size_t nthreads = thr->size() - 1; // 'thr' always starts with 0 and ends with 'nrow'
^
1 warning generated.
clang++ -arch x86_64 -std=gnu++20 -I"/Library/Frameworks/R.framework/Resources/include" -DNDEBUG -I'/Library/Frameworks/R.framework/Versions/4.5-x86_64/Resources/library/Rcpp/include' -I/opt/R/x86_64/include -fPIC -falign-functions=64 -Wall -g -O2 -c rcpp_fit_beta.cpp -o rcpp_fit_beta.o
rcpp_fit_beta.cpp:28:16: warning: unused variable 'nthreads' [-Wunused-variable]
const size_t nthreads = thr->size() - 1; // 'thr' always starts with 0 and ends with 'nrow'
^
1 warning generated.
clang++ -arch x86_64 -std=gnu++20 -I"/Library/Frameworks/R.framework/Resources/include" -DNDEBUG -I'/Library/Frameworks/R.framework/Versions/4.5-x86_64/Resources/library/Rcpp/include' -I/opt/R/x86_64/include -fPIC -falign-functions=64 -Wall -g -O2 -c rcpp_fit_betabinom.cpp -o rcpp_fit_betabinom.o
clang++ -arch x86_64 -std=gnu++20 -I"/Library/Frameworks/R.framework/Resources/include" -DNDEBUG -I'/Library/Frameworks/R.framework/Versions/4.5-x86_64/Resources/library/Rcpp/include' -I/opt/R/x86_64/include -fPIC -falign-functions=64 -Wall -g -O2 -c rcpp_fit_binom.cpp -o rcpp_fit_binom.o
rcpp_fit_binom.cpp:33:16: warning: unused variable 'nthreads' [-Wunused-variable]
const size_t nthreads = thr->size() - 1; // 'thr' always starts with 0 and ends with 'nrow'
^
1 warning generated.
clang++ -arch x86_64 -std=gnu++20 -I"/Library/Frameworks/R.framework/Resources/include" -DNDEBUG -I'/Library/Frameworks/R.framework/Versions/4.5-x86_64/Resources/library/Rcpp/include' -I/opt/R/x86_64/include -fPIC -falign-functions=64 -Wall -g -O2 -c rcpp_generate_random_values.cpp -o rcpp_generate_random_values.o
clang++ -arch x86_64 -std=gnu++20 -I"/Library/Frameworks/R.framework/Resources/include" -DNDEBUG -I'/Library/Frameworks/R.framework/Versions/4.5-x86_64/Resources/library/Rcpp/include' -I/opt/R/x86_64/include -fPIC -falign-functions=64 -Wall -g -O2 -c rcpp_get_iqr.cpp -o rcpp_get_iqr.o
rcpp_get_iqr.cpp:35:16: warning: unused variable 'nthreads' [-Wunused-variable]
const size_t nthreads = thr->size() - 1; // 'thr' always starts with 0 and ends with 'nrow'
^
1 warning generated.
clang++ -arch x86_64 -std=gnu++20 -I"/Library/Frameworks/R.framework/Resources/include" -DNDEBUG -I'/Library/Frameworks/R.framework/Versions/4.5-x86_64/Resources/library/Rcpp/include' -I/opt/R/x86_64/include -fPIC -falign-functions=64 -Wall -g -O2 -c rcpp_get_meanvar.cpp -o rcpp_get_meanvar.o
rcpp_get_meanvar.cpp:62:16: warning: unused variable 'nthreads' [-Wunused-variable]
const size_t nthreads = thr->size() - 1; // 'thr' always starts with 0 and ends with 'nrow'
^
1 warning generated.
clang++ -arch x86_64 -std=gnu++20 -I"/Library/Frameworks/R.framework/Resources/include" -DNDEBUG -I'/Library/Frameworks/R.framework/Versions/4.5-x86_64/Resources/library/Rcpp/include' -I/opt/R/x86_64/include -fPIC -falign-functions=64 -Wall -g -O2 -c rcpp_helper_functions.cpp -o rcpp_helper_functions.o
clang++ -arch x86_64 -std=gnu++20 -I"/Library/Frameworks/R.framework/Resources/include" -DNDEBUG -I'/Library/Frameworks/R.framework/Versions/4.5-x86_64/Resources/library/Rcpp/include' -I/opt/R/x86_64/include -fPIC -falign-functions=64 -Wall -g -O2 -c rcpp_prepare_data.cpp -o rcpp_prepare_data.o
rcpp_prepare_data.cpp:87:16: warning: unused variable 'nthreads' [-Wunused-variable]
const size_t nthreads = thr->size() - 1; // 'thr' always starts with 0 and ends with 'nrow'
^
1 warning generated.
clang++ -arch x86_64 -std=gnu++20 -I"/Library/Frameworks/R.framework/Resources/include" -DNDEBUG -I'/Library/Frameworks/R.framework/Versions/4.5-x86_64/Resources/library/Rcpp/include' -I/opt/R/x86_64/include -fPIC -falign-functions=64 -Wall -g -O2 -c rcpp_test_omp.cpp -o rcpp_test_omp.o
clang++ -arch x86_64 -std=gnu++20 -dynamiclib -Wl,-headerpad_max_install_names -undefined dynamic_lookup -L/Library/Frameworks/R.framework/Resources/lib -L/opt/R/x86_64/lib -o ramr.so RcppExports.o rcpp_compute_logp.o rcpp_compute_xiqr.o rcpp_create_granges.o rcpp_filter_threshold.o rcpp_fit_beta.o rcpp_fit_betabinom.o rcpp_fit_binom.o rcpp_generate_random_values.o rcpp_get_iqr.o rcpp_get_meanvar.o rcpp_helper_functions.o rcpp_prepare_data.o rcpp_test_omp.o -F/Library/Frameworks/R.framework/.. -framework R
installing to /Library/Frameworks/R.framework/Versions/4.5-x86_64/Resources/library/00LOCK-ramr/00new/ramr/libs
** R
** data
** inst
** byte-compile and prepare package for lazy loading
** help
*** installing help indices
** building package indices
** installing vignettes
** testing if installed package can be loaded from temporary location
** checking absolute paths in shared objects and dynamic libraries
** testing if installed package can be loaded from final location
** testing if installed package keeps a record of temporary installation path
* DONE (ramr)
ramr.Rcheck/tests/runTests.Rout
R version 4.5.1 RC (2025-06-05 r88288) -- "Great Square Root"
Copyright (C) 2025 The R Foundation for Statistical Computing
Platform: x86_64-apple-darwin20
R is free software and comes with ABSOLUTELY NO WARRANTY.
You are welcome to redistribute it under certain conditions.
Type 'license()' or 'licence()' for distribution details.
R is a collaborative project with many contributors.
Type 'contributors()' for more information and
'citation()' on how to cite R or R packages in publications.
Type 'demo()' for some demos, 'help()' for on-line help, or
'help.start()' for an HTML browser interface to help.
Type 'q()' to quit R.
> BiocGenerics:::testPackage("ramr")
Preprocessing data [0.228s]
Computing IQR [0.008s]
Creating genomic ranges [0.084s]
Preprocessing data [0.205s]
Computing IQR [0.008s]
Creating genomic ranges [0.036s]
Preprocessing data [0.208s]
Fitting beta distribution [0.182s]
Creating genomic ranges [0.031s]
Preprocessing data [0.209s]
Fitting beta distribution [0.209s]
Creating genomic ranges [0.035s]
Preprocessing data [0.274s]
Computing IQR [0.003s]
Creating genomic ranges [0.040s]
Preprocessing data [0.227s]
Computing IQR [0.009s]
Creating genomic ranges [0.038s]
Preprocessing data [0.207s]
Computing IQR [0.004s]
Creating genomic ranges [0.034s]
Preprocessing data [0.232s]
Fitting beta distribution [0.172s]
Creating genomic ranges [0.036s]
Preprocessing data [0.209s]
Computing IQR [0.008s]
Creating genomic ranges [0.034s]
Preprocessing data [0.207s]
Fitting beta distribution [0.172s]
Creating genomic ranges [0.034s]
Preprocessing data [0.209s]
Fitting beta distribution [0.194s]
Creating genomic ranges [0.034s]
Preprocessing data [0.203s]
Fitting beta distribution [0.205s]
Creating genomic ranges [0.038s]
Preprocessing data [0.222s]
Fitting beta distribution [0.211s]
Creating genomic ranges [0.051s]
Preprocessing data [0.213s]
Fitting beta distribution [0.188s]
Creating genomic ranges [0.035s]
Preprocessing data [0.209s]
Fitting beta distribution [0.209s]
Creating genomic ranges [0.039s]
Preprocessing data [0.266s]
Fitting beta distribution [0.233s]
Creating genomic ranges [0.049s]
Preprocessing data [0.207s]
Fitting beta distribution [0.121s]
Creating genomic ranges [0.051s]
Preprocessing data [0.227s]
Fitting beta distribution [0.114s]
Creating genomic ranges [0.052s]
Identifying AMRsLoading required package: foreach
Loading required package: rngtools
[16.059s]
Identifying AMRs [10.528s]
Identifying AMRs [18.672s]
Identifying AMRs [18.388s]
Identifying AMRs [8.846s]
Identifying AMRs [214.720s]
Preprocessing data [0.237s]
Plotting 5 genomic ranges Plotting 5 genomic ranges 20% 40% 60% 80%100%[2.698s]
Plotting 6 genomic ranges 17% 33% 50% 67% 83%100%[2.338s]
'nsamples' has been set to the maximum possible value of 143
'regions.per.sample' has been set to the maximum possible value of 1
'samples.per.region' has been set to the maximum possible value of 143
'regions.per.sample' has been set to the maximum possible value of 4
'regions.per.sample' has been set to the maximum possible value of 15
Preprocessing data [0.240s]
Simulating data [0.007s]
Introducing epimutations[0.217s]
Preprocessing data [0.233s]
Simulating data [0.007s]
Introducing epimutations[0.212s]
Preprocessing data [0.244s]
Simulating data [0.073s]
Preprocessing data [0.217s]
Simulating data [0.076s]
Preprocessing data [0.212s]
Simulating data [0.092s]
Preprocessing data [0.247s]
Simulating data [0.075s]
Simulating data [2.943s]
Introducing epimutations [0.283s]
Simulating data [2.919s]
Introducing epimutations [0.281s]
RUNIT TEST PROTOCOL -- Tue Oct 14 08:57:44 2025
***********************************************
Number of test functions: 8
Number of errors: 0
Number of failures: 0
1 Test Suite :
ramr RUnit Tests - 8 test functions, 0 errors, 0 failures
Number of test functions: 8
Number of errors: 0
Number of failures: 0
Warning messages:
1: In foreach::foreach(chunk = chunks, .combine = c) %dorng% matrixStats::rowMedians(betas[chunk, :
Foreach loop (doParallelMC) had changed the current RNG type: RNG was restored to same type, next state
2: In foreach::foreach(chunk = chunks, .combine = c) %dorng% matrixStats::rowIQRs(betas[chunk, :
Foreach loop (doParallelMC) had changed the current RNG type: RNG was restored to same type, next state
3: In foreach::foreach(column = colnames(betas.filtered)) %dorng% getMergedRanges(column) :
Foreach loop (doParallelMC) had changed the current RNG type: RNG was restored to same type, next state
>
> proc.time()
user system elapsed
531.948 28.131 338.503
ramr.Rcheck/ramr-Ex.timings
| name | user | system | elapsed | |
| getAMR | 0.825 | 0.063 | 0.896 | |
| getAMR.obsolete | 35.315 | 2.808 | 22.692 | |
| getUniverse | 0.444 | 0.016 | 0.466 | |
| plotAMR | 11.016 | 0.379 | 11.943 | |
| ramr.data | 3.530 | 0.063 | 3.682 | |
| simulateAMR | 1.253 | 0.032 | 1.326 | |
| simulateData | 2.347 | 0.061 | 2.500 | |
| simulateData.obsolete | 5.283 | 1.488 | 5.398 | |