| Back to Multiple platform build/check report for BioC 3.21: simplified long |
|
This page was generated on 2025-10-16 11:39 -0400 (Thu, 16 Oct 2025).
| Hostname | OS | Arch (*) | R version | Installed pkgs |
|---|---|---|---|---|
| nebbiolo1 | Linux (Ubuntu 24.04.3 LTS) | x86_64 | 4.5.1 (2025-06-13) -- "Great Square Root" | 4833 |
| merida1 | macOS 12.7.6 Monterey | x86_64 | 4.5.1 RC (2025-06-05 r88288) -- "Great Square Root" | 4614 |
| kjohnson1 | macOS 13.7.5 Ventura | arm64 | 4.5.1 Patched (2025-06-14 r88325) -- "Great Square Root" | 4555 |
| kunpeng2 | Linux (openEuler 24.03 LTS) | aarch64 | R Under development (unstable) (2025-02-19 r87757) -- "Unsuffered Consequences" | 4586 |
| Click on any hostname to see more info about the system (e.g. compilers) (*) as reported by 'uname -p', except on Windows and Mac OS X | ||||
| Package 1654/2341 | Hostname | OS / Arch | INSTALL | BUILD | CHECK | BUILD BIN | ||||||||
| qckitfastq 1.24.0 (landing page) August Guang
| nebbiolo1 | Linux (Ubuntu 24.04.3 LTS) / x86_64 | OK | OK | WARNINGS | |||||||||
| merida1 | macOS 12.7.6 Monterey / x86_64 | OK | OK | OK | OK | |||||||||
| kjohnson1 | macOS 13.7.5 Ventura / arm64 | OK | OK | OK | OK | |||||||||
| kunpeng2 | Linux (openEuler 24.03 LTS) / aarch64 | OK | OK | WARNINGS | ||||||||||
|
To the developers/maintainers of the qckitfastq package: - Allow up to 24 hours (and sometimes 48 hours) for your latest push to git@git.bioconductor.org:packages/qckitfastq.git to reflect on this report. See Troubleshooting Build Report for more information. - Use the following Renviron settings to reproduce errors and warnings. - If 'R CMD check' started to fail recently on the Linux builder(s) over a missing dependency, add the missing dependency to 'Suggests:' in your DESCRIPTION file. See Renviron.bioc for more information. |
| Package: qckitfastq |
| Version: 1.24.0 |
| Command: /Library/Frameworks/R.framework/Resources/bin/R CMD INSTALL qckitfastq |
| StartedAt: 2025-10-13 15:21:09 -0400 (Mon, 13 Oct 2025) |
| EndedAt: 2025-10-13 15:21:48 -0400 (Mon, 13 Oct 2025) |
| EllapsedTime: 39.7 seconds |
| RetCode: 0 |
| Status: OK |
##############################################################################
##############################################################################
###
### Running command:
###
### /Library/Frameworks/R.framework/Resources/bin/R CMD INSTALL qckitfastq
###
##############################################################################
##############################################################################
* installing to library ‘/Library/Frameworks/R.framework/Versions/4.5-x86_64/Resources/library’
* installing *source* package ‘qckitfastq’ ...
** this is package ‘qckitfastq’ version ‘1.24.0’
** using staged installation
** libs
using C++ compiler: ‘Apple clang version 14.0.0 (clang-1400.0.29.202)’
using C++14
using SDK: ‘MacOSX11.3.sdk’
clang++ -arch x86_64 -std=gnu++14 -I"/Library/Frameworks/R.framework/Resources/include" -DNDEBUG -I'/Library/Frameworks/R.framework/Versions/4.5-x86_64/Resources/library/Rcpp/include' -I'/Library/Frameworks/R.framework/Versions/4.5-x86_64/Resources/library/RSeqAn/include' -I/opt/R/x86_64/include -fPIC -falign-functions=64 -Wall -g -O2 -c RcppExports.cpp -o RcppExports.o
clang++ -arch x86_64 -std=gnu++14 -I"/Library/Frameworks/R.framework/Resources/include" -DNDEBUG -I'/Library/Frameworks/R.framework/Versions/4.5-x86_64/Resources/library/Rcpp/include' -I'/Library/Frameworks/R.framework/Versions/4.5-x86_64/Resources/library/RSeqAn/include' -I/opt/R/x86_64/include -fPIC -falign-functions=64 -Wall -g -O2 -c calc_adapter_content.cpp -o calc_adapter_content.o
clang++ -arch x86_64 -std=gnu++14 -I"/Library/Frameworks/R.framework/Resources/include" -DNDEBUG -I'/Library/Frameworks/R.framework/Versions/4.5-x86_64/Resources/library/Rcpp/include' -I'/Library/Frameworks/R.framework/Versions/4.5-x86_64/Resources/library/RSeqAn/include' -I/opt/R/x86_64/include -fPIC -falign-functions=64 -Wall -g -O2 -c gzstream.cpp -o gzstream.o
clang++ -arch x86_64 -std=gnu++14 -I"/Library/Frameworks/R.framework/Resources/include" -DNDEBUG -I'/Library/Frameworks/R.framework/Versions/4.5-x86_64/Resources/library/Rcpp/include' -I'/Library/Frameworks/R.framework/Versions/4.5-x86_64/Resources/library/RSeqAn/include' -I/opt/R/x86_64/include -fPIC -falign-functions=64 -Wall -g -O2 -c read_fastq.cpp -o read_fastq.o
read_fastq.cpp:30:32: warning: unused variable 'it' [-Wunused-variable]
std::vector<int>::iterator it;
^
read_fastq.cpp:158:36: warning: unused variable 'qual_by_col_it' [-Wunused-variable]
std::vector<uint8_t>::iterator qual_by_col_it;
^
2 warnings generated.
clang++ -arch x86_64 -std=gnu++14 -dynamiclib -Wl,-headerpad_max_install_names -undefined dynamic_lookup -L/Library/Frameworks/R.framework/Resources/lib -L/opt/R/x86_64/lib -o qckitfastq.so RcppExports.o calc_adapter_content.o gzstream.o read_fastq.o -lz -F/Library/Frameworks/R.framework/.. -framework R
installing to /Library/Frameworks/R.framework/Versions/4.5-x86_64/Resources/library/00LOCK-qckitfastq/00new/qckitfastq/libs
** R
** inst
** byte-compile and prepare package for lazy loading
** help
*** installing help indices
** building package indices
** installing vignettes
** testing if installed package can be loaded from temporary location
** checking absolute paths in shared objects and dynamic libraries
** testing if installed package can be loaded from final location
** testing if installed package keeps a record of temporary installation path
* DONE (qckitfastq)