| Back to Build/check report for BioC 3.21: simplified long |
|
This page was generated on 2024-10-24 11:04 -0400 (Thu, 24 Oct 2024).
| Hostname | OS | Arch (*) | R version | Installed pkgs |
|---|---|---|---|---|
| nebbiolo1 | Linux (Ubuntu 22.04.3 LTS) | x86_64 | R Under development (unstable) (2024-10-21 r87258) -- "Unsuffered Consequences" | 3656 |
| Click on any hostname to see more info about the system (e.g. compilers) (*) as reported by 'uname -p', except on Windows and Mac OS X | ||||
| Package 1609/2281 | Hostname | OS / Arch | INSTALL | BUILD | CHECK | BUILD BIN | ||||||||
Alba Gutierrez-Sacristan
| nebbiolo1 | Linux (Ubuntu 22.04.3 LTS) / x86_64 | ERROR | ERROR | skipped | |||||||||
|
To the developers/maintainers of the psygenet2r package: - Allow up to 24 hours (and sometimes 48 hours) for your latest push to git@git.bioconductor.org:packages/psygenet2r.git to reflect on this report. See Troubleshooting Build Report for more information. - Use the following Renviron settings to reproduce errors and warnings. - If 'R CMD check' started to fail recently on the Linux builder(s) over a missing dependency, add the missing dependency to 'Suggests:' in your DESCRIPTION file. See Renviron.bioc for more information. |
| Package: psygenet2r |
| Version: 1.37.1 |
| Command: /home/biocbuild/bbs-3.21-bioc/R/bin/R CMD INSTALL psygenet2r |
| StartedAt: 2024-10-24 03:31:35 -0400 (Thu, 24 Oct 2024) |
| EndedAt: 2024-10-24 03:31:35 -0400 (Thu, 24 Oct 2024) |
| EllapsedTime: 0.7 seconds |
| RetCode: 1 |
| Status: ERROR |
##############################################################################
##############################################################################
###
### Running command:
###
### /home/biocbuild/bbs-3.21-bioc/R/bin/R CMD INSTALL psygenet2r
###
##############################################################################
##############################################################################
* installing to library ‘/home/biocbuild/bbs-3.21-bioc/R/site-library’
ERROR: dependencies ‘BgeeDB’, ‘topGO’, ‘GO.db’ are not available for package ‘psygenet2r’
Perhaps try a variation of:
install.packages(c('BgeeDB', 'topGO', 'GO.db'))
* removing ‘/home/biocbuild/bbs-3.21-bioc/R/site-library/psygenet2r’