Back to Build/check report for BioC 3.22:   simplified   long
ABCDEFGHIJKLMNO[P]QRSTUVWXYZ

This page was generated on 2025-11-13 11:55 -0500 (Thu, 13 Nov 2025).

HostnameOSArch (*)R versionInstalled pkgs
taishanLinux (openEuler 24.03 LTS)aarch644.5.0 (2025-04-11) -- "How About a Twenty-Six" 4668
Click on any hostname to see more info about the system (e.g. compilers)      (*) as reported by 'uname -p', except on Windows and Mac OS X

Package 1625/2361HostnameOS / ArchINSTALLBUILDCHECKBUILD BIN
pogos 1.30.0  (landing page)
VJ Carey
Snapshot Date: 2025-11-12 13:45 -0500 (Wed, 12 Nov 2025)
git_url: https://git.bioconductor.org/packages/pogos
git_branch: RELEASE_3_22
git_last_commit: 924b319
git_last_commit_date: 2025-10-29 10:42:51 -0500 (Wed, 29 Oct 2025)
taishanLinux (openEuler 24.03 LTS) / aarch64  OK    OK    OK  


BUILD results for pogos on taishan

To the developers/maintainers of the pogos package:
- Allow up to 24 hours (and sometimes 48 hours) for your latest push to git@git.bioconductor.org:packages/pogos.git to reflect on this report. See Troubleshooting Build Report for more information.
- Use the following Renviron settings to reproduce errors and warnings.
- If 'R CMD check' started to fail recently on the Linux builder(s) over a missing dependency, add the missing dependency to 'Suggests:' in your DESCRIPTION file. See Renviron.bioc for more information.
- See Martin Grigorov's blog post for how to debug Linux ARM64 related issues on a x86_64 host.

raw results


Summary

Package: pogos
Version: 1.30.0
Command: /home/biocbuild/R/R/bin/R CMD build --keep-empty-dirs --no-resave-data pogos
StartedAt: 2025-11-11 04:09:38 -0000 (Tue, 11 Nov 2025)
EndedAt: 2025-11-11 04:19:53 -0000 (Tue, 11 Nov 2025)
EllapsedTime: 615.2 seconds
RetCode: 0
Status:   OK  
PackageFile: pogos_1.30.0.tar.gz
PackageFileSize: 1.747 MiB

Command output

##############################################################################
##############################################################################
###
### Running command:
###
###   /home/biocbuild/R/R/bin/R CMD build --keep-empty-dirs --no-resave-data pogos
###
##############################################################################
##############################################################################


* checking for file ‘pogos/DESCRIPTION’ ... OK
* preparing ‘pogos’:
* checking DESCRIPTION meta-information ... OK
* installing the package to build vignettes
* creating vignettes ... OK
* checking for LF line-endings in source and make files and shell scripts
* checking for empty or unneeded directories
* building ‘pogos_1.30.0.tar.gz’