| Back to Multiple platform build/check report for BioC 3.21: simplified long | 
 | 
This page was generated on 2025-10-16 11:41 -0400 (Thu, 16 Oct 2025).
| Hostname | OS | Arch (*) | R version | Installed pkgs | 
|---|---|---|---|---|
| nebbiolo1 | Linux (Ubuntu 24.04.3 LTS) | x86_64 | 4.5.1 (2025-06-13) -- "Great Square Root" | 4833 | 
| merida1 | macOS 12.7.6 Monterey | x86_64 | 4.5.1 RC (2025-06-05 r88288) -- "Great Square Root" | 4614 | 
| kjohnson1 | macOS 13.7.5 Ventura | arm64 | 4.5.1 Patched (2025-06-14 r88325) -- "Great Square Root" | 4555 | 
| kunpeng2 | Linux (openEuler 24.03 LTS) | aarch64 | R Under development (unstable) (2025-02-19 r87757) -- "Unsuffered Consequences" | 4586 | 
| Click on any hostname to see more info about the system (e.g. compilers) (*) as reported by 'uname -p', except on Windows and Mac OS X | ||||
| Package 1603/2341 | Hostname | OS / Arch | INSTALL | BUILD | CHECK | BUILD BIN | ||||||||
| pmp 1.20.0  (landing page) Gavin Rhys Lloyd 
 | nebbiolo1 | Linux (Ubuntu 24.04.3 LTS) / x86_64 | OK | OK | OK |  | ||||||||
| merida1 | macOS 12.7.6 Monterey / x86_64 | OK | OK | OK | OK |  | ||||||||
| kjohnson1 | macOS 13.7.5 Ventura / arm64 | OK | OK | ERROR | OK | |||||||||
| kunpeng2 | Linux (openEuler 24.03 LTS) / aarch64 | OK | OK | ERROR | ||||||||||
| To the developers/maintainers of the pmp package: - Allow up to 24 hours (and sometimes 48 hours) for your latest push to git@git.bioconductor.org:packages/pmp.git to reflect on this report. See Troubleshooting Build Report for more information. - Use the following Renviron settings to reproduce errors and warnings. - If 'R CMD check' started to fail recently on the Linux builder(s) over a missing dependency, add the missing dependency to 'Suggests:' in your DESCRIPTION file. See Renviron.bioc for more information. - See Martin Grigorov's blog post for how to debug Linux ARM64 related issues on a x86_64 host. | 
| Package: pmp | 
| Version: 1.20.0 | 
| Command: /home/biocbuild/R/R/bin/R CMD check --install=check:pmp.install-out.txt --library=/home/biocbuild/R/R/site-library --no-vignettes --timings pmp_1.20.0.tar.gz | 
| StartedAt: 2025-10-14 12:37:17 -0000 (Tue, 14 Oct 2025) | 
| EndedAt: 2025-10-14 12:41:38 -0000 (Tue, 14 Oct 2025) | 
| EllapsedTime: 261.2 seconds | 
| RetCode: 1 | 
| Status: ERROR | 
| CheckDir: pmp.Rcheck | 
| Warnings: NA | 
##############################################################################
##############################################################################
###
### Running command:
###
###   /home/biocbuild/R/R/bin/R CMD check --install=check:pmp.install-out.txt --library=/home/biocbuild/R/R/site-library --no-vignettes --timings pmp_1.20.0.tar.gz
###
##############################################################################
##############################################################################
* using log directory ‘/home/biocbuild/bbs-3.21-bioc/meat/pmp.Rcheck’
* using R Under development (unstable) (2025-02-19 r87757)
* using platform: aarch64-unknown-linux-gnu
* R was compiled by
    aarch64-unknown-linux-gnu-gcc (GCC) 14.2.0
    GNU Fortran (GCC) 14.2.0
* running under: openEuler 24.03 (LTS-SP1)
* using session charset: UTF-8
* using option ‘--no-vignettes’
* checking for file ‘pmp/DESCRIPTION’ ... OK
* checking extension type ... Package
* this is package ‘pmp’ version ‘1.20.0’
* package encoding: UTF-8
* checking package namespace information ... OK
* checking package dependencies ... OK
* checking if this is a source package ... OK
* checking if there is a namespace ... OK
* checking for hidden files and directories ... OK
* checking for portable file names ... OK
* checking for sufficient/correct file permissions ... OK
* checking whether package ‘pmp’ can be installed ... OK
* checking installed package size ... OK
* checking package directory ... OK
* checking ‘build’ directory ... OK
* checking DESCRIPTION meta-information ... OK
* checking top-level files ... OK
* checking for left-over files ... OK
* checking index information ... OK
* checking package subdirectories ... OK
* checking code files for non-ASCII characters ... OK
* checking R files for syntax errors ... OK
* checking whether the package can be loaded ... OK
* checking whether the package can be loaded with stated dependencies ... OK
* checking whether the package can be unloaded cleanly ... OK
* checking whether the namespace can be loaded with stated dependencies ... OK
* checking whether the namespace can be unloaded cleanly ... OK
* checking loading without being on the library search path ... OK
* checking dependencies in R code ... OK
* checking S3 generic/method consistency ... OK
* checking replacement functions ... OK
* checking foreign function calls ... OK
* checking R code for possible problems ... OK
* checking Rd files ... OK
* checking Rd metadata ... OK
* checking Rd cross-references ... OK
* checking for missing documentation entries ... OK
* checking for code/documentation mismatches ... OK
* checking Rd \usage sections ... OK
* checking Rd contents ... OK
* checking for unstated dependencies in examples ... OK
* checking contents of ‘data’ directory ... OK
* checking data for non-ASCII characters ... OK
* checking LazyData ... OK
* checking data for ASCII and uncompressed saves ... OK
* checking R/sysdata.rda ... OK
* checking files in ‘vignettes’ ... OK
* checking examples ... OK
* checking for unstated dependencies in ‘tests’ ... OK
* checking tests ...
  Running ‘testthat.R’
 ERROR
Running the tests in ‘tests/testthat.R’ failed.
Last 13 lines of output:
  16/16 mismatches (average diff: 0.894)
  [1] 73277 - 73277 ==  0.0091
  [2] 75291 - 75291 ==  0.0261
  [3] 77564 - 77564 ==  0.0308
  [4] 82382 - 82382 == -0.0816
  [5] 84708 - 84708 == -0.1882
  [6] 86864 - 86864 == -0.2793
  [7] 88757 - 88758 == -0.3103
  [8] 90292 - 90292 == -0.2332
  [9] 91922 - 91922 ==  0.3947
  ...
  
  [ FAIL 2 | WARN 0 | SKIP 0 | PASS 88 ]
  Error: Test failures
  Execution halted
* checking for unstated dependencies in vignettes ... OK
* checking package vignettes ... OK
* checking running R code from vignettes ... SKIPPED
* checking re-building of vignette outputs ... SKIPPED
* checking PDF version of manual ... OK
* DONE
Status: 1 ERROR
See
  ‘/home/biocbuild/bbs-3.21-bioc/meat/pmp.Rcheck/00check.log’
for details.
pmp.Rcheck/00install.out
############################################################################## ############################################################################## ### ### Running command: ### ### /home/biocbuild/R/R/bin/R CMD INSTALL pmp ### ############################################################################## ############################################################################## * installing to library ‘/home/biocbuild/R/R-devel_2025-02-19/site-library’ * installing *source* package ‘pmp’ ... ** this is package ‘pmp’ version ‘1.20.0’ ** using staged installation ** R ** data *** moving datasets to lazyload DB ** byte-compile and prepare package for lazy loading ** help *** installing help indices ** building package indices ** installing vignettes ** testing if installed package can be loaded from temporary location ** testing if installed package can be loaded from final location ** testing if installed package keeps a record of temporary installation path * DONE (pmp)
pmp.Rcheck/tests/testthat.Rout.fail
R Under development (unstable) (2025-02-19 r87757) -- "Unsuffered Consequences"
Copyright (C) 2025 The R Foundation for Statistical Computing
Platform: aarch64-unknown-linux-gnu
R is free software and comes with ABSOLUTELY NO WARRANTY.
You are welcome to redistribute it under certain conditions.
Type 'license()' or 'licence()' for distribution details.
R is a collaborative project with many contributors.
Type 'contributors()' for more information and
'citation()' on how to cite R or R packages in publications.
Type 'demo()' for some demos, 'help()' for on-line help, or
'help.start()' for an HTML browser interface to help.
Type 'q()' to quit R.
> library(testthat)
> library(pmp)
> 
> test_check("pmp")
      NRMSE 
0.003560579 
<simpleError in qcData[id, ]: incorrect number of dimensions>
[ FAIL 2 | WARN 0 | SKIP 0 | PASS 88 ]
══ Failed tests ════════════════════════════════════════════════════════════════
── Failure ('test-sbcWrapper.R:17:3'): sbcWrapper returns expected output ──────
`out` not equal to testData$sbcWrapper.
149/172 mismatches (average diff: 0.00352)
[24] 12340 - 12340 == -0.003928
[25] 12430 - 12430 == -0.003422
[26] 12520 - 12520 == -0.002908
[27] 12611 - 12611 == -0.002386
[28] 12702 - 12702 == -0.001856
[29] 12794 - 12794 == -0.001319
[30] 12887 - 12887 == -0.000777
[31] 12981 - 12981 == -0.000246
[32] 13075 - 13075 ==  0.000254
...
── Failure ('test-splineSmoother.R:11:3'): splineSmoother returns expected output ──
`out` not equal to testData$splineSmoother.
16/16 mismatches (average diff: 0.894)
[1] 73277 - 73277 ==  0.0091
[2] 75291 - 75291 ==  0.0261
[3] 77564 - 77564 ==  0.0308
[4] 82382 - 82382 == -0.0816
[5] 84708 - 84708 == -0.1882
[6] 86864 - 86864 == -0.2793
[7] 88757 - 88758 == -0.3103
[8] 90292 - 90292 == -0.2332
[9] 91922 - 91922 ==  0.3947
...
[ FAIL 2 | WARN 0 | SKIP 0 | PASS 88 ]
Error: Test failures
Execution halted
pmp.Rcheck/pmp-Ex.timings
| name | user | system | elapsed | |
| QCRSC | 0.320 | 0.004 | 0.325 | |
| filter_peaks_by_blank | 0.126 | 0.000 | 0.127 | |
| filter_peaks_by_fraction | 2.481 | 0.028 | 2.517 | |
| filter_peaks_by_rsd | 0.035 | 0.004 | 0.038 | |
| filter_samples_by_mv | 0.036 | 0.000 | 0.036 | |
| glog_plot_optimised_lambda | 1.120 | 0.024 | 1.148 | |
| glog_transformation | 0.405 | 0.000 | 0.406 | |
| mv_imputation | 0.174 | 0.000 | 0.175 | |
| normalise_to_sum | 0.04 | 0.00 | 0.04 | |
| pqn_normalisation | 0.159 | 0.000 | 0.160 | |
| processing_history | 0.089 | 0.000 | 0.090 | |
| remove_peaks | 0.018 | 0.000 | 0.019 | |
| sbc_plot | 0.809 | 0.000 | 0.812 | |