| Back to Multiple platform build/check report for BioC 3.21: simplified long |
|
This page was generated on 2025-10-16 11:41 -0400 (Thu, 16 Oct 2025).
| Hostname | OS | Arch (*) | R version | Installed pkgs |
|---|---|---|---|---|
| nebbiolo1 | Linux (Ubuntu 24.04.3 LTS) | x86_64 | 4.5.1 (2025-06-13) -- "Great Square Root" | 4833 |
| merida1 | macOS 12.7.6 Monterey | x86_64 | 4.5.1 RC (2025-06-05 r88288) -- "Great Square Root" | 4614 |
| kjohnson1 | macOS 13.7.5 Ventura | arm64 | 4.5.1 Patched (2025-06-14 r88325) -- "Great Square Root" | 4555 |
| kunpeng2 | Linux (openEuler 24.03 LTS) | aarch64 | R Under development (unstable) (2025-02-19 r87757) -- "Unsuffered Consequences" | 4586 |
| Click on any hostname to see more info about the system (e.g. compilers) (*) as reported by 'uname -p', except on Windows and Mac OS X | ||||
| Package 1599/2341 | Hostname | OS / Arch | INSTALL | BUILD | CHECK | BUILD BIN | ||||||||
| plyinteractions 1.6.0 (landing page) Jacques Serizay
| nebbiolo1 | Linux (Ubuntu 24.04.3 LTS) / x86_64 | OK | OK | OK | |||||||||
| merida1 | macOS 12.7.6 Monterey / x86_64 | OK | OK | OK | OK | |||||||||
| kjohnson1 | macOS 13.7.5 Ventura / arm64 | OK | OK | OK | OK | |||||||||
| kunpeng2 | Linux (openEuler 24.03 LTS) / aarch64 | OK | OK | OK | ||||||||||
|
To the developers/maintainers of the plyinteractions package: - Allow up to 24 hours (and sometimes 48 hours) for your latest push to git@git.bioconductor.org:packages/plyinteractions.git to reflect on this report. See Troubleshooting Build Report for more information. - Use the following Renviron settings to reproduce errors and warnings. - If 'R CMD check' started to fail recently on the Linux builder(s) over a missing dependency, add the missing dependency to 'Suggests:' in your DESCRIPTION file. See Renviron.bioc for more information. - See Martin Grigorov's blog post for how to debug Linux ARM64 related issues on a x86_64 host. |
| Package: plyinteractions |
| Version: 1.6.0 |
| Command: /home/biocbuild/R/R/bin/R CMD check --install=check:plyinteractions.install-out.txt --library=/home/biocbuild/R/R/site-library --no-vignettes --timings plyinteractions_1.6.0.tar.gz |
| StartedAt: 2025-10-14 12:36:46 -0000 (Tue, 14 Oct 2025) |
| EndedAt: 2025-10-14 12:43:00 -0000 (Tue, 14 Oct 2025) |
| EllapsedTime: 374.4 seconds |
| RetCode: 0 |
| Status: OK |
| CheckDir: plyinteractions.Rcheck |
| Warnings: 0 |
##############################################################################
##############################################################################
###
### Running command:
###
### /home/biocbuild/R/R/bin/R CMD check --install=check:plyinteractions.install-out.txt --library=/home/biocbuild/R/R/site-library --no-vignettes --timings plyinteractions_1.6.0.tar.gz
###
##############################################################################
##############################################################################
* using log directory ‘/home/biocbuild/bbs-3.21-bioc/meat/plyinteractions.Rcheck’
* using R Under development (unstable) (2025-02-19 r87757)
* using platform: aarch64-unknown-linux-gnu
* R was compiled by
aarch64-unknown-linux-gnu-gcc (GCC) 14.2.0
GNU Fortran (GCC) 14.2.0
* running under: openEuler 24.03 (LTS-SP1)
* using session charset: UTF-8
* using option ‘--no-vignettes’
* checking for file ‘plyinteractions/DESCRIPTION’ ... OK
* this is package ‘plyinteractions’ version ‘1.6.0’
* package encoding: UTF-8
* checking package namespace information ... OK
* checking package dependencies ... OK
* checking if this is a source package ... OK
* checking if there is a namespace ... OK
* checking for hidden files and directories ... OK
* checking for portable file names ... OK
* checking for sufficient/correct file permissions ... OK
* checking whether package ‘plyinteractions’ can be installed ... OK
* checking installed package size ... OK
* checking package directory ... OK
* checking ‘build’ directory ... OK
* checking DESCRIPTION meta-information ... OK
* checking top-level files ... OK
* checking for left-over files ... OK
* checking index information ... OK
* checking package subdirectories ... OK
* checking code files for non-ASCII characters ... OK
* checking R files for syntax errors ... OK
* checking whether the package can be loaded ... OK
* checking whether the package can be loaded with stated dependencies ... OK
* checking whether the package can be unloaded cleanly ... OK
* checking whether the namespace can be loaded with stated dependencies ... OK
* checking whether the namespace can be unloaded cleanly ... OK
* checking loading without being on the library search path ... OK
* checking dependencies in R code ... OK
* checking S3 generic/method consistency ... OK
* checking replacement functions ... OK
* checking foreign function calls ... OK
* checking R code for possible problems ... NOTE
count.GInteractions: no visible binding for global variable ‘group’
pair_granges: no visible global function definition for ‘combn’
write_bedpe: no visible binding for global variable ‘name’
write_bedpe: no visible binding for global variable ‘score’
write_pairs: no visible binding for global variable ‘name’
Undefined global functions or variables:
combn group name score
Consider adding
importFrom("utils", "combn")
to your NAMESPACE file.
* checking Rd files ... OK
* checking Rd metadata ... OK
* checking Rd cross-references ... NOTE
Found the following Rd file(s) with Rd \link{} targets missing package
anchors:
ginteractions-construct.Rd: DataFrame
Please provide package anchors for all Rd \link{} targets not in the
package itself and the base packages.
* checking for missing documentation entries ... OK
* checking for code/documentation mismatches ... OK
* checking Rd \usage sections ... OK
* checking Rd contents ... OK
* checking for unstated dependencies in examples ... OK
* checking contents of ‘data’ directory ... OK
* checking data for non-ASCII characters ... OK
* checking data for ASCII and uncompressed saves ... OK
* checking files in ‘vignettes’ ... OK
* checking examples ... OK
* checking for unstated dependencies in ‘tests’ ... OK
* checking tests ...
Running ‘testthat.R’
OK
* checking for unstated dependencies in vignettes ... OK
* checking package vignettes ... OK
* checking running R code from vignettes ... SKIPPED
* checking re-building of vignette outputs ... SKIPPED
* checking PDF version of manual ... OK
* DONE
Status: 2 NOTEs
See
‘/home/biocbuild/bbs-3.21-bioc/meat/plyinteractions.Rcheck/00check.log’
for details.
plyinteractions.Rcheck/00install.out
############################################################################## ############################################################################## ### ### Running command: ### ### /home/biocbuild/R/R/bin/R CMD INSTALL plyinteractions ### ############################################################################## ############################################################################## * installing to library ‘/home/biocbuild/R/R-devel_2025-02-19/site-library’ * installing *source* package ‘plyinteractions’ ... ** this is package ‘plyinteractions’ version ‘1.6.0’ ** using staged installation ** R ** data ** inst ** byte-compile and prepare package for lazy loading ** help *** installing help indices *** copying figures ** building package indices ** installing vignettes ** testing if installed package can be loaded from temporary location ** testing if installed package can be loaded from final location ** testing if installed package keeps a record of temporary installation path * DONE (plyinteractions)
plyinteractions.Rcheck/tests/testthat.Rout
R Under development (unstable) (2025-02-19 r87757) -- "Unsuffered Consequences"
Copyright (C) 2025 The R Foundation for Statistical Computing
Platform: aarch64-unknown-linux-gnu
R is free software and comes with ABSOLUTELY NO WARRANTY.
You are welcome to redistribute it under certain conditions.
Type 'license()' or 'licence()' for distribution details.
R is a collaborative project with many contributors.
Type 'contributors()' for more information and
'citation()' on how to cite R or R packages in publications.
Type 'demo()' for some demos, 'help()' for on-line help, or
'help.start()' for an HTML browser interface to help.
Type 'q()' to quit R.
> # This file is part of the standard setup for testthat.
> # It is recommended that you do not modify it.
> #
> # Where should you do additional test configuration?
> # Learn more about the roles of various files in:
> # * https://r-pkgs.org/testing-design.html#sec-tests-files-overview
> # * https://testthat.r-lib.org/articles/special-files.html
>
> library(testthat)
> library(plyinteractions)
Attaching package: 'plyinteractions'
The following object is masked from 'package:stats':
filter
>
> gi <- read.table(text = "
+ chr1 11 20 chr1 21 30 + +
+ chr1 11 20 chr1 51 55 + +
+ chr1 11 30 chr1 51 55 - -
+ chr1 11 30 chr2 51 60 - -",
+ col.names = c(
+ "seqnames1", "start1", "end1",
+ "seqnames2", "start2", "end2", "strand1", "strand2")
+ ) |>
+ as_ginteractions() |>
+ mutate(score = runif(4), type = c('cis', 'cis', 'cis', 'trans'))
>
> test_check("plyinteractions")
GInteractions object with 4 interactions and 2 metadata columns:
seqnames1 ranges1 strand1 seqnames2 ranges2 strand2 | score
<Rle> <IRanges> <Rle> <Rle> <IRanges> <Rle> | <numeric>
[1] chr1 11-20 + --- chr1 21-30 + | 0.86091538
[2] chr1 11-20 + --- chr1 51-55 + | 0.64031061
[3] chr1 11-30 - --- chr1 51-55 - | 0.00949576
[4] chr1 11-30 - --- chr2 51-60 - | 0.23255051
type
<character>
[1] cis
[2] cis
[3] cis
[4] trans
-------
regions: 6 ranges and 0 metadata columns
seqinfo: 2 sequences from an unspecified genome; no seqlengths
PinnedGInteractions object with 4 interactions and 2 metadata columns:
Pinned on: anchors2
seqnames1 ranges1 strand1 seqnames2 ranges2 strand2 | score
<Rle> <IRanges> <Rle> <Rle> <IRanges> <Rle> | <numeric>
[1] chr1 11-20 + --- chr1 21-30 + | 0.86091538
[2] chr1 11-20 + --- chr1 51-55 + | 0.64031061
[3] chr1 11-30 - --- chr1 51-55 - | 0.00949576
[4] chr1 11-30 - --- chr2 51-60 - | 0.23255051
type
<character>
[1] cis
[2] cis
[3] cis
[4] trans
-------
regions: 6 ranges and 0 metadata columns
seqinfo: 2 sequences from an unspecified genome; no seqlengths
AnchoredPinnedGInteractions object with 4 interactions and 2 metadata columns:
Pinned on: anchors2 | Anchored by: 5p
seqnames1 ranges1 strand1 seqnames2 ranges2 strand2 | score
<Rle> <IRanges> <Rle> <Rle> <IRanges> <Rle> | <numeric>
[1] chr1 11-20 + --- chr1 21-30 + | 0.86091538
[2] chr1 11-20 + --- chr1 51-55 + | 0.64031061
[3] chr1 11-30 - --- chr1 51-55 - | 0.00949576
[4] chr1 11-30 - --- chr2 51-60 - | 0.23255051
type
<character>
[1] cis
[2] cis
[3] cis
[4] trans
-------
regions: 6 ranges and 0 metadata columns
seqinfo: 2 sequences from an unspecified genome; no seqlengths
GroupedGInteractions object with 4 interactions and 3 metadata columns:
Groups: group [2]
seqnames1 ranges1 strand1 seqnames2 ranges2 strand2 | score
<Rle> <IRanges> <Rle> <Rle> <IRanges> <Rle> | <numeric>
[1] chr1 11-20 + --- chr1 21-30 + | 0.86091538
[2] chr1 11-20 + --- chr1 51-55 + | 0.64031061
[3] chr1 11-30 - --- chr1 51-55 - | 0.00949576
[4] chr1 11-30 - --- chr2 51-60 - | 0.23255051
type group
<character> <numeric>
[1] cis 1
[2] cis 1
[3] cis 2
[4] trans 2
-------
regions: 6 ranges and 0 metadata columns
seqinfo: 2 sequences from an unspecified genome; no seqlengths
AnchoredPinnedGInteractions object with 4 interactions and 2 metadata columns:
Pinned on: anchors2 | Anchored by: 5p
seqnames1 ranges1 strand1 seqnames2 ranges2 strand2 | score
<Rle> <IRanges> <Rle> <Rle> <IRanges> <Rle> | <numeric>
[1] chr1 11-20 + --- chr1 21-30 + | 0.86091538
[2] chr1 11-20 + --- chr1 51-55 + | 0.64031061
[3] chr1 11-30 - --- chr1 51-55 - | 0.00949576
[4] chr1 11-30 - --- chr2 51-60 - | 0.23255051
type
<character>
[1] cis
[2] cis
[3] cis
[4] trans
-------
regions: 6 ranges and 0 metadata columns
seqinfo: 2 sequences from an unspecified genome; no seqlengths
Detected `seqlengths:`
chr1 chr2
55 60
Provided `seqlengths:`
chr1 chr2
100 30
[ FAIL 0 | WARN 0 | SKIP 0 | PASS 189 ]
>
> proc.time()
user system elapsed
30.036 0.787 30.889
plyinteractions.Rcheck/plyinteractions-Ex.timings
| name | user | system | elapsed | |
| add-pairdist | 0.288 | 0.024 | 0.313 | |
| dplyr-arrange | 0.756 | 0.132 | 0.889 | |
| dplyr-count | 1.026 | 0.000 | 1.029 | |
| dplyr-filter | 0.735 | 0.004 | 0.740 | |
| dplyr-group_by | 0.984 | 0.024 | 1.010 | |
| dplyr-mutate | 1.920 | 0.012 | 1.936 | |
| dplyr-rename | 0.207 | 0.007 | 0.214 | |
| dplyr-select | 0.409 | 0.000 | 0.409 | |
| dplyr-slice | 0.134 | 0.000 | 0.134 | |
| dplyr-summarize | 0.862 | 0.020 | 0.884 | |
| ginteractions-anchor | 0.212 | 0.000 | 0.212 | |
| ginteractions-annotate | 3.731 | 0.148 | 3.886 | |
| ginteractions-construct | 0.932 | 0.012 | 0.947 | |
| ginteractions-count-overlaps | 0.494 | 0.000 | 0.495 | |
| ginteractions-export | 0.165 | 0.000 | 0.165 | |
| ginteractions-filter-overlaps | 0.649 | 0.036 | 0.688 | |
| ginteractions-find-overlaps | 0.705 | 0.000 | 0.707 | |
| ginteractions-getters | 0.247 | 0.004 | 0.252 | |
| ginteractions-join-overlap-left | 1.034 | 0.000 | 1.035 | |
| ginteractions-pin | 0.355 | 0.003 | 0.360 | |
| group-group_data | 0.292 | 0.000 | 0.292 | |
| pair-granges | 0.050 | 0.000 | 0.049 | |
| plyranges-flank | 0.641 | 0.000 | 0.642 | |
| plyranges-shift | 0.791 | 0.004 | 0.797 | |
| plyranges-stretch | 0.879 | 0.007 | 0.888 | |
| reexports | 0 | 0 | 0 | |
| replace_anchors | 0.985 | 0.000 | 0.988 | |