Back to Multiple platform build/check report for BioC 3.22:   simplified   long
ABCDEFGHIJKLMNO[P]QRSTUVWXYZ

This page was generated on 2025-11-04 12:04 -0500 (Tue, 04 Nov 2025).

HostnameOSArch (*)R versionInstalled pkgs
nebbiolo2Linux (Ubuntu 24.04.3 LTS)x86_644.5.1 Patched (2025-08-23 r88802) -- "Great Square Root" 4902
lconwaymacOS 12.7.6 Montereyx86_644.5.1 Patched (2025-09-10 r88807) -- "Great Square Root" 4692
kjohnson3macOS 13.7.7 Venturaarm644.5.1 Patched (2025-09-10 r88807) -- "Great Square Root" 4638
Click on any hostname to see more info about the system (e.g. compilers)      (*) as reported by 'uname -p', except on Windows and Mac OS X

Package 1571/2361HostnameOS / ArchINSTALLBUILDCHECKBUILD BIN
peakPantheR 1.24.0  (landing page)
Arnaud Wolfer
Snapshot Date: 2025-11-03 13:45 -0500 (Mon, 03 Nov 2025)
git_url: https://git.bioconductor.org/packages/peakPantheR
git_branch: RELEASE_3_22
git_last_commit: 9bede65
git_last_commit_date: 2025-10-29 10:54:31 -0500 (Wed, 29 Oct 2025)
nebbiolo2Linux (Ubuntu 24.04.3 LTS) / x86_64  OK    OK    OK  UNNEEDED, same version is already published
lconwaymacOS 12.7.6 Monterey / x86_64  OK    OK    OK    OK  UNNEEDED, same version is already published
kjohnson3macOS 13.7.7 Ventura / arm64  OK    OK    OK    OK  UNNEEDED, same version is already published


CHECK results for peakPantheR on lconway

To the developers/maintainers of the peakPantheR package:
- Allow up to 24 hours (and sometimes 48 hours) for your latest push to git@git.bioconductor.org:packages/peakPantheR.git to reflect on this report. See Troubleshooting Build Report for more information.
- Use the following Renviron settings to reproduce errors and warnings.
- If 'R CMD check' started to fail recently on the Linux builder(s) over a missing dependency, add the missing dependency to 'Suggests:' in your DESCRIPTION file. See Renviron.bioc for more information.

raw results


Summary

Package: peakPantheR
Version: 1.24.0
Command: /Library/Frameworks/R.framework/Resources/bin/R CMD check --install=check:peakPantheR.install-out.txt --library=/Library/Frameworks/R.framework/Resources/library --no-vignettes --timings peakPantheR_1.24.0.tar.gz
StartedAt: 2025-11-03 23:15:29 -0500 (Mon, 03 Nov 2025)
EndedAt: 2025-11-03 23:37:59 -0500 (Mon, 03 Nov 2025)
EllapsedTime: 1349.8 seconds
RetCode: 0
Status:   OK  
CheckDir: peakPantheR.Rcheck
Warnings: 0

Command output

##############################################################################
##############################################################################
###
### Running command:
###
###   /Library/Frameworks/R.framework/Resources/bin/R CMD check --install=check:peakPantheR.install-out.txt --library=/Library/Frameworks/R.framework/Resources/library --no-vignettes --timings peakPantheR_1.24.0.tar.gz
###
##############################################################################
##############################################################################


* using log directory ‘/Users/biocbuild/bbs-3.22-bioc/meat/peakPantheR.Rcheck’
* using R version 4.5.1 Patched (2025-09-10 r88807)
* using platform: x86_64-apple-darwin20
* R was compiled by
    Apple clang version 14.0.0 (clang-1400.0.29.202)
    GNU Fortran (GCC) 14.2.0
* running under: macOS Monterey 12.7.6
* using session charset: UTF-8
* using option ‘--no-vignettes’
* checking for file ‘peakPantheR/DESCRIPTION’ ... OK
* this is package ‘peakPantheR’ version ‘1.24.0’
* package encoding: UTF-8
* checking package namespace information ... OK
* checking package dependencies ... OK
* checking if this is a source package ... OK
* checking if there is a namespace ... OK
* checking for hidden files and directories ... OK
* checking for portable file names ... OK
* checking for sufficient/correct file permissions ... OK
* checking whether package ‘peakPantheR’ can be installed ... OK
* checking installed package size ... OK
* checking package directory ... OK
* checking ‘build’ directory ... OK
* checking DESCRIPTION meta-information ... OK
* checking top-level files ... OK
* checking for left-over files ... OK
* checking index information ... OK
* checking package subdirectories ... OK
* checking code files for non-ASCII characters ... OK
* checking R files for syntax errors ... OK
* checking whether the package can be loaded ... OK
* checking whether the package can be loaded with stated dependencies ... OK
* checking whether the package can be unloaded cleanly ... OK
* checking whether the namespace can be loaded with stated dependencies ... OK
* checking whether the namespace can be unloaded cleanly ... OK
* checking whether startup messages can be suppressed ... OK
* checking dependencies in R code ... OK
* checking S3 generic/method consistency ... OK
* checking replacement functions ... OK
* checking foreign function calls ... OK
* checking R code for possible problems ... OK
* checking Rd files ... OK
* checking Rd metadata ... OK
* checking Rd cross-references ... OK
* checking for missing documentation entries ... OK
* checking for code/documentation mismatches ... OK
* checking Rd \usage sections ... OK
* checking Rd contents ... OK
* checking for unstated dependencies in examples ... OK
* checking files in ‘vignettes’ ... OK
* checking examples ... OK
Examples with CPU (user + system) or elapsed time > 5s
                                                          user system elapsed
peakPantheR_ROIStatistics                               23.413  0.313  23.850
peakPantheR_parallelAnnotation                          16.090  0.157  16.368
outputAnnotationDiagnostic-peakPantheRAnnotation-method 15.926  0.134  16.143
outputAnnotationResult-peakPantheRAnnotation-method     15.248  0.122  15.443
EICs-peakPantheRAnnotation-method                       13.461  0.747  14.326
retentionTimeCorrection-peakPantheRAnnotation-method    10.399  0.080  10.538
peakPantheR_singleFileSearch                             5.259  0.055   5.342
* checking for unstated dependencies in ‘tests’ ... OK
* checking tests ...
  Running ‘testthat.R’
 OK
* checking for unstated dependencies in vignettes ... OK
* checking package vignettes ... OK
* checking running R code from vignettes ... SKIPPED
* checking re-building of vignette outputs ... SKIPPED
* checking PDF version of manual ... OK
* DONE

Status: OK


Installation output

peakPantheR.Rcheck/00install.out

##############################################################################
##############################################################################
###
### Running command:
###
###   /Library/Frameworks/R.framework/Resources/bin/R CMD INSTALL peakPantheR
###
##############################################################################
##############################################################################


* installing to library ‘/Library/Frameworks/R.framework/Versions/4.5-x86_64/Resources/library’
* installing *source* package ‘peakPantheR’ ...
** this is package ‘peakPantheR’ version ‘1.24.0’
** using staged installation
** R
** inst
** byte-compile and prepare package for lazy loading
** help
*** installing help indices
*** copying figures
** building package indices
** installing vignettes
** testing if installed package can be loaded from temporary location
** testing if installed package can be loaded from final location
** testing if installed package keeps a record of temporary installation path
* DONE (peakPantheR)

Tests output

peakPantheR.Rcheck/tests/testthat.Rout


R version 4.5.1 Patched (2025-09-10 r88807) -- "Great Square Root"
Copyright (C) 2025 The R Foundation for Statistical Computing
Platform: x86_64-apple-darwin20

R is free software and comes with ABSOLUTELY NO WARRANTY.
You are welcome to redistribute it under certain conditions.
Type 'license()' or 'licence()' for distribution details.

R is a collaborative project with many contributors.
Type 'contributors()' for more information and
'citation()' on how to cite R or R packages in publications.

Type 'demo()' for some demos, 'help()' for on-line help, or
'help.start()' for an HTML browser interface to help.
Type 'q()' to quit R.

> library(testthat)
> library(peakPantheR)

This is peakPantheR version 1.24.0 

> 
> test_check("peakPantheR")
2025-11-03 23:24:24.909 R[34741:725779970] XType: com.apple.fonts is not accessible.
2025-11-03 23:24:24.909 R[34741:725779970] XType: XTFontStaticRegistry is enabled.
2025-11-03 23:24:44.726 R[60144:725850596] XType: com.apple.fonts is not accessible.
2025-11-03 23:24:44.727 R[60144:725850596] XType: XTFontStaticRegistry is enabled.
2025-11-03 23:24:57.176 R[61257:725852768] XType: com.apple.fonts is not accessible.
2025-11-03 23:24:57.176 R[61257:725852768] XType: XTFontStaticRegistry is enabled.
2025-11-03 23:29:29.464 R[82748:725898155] XType: com.apple.fonts is not accessible.
2025-11-03 23:29:29.464 R[82748:725898155] XType: XTFontStaticRegistry is enabled.
[ FAIL 0 | WARN 0 | SKIP 0 | PASS 1460 ]
Warning messages:
1: In .Internal(gc(verbose, reset, full)) :
  closing unused connection 10 (/private/tmp/Rtmp49xEdX/notValidXML.mzML)
2: In .Internal(gc(verbose, reset, full)) :
  closing unused connection 9 (/private/tmp/Rtmp49xEdX/notValidXML.mzML)
3: In .Internal(gc(verbose, reset, full)) :
  closing unused connection 8 (/private/tmp/Rtmp49xEdX/notValidXML.mzML)
4: In .Internal(gc(verbose, reset, full)) :
  closing unused connection 7 (/private/tmp/Rtmp49xEdX/notValidXML.mzML)
5: In .Internal(gc(verbose, reset, full)) :
  closing unused connection 6 (/Library/Frameworks/R.framework/Versions/4.5-x86_64/Resources/library/peakPantheR/extdata/test_fakemzML.mzML)
6: In .Internal(gc(verbose, reset, full)) :
  closing unused connection 5 (/Library/Frameworks/R.framework/Versions/4.5-x86_64/Resources/library/peakPantheR/extdata/test_fakemzML.mzML)
> 
> proc.time()
    user   system  elapsed 
 806.926    8.576 1146.645 

Example timings

peakPantheR.Rcheck/peakPantheR-Ex.timings

nameusersystemelapsed
EICs-peakPantheRAnnotation-method13.461 0.74714.326
FIR-peakPantheRAnnotation-method0.0360.0020.038
ROI-peakPantheRAnnotation-method0.0260.0020.029
TIC-peakPantheRAnnotation-method0.0250.0020.027
acquisitionTime-peakPantheRAnnotation-method0.0300.0030.032
annotationDiagnosticPlots-peakPantheRAnnotation-method0.0250.0020.027
annotationParamsDiagnostic-peakPantheRAnnotation-method0.0260.0020.028
annotationTable-peakPantheRAnnotation-method0.0280.0020.030
annotation_diagnostic_multiplot_UI_helper0.1970.0150.214
annotation_fit_summary_UI_helper0.0100.0020.012
annotation_showMethod_UI_helper0.0040.0010.005
annotation_showText_UI_helper0.0010.0000.001
cpdID-peakPantheRAnnotation-method0.0280.0030.030
cpdMetadata-peakPantheRAnnotation-method0.0270.0030.031
cpdName-peakPantheRAnnotation-method0.0260.0020.029
dataPoints-peakPantheRAnnotation-method0.0270.0030.030
filename-peakPantheRAnnotation-method0.0250.0030.027
filepath-peakPantheRAnnotation-method0.0260.0030.030
initialise_annotation_from_files_UI_helper0.0160.0030.020
isAnnotated-peakPantheRAnnotation-method0.0270.0030.030
load_annotation_from_file_UI_helper0.0080.0020.011
nbCompounds-peakPantheRAnnotation-method0.0260.0030.028
nbSamples-peakPantheRAnnotation-method0.1410.0040.146
outputAnnotationDiagnostic-peakPantheRAnnotation-method15.926 0.13416.143
outputAnnotationFeatureMetadata_UI_helper0.0050.0010.005
outputAnnotationParamsCSV-peakPantheRAnnotation-method0.0230.0010.024
outputAnnotationResult-peakPantheRAnnotation-method15.248 0.12215.443
outputAnnotationSpectraMetadata_UI_helper0.0080.0010.008
peakFit-peakPantheRAnnotation-method0.0250.0020.030
peakPantheRAnnotation0.0300.0020.033
peakPantheR_ROIStatistics23.413 0.31323.850
peakPantheR_loadAnnotationParamsCSV0.0070.0020.009
peakPantheR_parallelAnnotation16.090 0.15716.368
peakPantheR_plotEICFit0.5510.0050.561
peakPantheR_plotPeakwidth0.9570.0320.996
peakPantheR_quickEIC4.5560.0814.660
peakPantheR_singleFileSearch5.2590.0555.342
peakPantheR_start_GUI0.0010.0010.000
peakTables-peakPantheRAnnotation-method0.0220.0020.024
resetAnnotation-peakPantheRAnnotation-method0.0290.0030.031
resetFIR-peakPantheRAnnotation-method0.0060.0010.007
retentionTimeCorrection-peakPantheRAnnotation-method10.399 0.08010.538
spectraMetadata-peakPantheRAnnotation-method0.0190.0010.022
spectraPaths_and_metadata_UI_helper0.0030.0010.003
spectra_metadata_colourScheme_UI_helper0.0040.0000.005
uROI-peakPantheRAnnotation-method0.0230.0020.026
uROIExist-peakPantheRAnnotation-method0.0240.0020.026
useFIR-peakPantheRAnnotation-method0.0220.0020.024
useUROI-peakPantheRAnnotation-method0.0230.0020.025