| Back to Multiple platform build/check report for BioC 3.21: simplified long | 
 | 
This page was generated on 2025-10-16 11:40 -0400 (Thu, 16 Oct 2025).
| Hostname | OS | Arch (*) | R version | Installed pkgs | 
|---|---|---|---|---|
| nebbiolo1 | Linux (Ubuntu 24.04.3 LTS) | x86_64 | 4.5.1 (2025-06-13) -- "Great Square Root" | 4833 | 
| merida1 | macOS 12.7.6 Monterey | x86_64 | 4.5.1 RC (2025-06-05 r88288) -- "Great Square Root" | 4614 | 
| kjohnson1 | macOS 13.7.5 Ventura | arm64 | 4.5.1 Patched (2025-06-14 r88325) -- "Great Square Root" | 4555 | 
| kunpeng2 | Linux (openEuler 24.03 LTS) | aarch64 | R Under development (unstable) (2025-02-19 r87757) -- "Unsuffered Consequences" | 4586 | 
| Click on any hostname to see more info about the system (e.g. compilers) (*) as reported by 'uname -p', except on Windows and Mac OS X | ||||
| Package 1507/2341 | Hostname | OS / Arch | INSTALL | BUILD | CHECK | BUILD BIN | ||||||||
| orthos 1.6.2  (landing page) Panagiotis Papasaikas 
 | nebbiolo1 | Linux (Ubuntu 24.04.3 LTS) / x86_64 | OK | OK | OK |  | ||||||||
| merida1 | macOS 12.7.6 Monterey / x86_64 | OK | OK | OK | OK |  | ||||||||
| kjohnson1 | macOS 13.7.5 Ventura / arm64 | OK | OK | OK | OK |  | ||||||||
| kunpeng2 | Linux (openEuler 24.03 LTS) / aarch64 | ERROR | ERROR | skipped | ||||||||||
| To the developers/maintainers of the orthos package: - Allow up to 24 hours (and sometimes 48 hours) for your latest push to git@git.bioconductor.org:packages/orthos.git to reflect on this report. See Troubleshooting Build Report for more information. - Use the following Renviron settings to reproduce errors and warnings. - If 'R CMD check' started to fail recently on the Linux builder(s) over a missing dependency, add the missing dependency to 'Suggests:' in your DESCRIPTION file. See Renviron.bioc for more information. | 
| Package: orthos | 
| Version: 1.6.2 | 
| Command: /Library/Frameworks/R.framework/Resources/bin/R CMD check --install=check:orthos.install-out.txt --library=/Library/Frameworks/R.framework/Resources/library --no-vignettes --timings orthos_1.6.2.tar.gz | 
| StartedAt: 2025-10-15 06:38:45 -0400 (Wed, 15 Oct 2025) | 
| EndedAt: 2025-10-15 06:52:36 -0400 (Wed, 15 Oct 2025) | 
| EllapsedTime: 830.8 seconds | 
| RetCode: 0 | 
| Status: OK | 
| CheckDir: orthos.Rcheck | 
| Warnings: 0 | 
##############################################################################
##############################################################################
###
### Running command:
###
###   /Library/Frameworks/R.framework/Resources/bin/R CMD check --install=check:orthos.install-out.txt --library=/Library/Frameworks/R.framework/Resources/library --no-vignettes --timings orthos_1.6.2.tar.gz
###
##############################################################################
##############################################################################
* using log directory ‘/Users/biocbuild/bbs-3.21-bioc/meat/orthos.Rcheck’
* using R version 4.5.1 Patched (2025-06-14 r88325)
* using platform: aarch64-apple-darwin20
* R was compiled by
    Apple clang version 16.0.0 (clang-1600.0.26.6)
    GNU Fortran (GCC) 14.2.0
* running under: macOS Ventura 13.7.5
* using session charset: UTF-8
* using option ‘--no-vignettes’
* checking for file ‘orthos/DESCRIPTION’ ... OK
* checking extension type ... Package
* this is package ‘orthos’ version ‘1.6.2’
* package encoding: UTF-8
* checking package namespace information ... OK
* checking package dependencies ... INFO
Imports includes 21 non-default packages.
Importing from so many packages makes the package vulnerable to any of
them becoming unavailable.  Move as many as possible to Suggests and
use conditionally.
* checking if this is a source package ... OK
* checking if there is a namespace ... OK
* checking for hidden files and directories ... OK
* checking for portable file names ... OK
* checking for sufficient/correct file permissions ... OK
* checking whether package ‘orthos’ can be installed ... NOTE
Found the following notes/warnings:
  Non-staged installation was used
See ‘/Users/biocbuild/bbs-3.21-bioc/meat/orthos.Rcheck/00install.out’ for details.
* checking installed package size ... OK
* checking package directory ... OK
* checking ‘build’ directory ... OK
* checking DESCRIPTION meta-information ... OK
* checking top-level files ... OK
* checking for left-over files ... OK
* checking index information ... OK
* checking package subdirectories ... OK
* checking code files for non-ASCII characters ... OK
* checking R files for syntax errors ... OK
* checking whether the package can be loaded ... OK
* checking whether the package can be loaded with stated dependencies ... OK
* checking whether the package can be unloaded cleanly ... OK
* checking whether the namespace can be loaded with stated dependencies ... OK
* checking whether the namespace can be unloaded cleanly ... OK
* checking whether startup messages can be suppressed ... OK
* checking dependencies in R code ... OK
* checking S3 generic/method consistency ... OK
* checking replacement functions ... OK
* checking foreign function calls ... OK
* checking R code for possible problems ... OK
* checking Rd files ... OK
* checking Rd metadata ... OK
* checking Rd cross-references ... OK
* checking for missing documentation entries ... OK
* checking for code/documentation mismatches ... OK
* checking Rd \usage sections ... OK
* checking Rd contents ... OK
* checking for unstated dependencies in examples ... OK
* checking line endings in shell scripts ... OK
* checking files in ‘vignettes’ ... OK
* checking examples ... OK
Examples with CPU (user + system) or elapsed time > 5s
                         user system elapsed
plotQueryResultsManh   50.714 10.948  54.402
plotQueryResultsViolin 46.861 12.286  47.194
queryWithContrasts     45.868 12.957  47.183
decomposeVar           43.201  9.200  64.899
loadContrastDatabase    6.295  0.468  12.038
* checking for unstated dependencies in ‘tests’ ... OK
* checking tests ...
  Running ‘testthat.R’
 OK
* checking for unstated dependencies in vignettes ... OK
* checking package vignettes ... OK
* checking running R code from vignettes ... SKIPPED
* checking re-building of vignette outputs ... SKIPPED
* checking PDF version of manual ... OK
* DONE
Status: 1 NOTE
See
  ‘/Users/biocbuild/bbs-3.21-bioc/meat/orthos.Rcheck/00check.log’
for details.
orthos.Rcheck/00install.out
############################################################################## ############################################################################## ### ### Running command: ### ### /Library/Frameworks/R.framework/Resources/bin/R CMD INSTALL orthos ### ############################################################################## ############################################################################## * installing to library ‘/Library/Frameworks/R.framework/Versions/4.5-arm64/Resources/library’ * installing *source* package ‘orthos’ ... ** this is package ‘orthos’ version ‘1.6.2’ ** using non-staged installation via StagedInstall field ** R ** inst ** byte-compile and prepare package for lazy loading ** help *** installing help indices ** building package indices ** installing vignettes ** testing if installed package can be loaded * DONE (orthos)
orthos.Rcheck/tests/testthat.Rout
R version 4.5.1 Patched (2025-06-14 r88325) -- "Great Square Root"
Copyright (C) 2025 The R Foundation for Statistical Computing
Platform: aarch64-apple-darwin20
R is free software and comes with ABSOLUTELY NO WARRANTY.
You are welcome to redistribute it under certain conditions.
Type 'license()' or 'licence()' for distribution details.
R is a collaborative project with many contributors.
Type 'contributors()' for more information and
'citation()' on how to cite R or R packages in publications.
Type 'demo()' for some demos, 'help()' for on-line help, or
'help.start()' for an HTML browser interface to help.
Type 'q()' to quit R.
> # This file is part of the standard setup for testthat.
> # It is recommended that you do not modify it.
> #
> # Where should you do additional test configuration?
> # Learn more about the roles of various files in:
> # * https://r-pkgs.org/tests.html
> # * https://testthat.r-lib.org/reference/test_package.html#special-files
> 
> library(testthat)
> library(orthos)
Loading required package: SummarizedExperiment
Loading required package: MatrixGenerics
Loading required package: matrixStats
Attaching package: 'MatrixGenerics'
The following objects are masked from 'package:matrixStats':
    colAlls, colAnyNAs, colAnys, colAvgsPerRowSet, colCollapse,
    colCounts, colCummaxs, colCummins, colCumprods, colCumsums,
    colDiffs, colIQRDiffs, colIQRs, colLogSumExps, colMadDiffs,
    colMads, colMaxs, colMeans2, colMedians, colMins, colOrderStats,
    colProds, colQuantiles, colRanges, colRanks, colSdDiffs, colSds,
    colSums2, colTabulates, colVarDiffs, colVars, colWeightedMads,
    colWeightedMeans, colWeightedMedians, colWeightedSds,
    colWeightedVars, rowAlls, rowAnyNAs, rowAnys, rowAvgsPerColSet,
    rowCollapse, rowCounts, rowCummaxs, rowCummins, rowCumprods,
    rowCumsums, rowDiffs, rowIQRDiffs, rowIQRs, rowLogSumExps,
    rowMadDiffs, rowMads, rowMaxs, rowMeans2, rowMedians, rowMins,
    rowOrderStats, rowProds, rowQuantiles, rowRanges, rowRanks,
    rowSdDiffs, rowSds, rowSums2, rowTabulates, rowVarDiffs, rowVars,
    rowWeightedMads, rowWeightedMeans, rowWeightedMedians,
    rowWeightedSds, rowWeightedVars
Loading required package: GenomicRanges
Loading required package: stats4
Loading required package: BiocGenerics
Loading required package: generics
Attaching package: 'generics'
The following objects are masked from 'package:base':
    as.difftime, as.factor, as.ordered, intersect, is.element, setdiff,
    setequal, union
Attaching package: 'BiocGenerics'
The following objects are masked from 'package:stats':
    IQR, mad, sd, var, xtabs
The following objects are masked from 'package:base':
    Filter, Find, Map, Position, Reduce, anyDuplicated, aperm, append,
    as.data.frame, basename, cbind, colnames, dirname, do.call,
    duplicated, eval, evalq, get, grep, grepl, is.unsorted, lapply,
    mapply, match, mget, order, paste, pmax, pmax.int, pmin, pmin.int,
    rank, rbind, rownames, sapply, saveRDS, table, tapply, unique,
    unsplit, which.max, which.min
Loading required package: S4Vectors
Attaching package: 'S4Vectors'
The following object is masked from 'package:utils':
    findMatches
The following objects are masked from 'package:base':
    I, expand.grid, unname
Loading required package: IRanges
Loading required package: GenomeInfoDb
Loading required package: Biobase
Welcome to Bioconductor
    Vignettes contain introductory material; view with
    'browseVignettes()'. To cite Bioconductor, see
    'citation("Biobase")', and for packages 'citation("pkgname")'.
Attaching package: 'Biobase'
The following object is masked from 'package:MatrixGenerics':
    rowMedians
The following objects are masked from 'package:matrixStats':
    anyMissing, rowMedians
> 
> test_check("orthos")
demo_decomposed_contrasts_mouse_rds  already present in cache at: /Users/biocbuild/Library/Caches/org.R-project.R/R/ExperimentHub/mouse_v212_NDF_c100_DEMOse.rds
updating resource /Users/biocbuild/Library/Caches/org.R-project.R/R/ExperimentHub/mouse_v212_NDF_c100_DEMOse.rds
demo_decomposed_contrasts_mouse_hdf5  already present in cache at: /Users/biocbuild/Library/Caches/org.R-project.R/R/ExperimentHub/mouse_v212_NDF_c100_DEMOassays.h5
updating resource /Users/biocbuild/Library/Caches/org.R-project.R/R/ExperimentHub/mouse_v212_NDF_c100_DEMOassays.h5
demo_decomposed_contrasts_human_rds  already present in cache at: /Users/biocbuild/Library/Caches/org.R-project.R/R/ExperimentHub/human_v212_NDF_c100_DEMOse.rds
updating resource /Users/biocbuild/Library/Caches/org.R-project.R/R/ExperimentHub/human_v212_NDF_c100_DEMOse.rds
demo_decomposed_contrasts_human_hdf5  already present in cache at: /Users/biocbuild/Library/Caches/org.R-project.R/R/ExperimentHub/human_v212_NDF_c100_DEMOassays.h5
updating resource /Users/biocbuild/Library/Caches/org.R-project.R/R/ExperimentHub/human_v212_NDF_c100_DEMOassays.h5
demo_decomposed_contrasts_mouse_rds  already present in cache at: /Users/biocbuild/Library/Caches/org.R-project.R/R/ExperimentHub/mouse_v212_NDF_c100_DEMOse.rds
updating resource /Users/biocbuild/Library/Caches/org.R-project.R/R/ExperimentHub/mouse_v212_NDF_c100_DEMOse.rds
demo_decomposed_contrasts_mouse_hdf5  already present in cache at: /Users/biocbuild/Library/Caches/org.R-project.R/R/ExperimentHub/mouse_v212_NDF_c100_DEMOassays.h5
updating resource /Users/biocbuild/Library/Caches/org.R-project.R/R/ExperimentHub/mouse_v212_NDF_c100_DEMOassays.h5
demo_decomposed_contrasts_human_rds  already present in cache at: /Users/biocbuild/Library/Caches/org.R-project.R/R/ExperimentHub/human_v212_NDF_c100_DEMOse.rds
updating resource /Users/biocbuild/Library/Caches/org.R-project.R/R/ExperimentHub/human_v212_NDF_c100_DEMOse.rds
demo_decomposed_contrasts_human_hdf5  already present in cache at: /Users/biocbuild/Library/Caches/org.R-project.R/R/ExperimentHub/human_v212_NDF_c100_DEMOassays.h5
updating resource /Users/biocbuild/Library/Caches/org.R-project.R/R/ExperimentHub/human_v212_NDF_c100_DEMOassays.h5
demo_decomposed_contrasts_mouse_rds  already present in cache at: /Users/biocbuild/Library/Caches/org.R-project.R/R/ExperimentHub/mouse_v212_NDF_c100_DEMOse.rds
updating resource /Users/biocbuild/Library/Caches/org.R-project.R/R/ExperimentHub/mouse_v212_NDF_c100_DEMOse.rds
demo_decomposed_contrasts_mouse_hdf5  already present in cache at: /Users/biocbuild/Library/Caches/org.R-project.R/R/ExperimentHub/mouse_v212_NDF_c100_DEMOassays.h5
updating resource /Users/biocbuild/Library/Caches/org.R-project.R/R/ExperimentHub/mouse_v212_NDF_c100_DEMOassays.h5
demo_decomposed_contrasts_human_rds  already present in cache at: /Users/biocbuild/Library/Caches/org.R-project.R/R/ExperimentHub/human_v212_NDF_c100_DEMOse.rds
updating resource /Users/biocbuild/Library/Caches/org.R-project.R/R/ExperimentHub/human_v212_NDF_c100_DEMOse.rds
demo_decomposed_contrasts_human_hdf5  already present in cache at: /Users/biocbuild/Library/Caches/org.R-project.R/R/ExperimentHub/human_v212_NDF_c100_DEMOassays.h5
updating resource /Users/biocbuild/Library/Caches/org.R-project.R/R/ExperimentHub/human_v212_NDF_c100_DEMOassays.h5
see ?orthosData and browseVignettes('orthosData') for documentation
loading from cache
require("keras")
WARNING:tensorflow:No training configuration found in the save file, so the model was *not* compiled. Compile it manually.
1/1 [==============================] - ETA: 0s
1/1 [==============================] - 0s 129ms/step
see ?orthosData and browseVignettes('orthosData') for documentation
loading from cache
WARNING:tensorflow:No training configuration found in the save file, so the model was *not* compiled. Compile it manually.
see ?orthosData and browseVignettes('orthosData') for documentation
loading from cache
WARNING:tensorflow:No training configuration found in the save file, so the model was *not* compiled. Compile it manually.
1/1 [==============================] - ETA: 0s
1/1 [==============================] - 0s 102ms/step
1/1 [==============================] - ETA: 0s
1/1 [==============================] - 0s 118ms/step
see ?orthosData and browseVignettes('orthosData') for documentation
loading from cache
WARNING:tensorflow:No training configuration found in the save file, so the model was *not* compiled. Compile it manually.
1/1 [==============================] - ETA: 0s
1/1 [==============================] - 0s 83ms/step
see ?orthosData and browseVignettes('orthosData') for documentation
loading from cache
WARNING:tensorflow:No training configuration found in the save file, so the model was *not* compiled. Compile it manually.
see ?orthosData and browseVignettes('orthosData') for documentation
loading from cache
WARNING:tensorflow:No training configuration found in the save file, so the model was *not* compiled. Compile it manually.
WARNING:tensorflow:5 out of the last 5 calls to <function Model.make_predict_function.<locals>.predict_function at 0x2c3d59b20> triggered tf.function retracing. Tracing is expensive and the excessive number of tracings could be due to (1) creating @tf.function repeatedly in a loop, (2) passing tensors with different shapes, (3) passing Python objects instead of tensors. For (1), please define your @tf.function outside of the loop. For (2), @tf.function has reduce_retracing=True option that can avoid unnecessary retracing. For (3), please refer to https://www.tensorflow.org/guide/function#controlling_retracing and https://www.tensorflow.org/api_docs/python/tf/function for  more details.
1/1 [==============================] - ETA: 0s
1/1 [==============================] - 0s 95ms/step
WARNING:tensorflow:6 out of the last 6 calls to <function Model.make_predict_function.<locals>.predict_function at 0x2c3d2b2e0> triggered tf.function retracing. Tracing is expensive and the excessive number of tracings could be due to (1) creating @tf.function repeatedly in a loop, (2) passing tensors with different shapes, (3) passing Python objects instead of tensors. For (1), please define your @tf.function outside of the loop. For (2), @tf.function has reduce_retracing=True option that can avoid unnecessary retracing. For (3), please refer to https://www.tensorflow.org/guide/function#controlling_retracing and https://www.tensorflow.org/api_docs/python/tf/function for  more details.
1/1 [==============================] - ETA: 0s
1/1 [==============================] - 0s 115ms/step
Checking input...
demo_decomposed_contrasts_human_rds  already present in cache at: /Users/biocbuild/Library/Caches/org.R-project.R/R/ExperimentHub/human_v212_NDF_c100_DEMOse.rds
updating resource /Users/biocbuild/Library/Caches/org.R-project.R/R/ExperimentHub/human_v212_NDF_c100_DEMOse.rds
demo_decomposed_contrasts_human_hdf5  already present in cache at: /Users/biocbuild/Library/Caches/org.R-project.R/R/ExperimentHub/human_v212_NDF_c100_DEMOassays.h5
updating resource /Users/biocbuild/Library/Caches/org.R-project.R/R/ExperimentHub/human_v212_NDF_c100_DEMOassays.h5
Detecting feature ids-type...
Feature ids-type detected: GENE_SYMBOL
18051/18051 provided input features mapped against a total of 20411 model features.
2360 missing features will be set to 0.
--> Missing features corresponding to non/lowly expressed genes in your context(s) are of no consequence.
--> The model is robust to small fractions (<10%) of missing genes that are expressed in your context(s).
--> Increased numbers of missing expressed genes in your input might result in model performance decline.
Preparing input...
Encoding context...
see ?orthosData and browseVignettes('orthosData') for documentation
loading from cache
WARNING:tensorflow:No training configuration found in the save file, so the model was *not* compiled. Compile it manually.
1/1 [==============================] - ETA: 0s
1/1 [==============================] - 0s 81ms/step
Encoding and decoding contrasts...
see ?orthosData and browseVignettes('orthosData') for documentation
loading from cache
WARNING:tensorflow:No training configuration found in the save file, so the model was *not* compiled. Compile it manually.
see ?orthosData and browseVignettes('orthosData') for documentation
loading from cache
WARNING:tensorflow:No training configuration found in the save file, so the model was *not* compiled. Compile it manually.
1/1 [==============================] - ETA: 0s
1/1 [==============================] - 0s 108ms/step
1/1 [==============================] - ETA: 0s
1/1 [==============================] - 0s 102ms/step
Preparing output...
Done!
Checking input...
demo_decomposed_contrasts_mouse_rds  already present in cache at: /Users/biocbuild/Library/Caches/org.R-project.R/R/ExperimentHub/mouse_v212_NDF_c100_DEMOse.rds
updating resource /Users/biocbuild/Library/Caches/org.R-project.R/R/ExperimentHub/mouse_v212_NDF_c100_DEMOse.rds
demo_decomposed_contrasts_mouse_hdf5  already present in cache at: /Users/biocbuild/Library/Caches/org.R-project.R/R/ExperimentHub/mouse_v212_NDF_c100_DEMOassays.h5
updating resource /Users/biocbuild/Library/Caches/org.R-project.R/R/ExperimentHub/mouse_v212_NDF_c100_DEMOassays.h5
Detecting feature ids-type...
Feature ids-type detected: GENE_SYMBOL
19774/19776 provided input features mapped against a total of 20339 model features.
565 missing features will be set to 0.
--> Missing features corresponding to non/lowly expressed genes in your context(s) are of no consequence.
--> The model is robust to small fractions (<10%) of missing genes that are expressed in your context(s).
--> Increased numbers of missing expressed genes in your input might result in model performance decline.
Preparing input...
Encoding context...
see ?orthosData and browseVignettes('orthosData') for documentation
loading from cache
WARNING:tensorflow:No training configuration found in the save file, so the model was *not* compiled. Compile it manually.
1/1 [==============================] - ETA: 0s
1/1 [==============================] - 0s 73ms/step
Encoding and decoding contrasts...
see ?orthosData and browseVignettes('orthosData') for documentation
loading from cache
WARNING:tensorflow:No training configuration found in the save file, so the model was *not* compiled. Compile it manually.
see ?orthosData and browseVignettes('orthosData') for documentation
loading from cache
WARNING:tensorflow:No training configuration found in the save file, so the model was *not* compiled. Compile it manually.
1/1 [==============================] - ETA: 0s
1/1 [==============================] - 0s 93ms/step
1/1 [==============================] - ETA: 0s
1/1 [==============================] - 0s 102ms/step
Preparing output...
Done!
2025-10-15 06:50:39.267 R[49434:458638614] XType: Using static font registry.
demo_decomposed_contrasts_human_rds  already present in cache at: /Users/biocbuild/Library/Caches/org.R-project.R/R/ExperimentHub/human_v212_NDF_c100_DEMOse.rds
updating resource /Users/biocbuild/Library/Caches/org.R-project.R/R/ExperimentHub/human_v212_NDF_c100_DEMOse.rds
demo_decomposed_contrasts_human_hdf5  already present in cache at: /Users/biocbuild/Library/Caches/org.R-project.R/R/ExperimentHub/human_v212_NDF_c100_DEMOassays.h5
updating resource /Users/biocbuild/Library/Caches/org.R-project.R/R/ExperimentHub/human_v212_NDF_c100_DEMOassays.h5
demo_decomposed_contrasts_mouse_rds  already present in cache at: /Users/biocbuild/Library/Caches/org.R-project.R/R/ExperimentHub/mouse_v212_NDF_c100_DEMOse.rds
updating resource /Users/biocbuild/Library/Caches/org.R-project.R/R/ExperimentHub/mouse_v212_NDF_c100_DEMOse.rds
demo_decomposed_contrasts_mouse_hdf5  already present in cache at: /Users/biocbuild/Library/Caches/org.R-project.R/R/ExperimentHub/mouse_v212_NDF_c100_DEMOassays.h5
updating resource /Users/biocbuild/Library/Caches/org.R-project.R/R/ExperimentHub/mouse_v212_NDF_c100_DEMOassays.h5
demo_decomposed_contrasts_human_rds  already present in cache at: /Users/biocbuild/Library/Caches/org.R-project.R/R/ExperimentHub/human_v212_NDF_c100_DEMOse.rds
updating resource /Users/biocbuild/Library/Caches/org.R-project.R/R/ExperimentHub/human_v212_NDF_c100_DEMOse.rds
demo_decomposed_contrasts_human_hdf5  already present in cache at: /Users/biocbuild/Library/Caches/org.R-project.R/R/ExperimentHub/human_v212_NDF_c100_DEMOassays.h5
updating resource /Users/biocbuild/Library/Caches/org.R-project.R/R/ExperimentHub/human_v212_NDF_c100_DEMOassays.h5
see ?orthosData and browseVignettes('orthosData') for documentation
loading from cache
WARNING:tensorflow:No training configuration found in the save file, so the model was *not* compiled. Compile it manually.
1/1 [==============================] - ETA: 0s
1/1 [==============================] - 0s 75ms/step
see ?orthosData and browseVignettes('orthosData') for documentation
loading from cache
WARNING:tensorflow:No training configuration found in the save file, so the model was *not* compiled. Compile it manually.
see ?orthosData and browseVignettes('orthosData') for documentation
loading from cache
WARNING:tensorflow:No training configuration found in the save file, so the model was *not* compiled. Compile it manually.
1/1 [==============================] - ETA: 0s
1/1 [==============================] - 0s 108ms/step
1/1 [==============================] - ETA: 0s
1/1 [==============================] - 0s 108ms/step
demo_decomposed_contrasts_human_rds  already present in cache at: /Users/biocbuild/Library/Caches/org.R-project.R/R/ExperimentHub/human_v212_NDF_c100_DEMOse.rds
updating resource /Users/biocbuild/Library/Caches/org.R-project.R/R/ExperimentHub/human_v212_NDF_c100_DEMOse.rds
demo_decomposed_contrasts_human_hdf5  already present in cache at: /Users/biocbuild/Library/Caches/org.R-project.R/R/ExperimentHub/human_v212_NDF_c100_DEMOassays.h5
updating resource /Users/biocbuild/Library/Caches/org.R-project.R/R/ExperimentHub/human_v212_NDF_c100_DEMOassays.h5
provided contrast:  INPUT_CONTRASTS
provided contrast:  DECODED_CONTRASTS
provided contrast:  RESIDUAL_CONTRASTS
Loading contrast database...
demo_decomposed_contrasts_human_rds  already present in cache at: /Users/biocbuild/Library/Caches/org.R-project.R/R/ExperimentHub/human_v212_NDF_c100_DEMOse.rds
updating resource /Users/biocbuild/Library/Caches/org.R-project.R/R/ExperimentHub/human_v212_NDF_c100_DEMOse.rds
demo_decomposed_contrasts_human_hdf5  already present in cache at: /Users/biocbuild/Library/Caches/org.R-project.R/R/ExperimentHub/human_v212_NDF_c100_DEMOassays.h5
updating resource /Users/biocbuild/Library/Caches/org.R-project.R/R/ExperimentHub/human_v212_NDF_c100_DEMOassays.h5
Thresholding genes...
Querying contrast database with INPUT_CONTRASTS...
  |                                                                            
  |                                                                      |   0%
  |                                                                            
  |===================================                                   |  50%
  |                                                                            
  |======================================================================| 100%
Querying contrast database with DECODED_CONTRASTS...
  |                                                                            
  |                                                                      |   0%
  |                                                                            
  |===================================                                   |  50%
  |                                                                            
  |======================================================================| 100%
Querying contrast database with RESIDUAL_CONTRASTS...
  |                                                                            
  |                                                                      |   0%
  |                                                                            
  |===================================                                   |  50%
  |                                                                            
  |======================================================================| 100%
Compiling query statistics...
Done!
[ FAIL 0 | WARN 0 | SKIP 1 | PASS 229 ]
══ Skipped tests (1) ═══════════════════════════════════════════════════════════
• cannot test `mustWork` when data is available (1): 'test-decomposeVar.R:66:5'
[ FAIL 0 | WARN 0 | SKIP 1 | PASS 229 ]
> 
> proc.time()
   user  system elapsed 
186.605  32.308 293.917 
orthos.Rcheck/orthos-Ex.timings
| name | user | system | elapsed | |
| decomposeVar | 43.201 | 9.200 | 64.899 | |
| loadContrastDatabase | 6.295 | 0.468 | 12.038 | |
| plotQueryResultsManh | 50.714 | 10.948 | 54.402 | |
| plotQueryResultsViolin | 46.861 | 12.286 | 47.194 | |
| queryWithContrasts | 45.868 | 12.957 | 47.183 | |
| testOrthosEnv | 0.007 | 0.003 | 0.012 | |