Back to Multiple platform build/check report for BioC 3.21:   simplified   long
ABCDEFGHIJKLMN[O]PQRSTUVWXYZ

This page was generated on 2025-08-11 11:46 -0400 (Mon, 11 Aug 2025).

HostnameOSArch (*)R versionInstalled pkgs
nebbiolo1Linux (Ubuntu 24.04.2 LTS)x86_644.5.1 (2025-06-13) -- "Great Square Root" 4823
palomino7Windows Server 2022 Datacenterx644.5.1 (2025-06-13 ucrt) -- "Great Square Root" 4565
merida1macOS 12.7.5 Montereyx86_644.5.1 RC (2025-06-05 r88288) -- "Great Square Root" 4603
kjohnson1macOS 13.6.6 Venturaarm644.5.1 Patched (2025-06-14 r88325) -- "Great Square Root" 4544
kunpeng2Linux (openEuler 24.03 LTS)aarch64R Under development (unstable) (2025-02-19 r87757) -- "Unsuffered Consequences" 4579
Click on any hostname to see more info about the system (e.g. compilers)      (*) as reported by 'uname -p', except on Windows and Mac OS X

Package 1492/2341HostnameOS / ArchINSTALLBUILDCHECKBUILD BIN
ontoProc 2.2.3  (landing page)
Vincent Carey
Snapshot Date: 2025-08-07 13:40 -0400 (Thu, 07 Aug 2025)
git_url: https://git.bioconductor.org/packages/ontoProc
git_branch: RELEASE_3_21
git_last_commit: 17f883d
git_last_commit_date: 2025-08-02 05:50:41 -0400 (Sat, 02 Aug 2025)
nebbiolo1Linux (Ubuntu 24.04.2 LTS) / x86_64  OK    ERROR  skipped
palomino7Windows Server 2022 Datacenter / x64  OK    OK    OK    OK  YES
merida1macOS 12.7.5 Monterey / x86_64  OK    OK    OK    OK  YES
kjohnson1macOS 13.6.6 Ventura / arm64  OK    OK    OK    OK  YES
kunpeng2Linux (openEuler 24.03 LTS) / aarch64  OK    OK    OK  


CHECK results for ontoProc on kjohnson1

To the developers/maintainers of the ontoProc package:
- Allow up to 24 hours (and sometimes 48 hours) for your latest push to git@git.bioconductor.org:packages/ontoProc.git to reflect on this report. See Troubleshooting Build Report for more information.
- Use the following Renviron settings to reproduce errors and warnings.
- If 'R CMD check' started to fail recently on the Linux builder(s) over a missing dependency, add the missing dependency to 'Suggests:' in your DESCRIPTION file. See Renviron.bioc for more information.

raw results


Summary

Package: ontoProc
Version: 2.2.3
Command: /Library/Frameworks/R.framework/Resources/bin/R CMD check --install=check:ontoProc.install-out.txt --library=/Library/Frameworks/R.framework/Resources/library --no-vignettes --timings ontoProc_2.2.3.tar.gz
StartedAt: 2025-08-09 05:03:32 -0400 (Sat, 09 Aug 2025)
EndedAt: 2025-08-09 05:17:14 -0400 (Sat, 09 Aug 2025)
EllapsedTime: 822.2 seconds
RetCode: 0
Status:   OK  
CheckDir: ontoProc.Rcheck
Warnings: 0

Command output

##############################################################################
##############################################################################
###
### Running command:
###
###   /Library/Frameworks/R.framework/Resources/bin/R CMD check --install=check:ontoProc.install-out.txt --library=/Library/Frameworks/R.framework/Resources/library --no-vignettes --timings ontoProc_2.2.3.tar.gz
###
##############################################################################
##############################################################################


* using log directory ‘/Users/biocbuild/bbs-3.21-bioc/meat/ontoProc.Rcheck’
* using R version 4.5.1 Patched (2025-06-14 r88325)
* using platform: aarch64-apple-darwin20
* R was compiled by
    Apple clang version 16.0.0 (clang-1600.0.26.6)
    GNU Fortran (GCC) 14.2.0
* running under: macOS Ventura 13.7.5
* using session charset: UTF-8
* using option ‘--no-vignettes’
* checking for file ‘ontoProc/DESCRIPTION’ ... OK
* this is package ‘ontoProc’ version ‘2.2.3’
* package encoding: UTF-8
* checking package namespace information ... OK
* checking package dependencies ... OK
* checking if this is a source package ... OK
* checking if there is a namespace ... OK
* checking for hidden files and directories ... OK
* checking for portable file names ... OK
* checking for sufficient/correct file permissions ... OK
* checking whether package ‘ontoProc’ can be installed ... OK
* checking installed package size ... INFO
  installed size is 10.4Mb
  sub-directories of 1Mb or more:
    app       1.9Mb
    data      1.8Mb
    ontoRda   2.8Mb
    owl       3.3Mb
* checking package directory ... OK
* checking ‘build’ directory ... OK
* checking DESCRIPTION meta-information ... OK
* checking top-level files ... OK
* checking for left-over files ... OK
* checking index information ... OK
* checking package subdirectories ... OK
* checking code files for non-ASCII characters ... OK
* checking R files for syntax errors ... OK
* checking whether the package can be loaded ... OK
* checking whether the package can be loaded with stated dependencies ... OK
* checking whether the package can be unloaded cleanly ... OK
* checking whether the namespace can be loaded with stated dependencies ... OK
* checking whether the namespace can be unloaded cleanly ... OK
* checking dependencies in R code ... NOTE
':::' call which should be '::': ‘ontologyPlot:::remove_uninformative_terms’
  See the note in ?`:::` about the use of this operator.
* checking S3 generic/method consistency ... OK
* checking replacement functions ... OK
* checking foreign function calls ... OK
* checking R code for possible problems ... NOTE
CLfeat : prupdate: no visible binding for global variable ‘PROSYM’
CLfeat : prupdate: no visible binding for global variable ‘PRID’
CLfeat : prupdate: no visible binding for global variable ‘SYMBOL’
ctmarks : server: no visible binding for global variable ‘text’
ctmarks : server: no visible binding for global variable ‘packDesc2022’
ctmarks : server: no visible binding for global variable ‘packDesc2021’
ctmarks: no visible binding for global variable ‘cumu’
dropStop: no visible binding for global variable ‘stopWords’
getOnto: no visible binding for global variable ‘rdatadateadded’
getOnto: no visible binding for global variable ‘title’
getOnto: no visible binding for global variable ‘description’
ldfToTerm: no visible binding for global variable ‘PROSYM’
sym2CellOnto: no visible binding for global variable ‘PROSYM’
sym2CellOnto: no visible binding for global variable ‘SYMBOL’
Undefined global functions or variables:
  PRID PROSYM SYMBOL cumu description packDesc2021 packDesc2022
  rdatadateadded stopWords text title
Consider adding
  importFrom("graphics", "text", "title")
to your NAMESPACE file.
* checking Rd files ... OK
* checking Rd metadata ... OK
* checking Rd cross-references ... NOTE
Found the following Rd file(s) with Rd \link{} targets missing package
anchors:
  findCommonAncestors.Rd: graph, DataFrame-class, List-class
Please provide package anchors for all Rd \link{} targets not in the
package itself and the base packages.
* checking for missing documentation entries ... OK
* checking for code/documentation mismatches ... OK
* checking Rd \usage sections ... NOTE
S3 methods shown with full name in Rd file 'plot.owlents.Rd':
  ‘plot.owlents’

The \usage entries for S3 methods should use the \method markup and not
their full name.
See chapter ‘Writing R documentation files’ in the ‘Writing R
Extensions’ manual.
* checking Rd contents ... OK
* checking for unstated dependencies in examples ... OK
* checking contents of ‘data’ directory ... OK
* checking data for non-ASCII characters ... OK
* checking data for ASCII and uncompressed saves ... OK
* checking files in ‘vignettes’ ... OK
* checking examples ... OK
Examples with CPU (user + system) or elapsed time > 5s
                                   user system elapsed
sym2CellOnto                     58.305  1.075  65.952
CLfeats                          39.265  1.549  44.833
siblings_TAG                     30.119  1.274  51.765
owl2cache                        20.623  0.401  21.051
getLeavesFromTerm                19.775  0.455  21.189
labels.owlents                   18.357  0.399  18.779
fastGrep                         16.875  0.485  18.579
nomenCheckup                     15.852  0.480  17.200
common_classes                   14.601  0.876  16.505
ancestors                        14.601  0.664  14.814
cleanCLOnames                    14.149  0.453  15.769
getOnto                          10.827  0.412  12.444
liberalMap                       10.393  0.421  11.748
TermSet-class                    10.204  0.494  11.864
make_graphNEL_from_ontology_plot  9.883  0.490  11.568
ontoDiff                          9.576  0.742  12.298
findCommonAncestors               9.467  0.519  11.219
secLevGen                         9.102  0.426  10.538
onto_plot2                        8.504  0.383   9.657
selectFromMap                     8.471  0.344   9.773
mapOneNaive                       8.083  0.380   9.462
plot.owlents                      6.219  0.210   6.432
subclasses                        3.706  0.074   6.106
setup_entities                    3.476  0.058   5.452
search_labels                     0.485  0.027  22.763
bioregistry_ols_resources         0.057  0.022  20.106
* checking for unstated dependencies in ‘tests’ ... OK
* checking tests ...
  Running ‘test.R’
 OK
* checking for unstated dependencies in vignettes ... OK
* checking package vignettes ... OK
* checking running R code from vignettes ... SKIPPED
* checking re-building of vignette outputs ... SKIPPED
* checking PDF version of manual ... OK
* DONE

Status: 4 NOTEs
See
  ‘/Users/biocbuild/bbs-3.21-bioc/meat/ontoProc.Rcheck/00check.log’
for details.


Installation output

ontoProc.Rcheck/00install.out

##############################################################################
##############################################################################
###
### Running command:
###
###   /Library/Frameworks/R.framework/Resources/bin/R CMD INSTALL ontoProc
###
##############################################################################
##############################################################################


* installing to library ‘/Library/Frameworks/R.framework/Versions/4.5-arm64/Resources/library’
* installing *source* package ‘ontoProc’ ...
** this is package ‘ontoProc’ version ‘2.2.3’
** using staged installation
** R
** data
** inst
** byte-compile and prepare package for lazy loading
** help
*** installing help indices
** building package indices
** installing vignettes
** testing if installed package can be loaded from temporary location
** testing if installed package can be loaded from final location
** testing if installed package keeps a record of temporary installation path
* DONE (ontoProc)

Tests output

ontoProc.Rcheck/tests/test.Rout


R version 4.5.1 Patched (2025-06-14 r88325) -- "Great Square Root"
Copyright (C) 2025 The R Foundation for Statistical Computing
Platform: aarch64-apple-darwin20

R is free software and comes with ABSOLUTELY NO WARRANTY.
You are welcome to redistribute it under certain conditions.
Type 'license()' or 'licence()' for distribution details.

R is a collaborative project with many contributors.
Type 'contributors()' for more information and
'citation()' on how to cite R or R packages in publications.

Type 'demo()' for some demos, 'help()' for on-line help, or
'help.start()' for an HTML browser interface to help.
Type 'q()' to quit R.

> 
> library(ontoProc)
Loading required package: ontologyIndex
> library(testthat)
> 
> test_check("ontoProc")
[ FAIL 0 | WARN 0 | SKIP 0 | PASS 12 ]
> 
> 
> proc.time()
   user  system elapsed 
 78.911   3.348  89.879 

Example timings

ontoProc.Rcheck/ontoProc-Ex.timings

nameusersystemelapsed
CLfeats39.265 1.54944.833
PROSYM0.3580.0050.365
TermSet-class10.204 0.49411.864
allGOterms0.1350.0100.145
ancestors14.601 0.66414.814
ancestors_names3.3850.0523.444
bioregistry_ols_resources 0.057 0.02220.106
cellTypeToGO2.2150.1212.356
children_names3.3100.0543.377
cleanCLOnames14.149 0.45315.769
common_classes14.601 0.87616.505
ctmarks0.0010.0000.000
cyclicSigset0.0060.0000.006
demoApp0.0000.0010.000
dropStop0.0040.0020.006
fastGrep16.875 0.48518.579
findCommonAncestors 9.467 0.51911.219
getLeavesFromTerm19.775 0.45521.189
getOnto10.827 0.41212.444
humrna0.0090.0020.010
labels.owlents18.357 0.39918.779
ldfToTerms3.6480.0523.701
liberalMap10.393 0.42111.748
makeSelectInput0.0000.0000.001
make_graphNEL_from_ontology_plot 9.883 0.49011.568
mapOneNaive8.0830.3809.462
minicorpus0.0010.0030.003
nomenCheckup15.852 0.48017.200
ontoDiff 9.576 0.74212.298
onto_plot28.5040.3839.657
onto_roots0.0010.0000.000
owl2cache20.623 0.40121.051
packDesc20190.0040.0020.006
packDesc20210.0020.0020.005
packDesc20220.0020.0010.004
packDesc20230.0020.0060.009
parents3.4730.0493.523
plot.owlents6.2190.2106.432
quickOnto0.3240.0210.346
recognizedPredicates0.0010.0000.000
search_labels 0.485 0.02722.763
secLevGen 9.102 0.42610.538
selectFromMap8.4710.3449.773
setup_entities3.4760.0585.452
setup_entities20.9540.0341.576
seur3kTab0.0030.0010.005
siblings_TAG30.119 1.27451.765
stopWords0.0010.0020.004
subclasses3.7060.0746.106
sym2CellOnto58.305 1.07565.952
valid_ontonames000