Back to Multiple platform build/check report for BioC 3.22:   simplified   long
ABCDEFGHIJKLMN[O]PQRSTUVWXYZ

This page was generated on 2025-10-31 12:03 -0400 (Fri, 31 Oct 2025).

HostnameOSArch (*)R versionInstalled pkgs
nebbiolo2Linux (Ubuntu 24.04.3 LTS)x86_644.5.1 Patched (2025-08-23 r88802) -- "Great Square Root" 4901
lconwaymacOS 12.7.6 Montereyx86_644.5.1 Patched (2025-09-10 r88807) -- "Great Square Root" 4691
kjohnson3macOS 13.7.7 Venturaarm644.5.1 Patched (2025-09-10 r88807) -- "Great Square Root" 4637
Click on any hostname to see more info about the system (e.g. compilers)      (*) as reported by 'uname -p', except on Windows and Mac OS X

Package 1493/2361HostnameOS / ArchINSTALLBUILDCHECKBUILD BIN
omada 1.12.0  (landing page)
Sokratis Kariotis
Snapshot Date: 2025-10-30 13:45 -0400 (Thu, 30 Oct 2025)
git_url: https://git.bioconductor.org/packages/omada
git_branch: RELEASE_3_22
git_last_commit: 53ba5ea
git_last_commit_date: 2025-10-29 11:18:23 -0400 (Wed, 29 Oct 2025)
nebbiolo2Linux (Ubuntu 24.04.3 LTS) / x86_64  OK    OK    OK  UNNEEDED, same version is already published
lconwaymacOS 12.7.6 Monterey / x86_64  OK    OK    OK    OK  UNNEEDED, same version is already published
kjohnson3macOS 13.7.7 Ventura / arm64  OK    OK    OK    OK  UNNEEDED, same version is already published


CHECK results for omada on nebbiolo2

To the developers/maintainers of the omada package:
- Allow up to 24 hours (and sometimes 48 hours) for your latest push to git@git.bioconductor.org:packages/omada.git to reflect on this report. See Troubleshooting Build Report for more information.
- Use the following Renviron settings to reproduce errors and warnings.
- If 'R CMD check' started to fail recently on the Linux builder(s) over a missing dependency, add the missing dependency to 'Suggests:' in your DESCRIPTION file. See Renviron.bioc for more information.

raw results


Summary

Package: omada
Version: 1.12.0
Command: /home/biocbuild/bbs-3.22-bioc/R/bin/R CMD check --install=check:omada.install-out.txt --library=/home/biocbuild/bbs-3.22-bioc/R/site-library --timings omada_1.12.0.tar.gz
StartedAt: 2025-10-31 02:13:11 -0400 (Fri, 31 Oct 2025)
EndedAt: 2025-10-31 02:28:12 -0400 (Fri, 31 Oct 2025)
EllapsedTime: 901.2 seconds
RetCode: 0
Status:   OK  
CheckDir: omada.Rcheck
Warnings: 0

Command output

##############################################################################
##############################################################################
###
### Running command:
###
###   /home/biocbuild/bbs-3.22-bioc/R/bin/R CMD check --install=check:omada.install-out.txt --library=/home/biocbuild/bbs-3.22-bioc/R/site-library --timings omada_1.12.0.tar.gz
###
##############################################################################
##############################################################################


* using log directory ‘/home/biocbuild/bbs-3.22-bioc/meat/omada.Rcheck’
* using R version 4.5.1 Patched (2025-08-23 r88802)
* using platform: x86_64-pc-linux-gnu
* R was compiled by
    gcc (Ubuntu 13.3.0-6ubuntu2~24.04) 13.3.0
    GNU Fortran (Ubuntu 13.3.0-6ubuntu2~24.04) 13.3.0
* running under: Ubuntu 24.04.3 LTS
* using session charset: UTF-8
* checking for file ‘omada/DESCRIPTION’ ... OK
* checking extension type ... Package
* this is package ‘omada’ version ‘1.12.0’
* package encoding: UTF-8
* checking package namespace information ... OK
* checking package dependencies ... INFO
Depends: includes the non-default packages:
  'pdfCluster', 'kernlab', 'fpc', 'Rcpp', 'diceR', 'ggplot2',
  'reshape', 'genieclust', 'clValid', 'glmnet', 'dplyr'
Adding so many packages to the search path is excessive and importing
selectively is preferable.
* checking if this is a source package ... OK
* checking if there is a namespace ... OK
* checking for hidden files and directories ... OK
* checking for portable file names ... OK
* checking for sufficient/correct file permissions ... OK
* checking whether package ‘omada’ can be installed ... OK
* checking installed package size ... OK
* checking package directory ... OK
* checking ‘build’ directory ... OK
* checking DESCRIPTION meta-information ... OK
* checking top-level files ... NOTE
File
  LICENSE
is not mentioned in the DESCRIPTION file.
* checking for left-over files ... OK
* checking index information ... OK
* checking package subdirectories ... OK
* checking code files for non-ASCII characters ... OK
* checking R files for syntax errors ... OK
* checking whether the package can be loaded ... OK
* checking whether the package can be loaded with stated dependencies ... OK
* checking whether the package can be unloaded cleanly ... OK
* checking whether the namespace can be loaded with stated dependencies ... OK
* checking whether the namespace can be unloaded cleanly ... OK
* checking loading without being on the library search path ... OK
* checking dependencies in R code ... NOTE
Packages in Depends field not imported from:
  ‘Rcpp’ ‘dplyr’ ‘genieclust’ ‘glmnet’ ‘kernlab’ ‘reshape’
  These packages need to be imported from (in the NAMESPACE file)
  for when this namespace is loaded but not attached.
* checking S3 generic/method consistency ... OK
* checking replacement functions ... OK
* checking foreign function calls ... OK
* checking R code for possible problems ... NOTE
Index.15and28: no visible global function definition for ‘dist’
Index.15and28: no visible global function definition for ‘as.dist’
Index.sPlussMoins: no visible global function definition for ‘dist’
Index.sPlussMoins: no visible global function definition for ‘as.dist’
Index.sPlussMoins: no visible global function definition for ‘median’
Indice.cindex: no visible global function definition for ‘dist’
clusterVoting: no visible global function definition for ‘calinhara’
clusterVoting: no visible global function definition for
  ‘generalised_dunn_index’
clusterVoting: no visible global function definition for
  ‘silhouette_index’
clusterVoting: no visible global function definition for
  ‘negated_davies_bouldin_index’
clusterVoting: no visible binding for global variable ‘k’
clusterVoting: no visible binding for global variable ‘Frequency’
clusteringMethodSelection: no visible binding for global variable
  ‘value’
clusteringMethodSelection: no visible binding for global variable
  ‘methods’
featureSelection: no visible binding for global variable ‘featureSet’
featureSelection: no visible binding for global variable ‘means’
Undefined global functions or variables:
  Frequency as.dist calinhara dist featureSet generalised_dunn_index k
  means median methods negated_davies_bouldin_index silhouette_index
  value
Consider adding
  importFrom("stats", "as.dist", "dist", "median")
  importFrom("utils", "methods")
to your NAMESPACE file.
* checking Rd files ... OK
* checking Rd metadata ... OK
* checking Rd cross-references ... OK
* checking for missing documentation entries ... OK
* checking for code/documentation mismatches ... OK
* checking Rd \usage sections ... OK
* checking Rd contents ... OK
* checking for unstated dependencies in examples ... OK
* checking contents of ‘data’ directory ... OK
* checking data for non-ASCII characters ... OK
* checking LazyData ... OK
* checking data for ASCII and uncompressed saves ... OK
* checking files in ‘vignettes’ ... OK
* checking examples ... OK
Examples with CPU (user + system) or elapsed time > 5s
                                                   user system elapsed
get_feature_selection_scores                     43.012  0.061  43.073
get_feature_selection_optimal_number_of_features 40.742  0.095  40.837
get_cluster_voting_memberships                   30.886  0.192  31.077
get_cluster_voting_k_votes                       29.968  0.110  30.080
get_cluster_voting_metric_votes                  29.522  0.110  29.631
get_cluster_voting_scores                        29.520  0.049  29.572
plot_partition_agreement                         29.001  0.012  29.012
get_partition_agreement_scores                   28.614  0.021  28.635
get_feature_selection_optimal_features           26.880  0.106  26.991
get_sample_memberships                           26.818  0.088  26.905
plot_feature_selection                           26.602  0.017  26.619
omada                                            23.725  0.060  23.930
plot_cluster_voting                              21.887  0.015  21.903
get_optimal_number_of_features                    9.826  0.007   9.832
get_optimal_features                              9.764  0.010   9.774
plot_average_stabilities                          9.555  0.010   9.565
get_optimal_parameter_used                        8.434  0.008   8.442
get_optimal_memberships                           8.088  0.005   8.092
featureSelection                                  7.119  0.099   7.218
get_optimal_stability_score                       7.107  0.007   7.113
* checking for unstated dependencies in ‘tests’ ... OK
* checking tests ...
  Running ‘testthat.R’
 OK
* checking for unstated dependencies in vignettes ... OK
* checking package vignettes ... OK
* checking re-building of vignette outputs ... OK
* checking PDF version of manual ... OK
* DONE

Status: 3 NOTEs
See
  ‘/home/biocbuild/bbs-3.22-bioc/meat/omada.Rcheck/00check.log’
for details.


Installation output

omada.Rcheck/00install.out

##############################################################################
##############################################################################
###
### Running command:
###
###   /home/biocbuild/bbs-3.22-bioc/R/bin/R CMD INSTALL omada
###
##############################################################################
##############################################################################


* installing to library ‘/home/biocbuild/bbs-3.22-bioc/R/site-library’
* installing *source* package ‘omada’ ...
** this is package ‘omada’ version ‘1.12.0’
** using staged installation
** R
** data
*** moving datasets to lazyload DB
** inst
** byte-compile and prepare package for lazy loading
** help
*** installing help indices
** building package indices
** installing vignettes
** testing if installed package can be loaded from temporary location
** testing if installed package can be loaded from final location
** testing if installed package keeps a record of temporary installation path
* DONE (omada)

Tests output

omada.Rcheck/tests/testthat.Rout


R version 4.5.1 Patched (2025-08-23 r88802) -- "Great Square Root"
Copyright (C) 2025 The R Foundation for Statistical Computing
Platform: x86_64-pc-linux-gnu

R is free software and comes with ABSOLUTELY NO WARRANTY.
You are welcome to redistribute it under certain conditions.
Type 'license()' or 'licence()' for distribution details.

R is a collaborative project with many contributors.
Type 'contributors()' for more information and
'citation()' on how to cite R or R packages in publications.

Type 'demo()' for some demos, 'help()' for on-line help, or
'help.start()' for an HTML browser interface to help.
Type 'q()' to quit R.

> library(testthat)
> library(omada)
Loading required package: pdfCluster
pdfCluster 1.0-4
Loading required package: kernlab
Loading required package: fpc
Loading required package: Rcpp
Loading required package: diceR
Loading required package: ggplot2

Attaching package: 'ggplot2'

The following object is masked from 'package:kernlab':

    alpha

Loading required package: reshape
Loading required package: genieclust
Loading required package: clValid
Loading required package: cluster
Loading required package: glmnet
Loading required package: Matrix

Attaching package: 'Matrix'

The following object is masked from 'package:reshape':

    expand

Loaded glmnet 4.1-10
Loading required package: dplyr

Attaching package: 'dplyr'

The following object is masked from 'package:reshape':

    rename

The following object is masked from 'package:pdfCluster':

    groups

The following object is masked from 'package:testthat':

    matches

The following objects are masked from 'package:stats':

    filter, lag

The following objects are masked from 'package:base':

    intersect, setdiff, setequal, union

> 
> test_check("omada")
[ FAIL 0 | WARN 1 | SKIP 0 | PASS 38 ]

[ FAIL 0 | WARN 1 | SKIP 0 | PASS 38 ]
> 
> proc.time()
   user  system elapsed 
 97.442   1.222 111.161 

Example timings

omada.Rcheck/omada-Ex.timings

nameusersystemelapsed
clusterVoting3.4670.0723.540
clusteringMethodSelection1.2480.0071.254
feasibilityAnalysis1.1440.0021.146
feasibilityAnalysisDataBased2.8800.0622.942
featureSelection7.1190.0997.218
get_agreement_scores0.1590.0070.165
get_average_feature_k_stabilities4.8570.0414.898
get_average_stabilities_per_k0.7760.0270.805
get_average_stability0.8150.0010.816
get_cluster_memberships_k0.7430.0090.752
get_cluster_voting_k_votes29.968 0.11030.080
get_cluster_voting_memberships30.886 0.19231.077
get_cluster_voting_metric_votes29.522 0.11029.631
get_cluster_voting_scores29.520 0.04929.572
get_feature_selection_optimal_features26.880 0.10626.991
get_feature_selection_optimal_number_of_features40.742 0.09540.837
get_feature_selection_scores43.012 0.06143.073
get_generated_dataset3.2400.0023.242
get_internal_metric_scores0.7360.0040.741
get_max_stability0.7850.0080.793
get_metric_votes_k0.7390.0570.796
get_optimal_features9.7640.0109.774
get_optimal_memberships8.0880.0058.092
get_optimal_number_of_features9.8260.0079.832
get_optimal_parameter_used8.4340.0088.442
get_optimal_stability_score7.1070.0077.113
get_partition_agreement_scores28.614 0.02128.635
get_sample_memberships26.818 0.08826.905
get_vote_frequencies_k1.0160.0031.018
omada23.725 0.06023.930
optimalClustering0.080.000.08
partitionAgreement0.6550.0050.661
plot_average_stabilities9.5550.0109.565
plot_cluster_voting21.887 0.01521.903
plot_feature_selection26.602 0.01726.619
plot_partition_agreement29.001 0.01229.012
plot_vote_frequencies0.9570.0000.957
toy_gene_memberships0.0110.0020.013
toy_genes0.0010.0000.001