| Back to Multiple platform build/check report for BioC 3.21: simplified long |
|
This page was generated on 2025-10-16 11:41 -0400 (Thu, 16 Oct 2025).
| Hostname | OS | Arch (*) | R version | Installed pkgs |
|---|---|---|---|---|
| nebbiolo1 | Linux (Ubuntu 24.04.3 LTS) | x86_64 | 4.5.1 (2025-06-13) -- "Great Square Root" | 4833 |
| merida1 | macOS 12.7.6 Monterey | x86_64 | 4.5.1 RC (2025-06-05 r88288) -- "Great Square Root" | 4614 |
| kjohnson1 | macOS 13.7.5 Ventura | arm64 | 4.5.1 Patched (2025-06-14 r88325) -- "Great Square Root" | 4555 |
| kunpeng2 | Linux (openEuler 24.03 LTS) | aarch64 | R Under development (unstable) (2025-02-19 r87757) -- "Unsuffered Consequences" | 4586 |
| Click on any hostname to see more info about the system (e.g. compilers) (*) as reported by 'uname -p', except on Windows and Mac OS X | ||||
| Package 1486/2341 | Hostname | OS / Arch | INSTALL | BUILD | CHECK | BUILD BIN | ||||||||
| omXplore 1.2.3 (landing page) Samuel Wieczorek
| nebbiolo1 | Linux (Ubuntu 24.04.3 LTS) / x86_64 | OK | OK | OK | |||||||||
| merida1 | macOS 12.7.6 Monterey / x86_64 | OK | OK | OK | OK | |||||||||
| kjohnson1 | macOS 13.7.5 Ventura / arm64 | OK | OK | OK | OK | |||||||||
| kunpeng2 | Linux (openEuler 24.03 LTS) / aarch64 | OK | OK | OK | ||||||||||
|
To the developers/maintainers of the omXplore package: - Allow up to 24 hours (and sometimes 48 hours) for your latest push to git@git.bioconductor.org:packages/omXplore.git to reflect on this report. See Troubleshooting Build Report for more information. - Use the following Renviron settings to reproduce errors and warnings. - If 'R CMD check' started to fail recently on the Linux builder(s) over a missing dependency, add the missing dependency to 'Suggests:' in your DESCRIPTION file. See Renviron.bioc for more information. - See Martin Grigorov's blog post for how to debug Linux ARM64 related issues on a x86_64 host. |
| Package: omXplore |
| Version: 1.2.3 |
| Command: /home/biocbuild/R/R/bin/R CMD check --install=check:omXplore.install-out.txt --library=/home/biocbuild/R/R/site-library --no-vignettes --timings omXplore_1.2.3.tar.gz |
| StartedAt: 2025-10-14 12:09:30 -0000 (Tue, 14 Oct 2025) |
| EndedAt: 2025-10-14 12:17:27 -0000 (Tue, 14 Oct 2025) |
| EllapsedTime: 476.8 seconds |
| RetCode: 0 |
| Status: OK |
| CheckDir: omXplore.Rcheck |
| Warnings: 0 |
##############################################################################
##############################################################################
###
### Running command:
###
### /home/biocbuild/R/R/bin/R CMD check --install=check:omXplore.install-out.txt --library=/home/biocbuild/R/R/site-library --no-vignettes --timings omXplore_1.2.3.tar.gz
###
##############################################################################
##############################################################################
* using log directory ‘/home/biocbuild/bbs-3.21-bioc/meat/omXplore.Rcheck’
* using R Under development (unstable) (2025-02-19 r87757)
* using platform: aarch64-unknown-linux-gnu
* R was compiled by
aarch64-unknown-linux-gnu-gcc (GCC) 14.2.0
GNU Fortran (GCC) 14.2.0
* running under: openEuler 24.03 (LTS-SP1)
* using session charset: UTF-8
* using option ‘--no-vignettes’
* checking for file ‘omXplore/DESCRIPTION’ ... OK
* checking extension type ... Package
* this is package ‘omXplore’ version ‘1.2.3’
* package encoding: UTF-8
* checking package namespace information ... OK
* checking package dependencies ... INFO
Imports includes 22 non-default packages.
Importing from so many packages makes the package vulnerable to any of
them becoming unavailable. Move as many as possible to Suggests and
use conditionally.
* checking if this is a source package ... OK
* checking if there is a namespace ... OK
* checking for hidden files and directories ... OK
* checking for portable file names ... OK
* checking for sufficient/correct file permissions ... OK
* checking whether package ‘omXplore’ can be installed ... OK
* checking installed package size ... OK
* checking package directory ... OK
* checking ‘build’ directory ... OK
* checking DESCRIPTION meta-information ... OK
* checking top-level files ... OK
* checking for left-over files ... OK
* checking index information ... OK
* checking package subdirectories ... OK
* checking code files for non-ASCII characters ... OK
* checking R files for syntax errors ... OK
* checking whether the package can be loaded ... OK
* checking whether the package can be loaded with stated dependencies ... OK
* checking whether the package can be unloaded cleanly ... OK
* checking whether the namespace can be loaded with stated dependencies ... OK
* checking whether the namespace can be unloaded cleanly ... OK
* checking loading without being on the library search path ... OK
* checking whether startup messages can be suppressed ... OK
* checking dependencies in R code ... OK
* checking S3 generic/method consistency ... OK
* checking replacement functions ... OK
* checking foreign function calls ... OK
* checking R code for possible problems ... NOTE
Build_X_CC: no visible global function definition for ‘metadata’
Build_X_CC: no visible global function definition for ‘metadata<-’
Check_MSnSet_Consistency : <anonymous>: no visible global function
definition for ‘experimentData’
MAE_Compatibility_with_Prostar_1x : <anonymous>: no visible binding for
global variable ‘.colData’
SE_Compatibility_with_Prostar_1.x: no visible global function
definition for ‘experimentData’
SE_Compatibility_with_Prostar_1.x: no visible global function
definition for ‘metadata’
SE_Compatibility_with_Prostar_1.x: no visible global function
definition for ‘metadata<-’
plots_tracking_server : <anonymous>: no visible global function
definition for ‘updateTextInput’
Undefined global functions or variables:
.colData experimentData metadata metadata<- updateTextInput
* checking Rd files ... OK
* checking Rd metadata ... OK
* checking Rd cross-references ... OK
* checking for missing documentation entries ... OK
* checking for code/documentation mismatches ... OK
* checking Rd \usage sections ... OK
* checking Rd contents ... OK
* checking for unstated dependencies in examples ... OK
* checking contents of ‘data’ directory ... OK
* checking data for non-ASCII characters ... OK
* checking data for ASCII and uncompressed saves ... OK
* checking files in ‘vignettes’ ... OK
* checking examples ... OK
* checking for unstated dependencies in ‘tests’ ... OK
* checking tests ...
Running ‘testthat.R’
OK
* checking for unstated dependencies in vignettes ... OK
* checking package vignettes ... OK
* checking running R code from vignettes ... SKIPPED
* checking re-building of vignette outputs ... SKIPPED
* checking PDF version of manual ... OK
* DONE
Status: 1 NOTE
See
‘/home/biocbuild/bbs-3.21-bioc/meat/omXplore.Rcheck/00check.log’
for details.
omXplore.Rcheck/00install.out
############################################################################## ############################################################################## ### ### Running command: ### ### /home/biocbuild/R/R/bin/R CMD INSTALL omXplore ### ############################################################################## ############################################################################## * installing to library ‘/home/biocbuild/R/R-devel_2025-02-19/site-library’ * installing *source* package ‘omXplore’ ... ** this is package ‘omXplore’ version ‘1.2.3’ ** using staged installation ** R ** data ** inst ** byte-compile and prepare package for lazy loading ** help *** installing help indices ** building package indices ** installing vignettes ** testing if installed package can be loaded from temporary location ** testing if installed package can be loaded from final location ** testing if installed package keeps a record of temporary installation path * DONE (omXplore)
omXplore.Rcheck/tests/testthat.Rout
R Under development (unstable) (2025-02-19 r87757) -- "Unsuffered Consequences"
Copyright (C) 2025 The R Foundation for Statistical Computing
Platform: aarch64-unknown-linux-gnu
R is free software and comes with ABSOLUTELY NO WARRANTY.
You are welcome to redistribute it under certain conditions.
Type 'license()' or 'licence()' for distribution details.
R is a collaborative project with many contributors.
Type 'contributors()' for more information and
'citation()' on how to cite R or R packages in publications.
Type 'demo()' for some demos, 'help()' for on-line help, or
'help.start()' for an HTML browser interface to help.
Type 'q()' to quit R.
> library(testthat)
>
> test_check("omXplore")
Loading required package: omXplore
[ FAIL 0 | WARN 1 | SKIP 0 | PASS 0 ]
[ FAIL 0 | WARN 1 | SKIP 0 | PASS 0 ]
>
> proc.time()
user system elapsed
17.494 0.701 20.806
omXplore.Rcheck/omXplore-Ex.timings
| name | user | system | elapsed | |
| BuildColorStyles | 0 | 0 | 0 | |
| Build_enriched_qdata | 0.000 | 0.000 | 0.001 | |
| GetPkgVersion | 0.073 | 0.008 | 0.081 | |
| Prostar-1x-compatible | 0.004 | 0.000 | 0.005 | |
| accessors | 0.054 | 0.008 | 0.062 | |
| color-legend | 0 | 0 | 0 | |
| converters | 0.074 | 0.004 | 0.077 | |
| corrmatrix | 0 | 0 | 0 | |
| customChart | 0 | 0 | 0 | |
| customExportMenu_HC | 0 | 0 | 0 | |
| density-plot | 0.001 | 0.000 | 0.000 | |
| ds-cc | 0 | 0 | 0 | |
| ds-pca | 0.001 | 0.000 | 0.000 | |
| ds-view | 0.001 | 0.000 | 0.000 | |
| external_app | 0 | 0 | 0 | |
| format_DT | 0 | 0 | 0 | |
| globals | 0 | 0 | 0 | |
| intensity-plots | 0.000 | 0.000 | 0.001 | |
| is.listOf | 0 | 0 | 0 | |
| omXplore-modules | 0.004 | 0.000 | 0.004 | |
| omXplore_heatmap | 0 | 0 | 0 | |
| omXplore_tabExplorer | 0 | 0 | 0 | |
| palette | 0.000 | 0.000 | 0.001 | |
| pep_prot_CC | 0.000 | 0.000 | 0.001 | |
| pkgs.require2 | 0.000 | 0.001 | 0.000 | |
| plot-variance | 0 | 0 | 0 | |
| plots_tracking | 0.000 | 0.000 | 0.001 | |
| q_metadata | 0.044 | 0.002 | 0.047 | |